{"text_format":"2","workbook":"xlsx","n_sheets":6,"sheets":["菜单","缩略词","学校角色","审核角色","双向细目表角色","枚举"],"not_rendered":{"charts":0,"images":0,"macros":0,"external_links":0,"defined_names":1,"comments":0,"pivot_tables":0},"unopened":[],"bounds":{"document_bytes":16777216,"sheet_cells":100000,"run_cost":"one","rows_first":2000,"rows_last":500,"rows_between":2000,"halvings":0,"cell_chars":16384,"cell_head_chars":4096},"cells_cut":0,"cells_raw":0,"read":"whole","date_system":"1900"}

{"sheet":"菜单","index":0,"n_rows":203,"n_cols":22,"rows_kept":203,"cut":false,"hidden":false,"merged":[]}
["Id","Pid","Pids","Name","FullName","Code","Type","TypeV","Icon","Router","Component","Permission","OpenType","OpenTypeV","Visible",null,"Sort","Status","StatusV","C# Code","AuthCode","/** 菜单生成SQL */"]
[10000000,0,{"$f":"\"[\"&B2&\"],\"","v":"[0],"},"工作台",{"$f":"D2","v":"工作台"},"wb","MenuType.MENU",{"$f":"VLOOKUP(G2,枚举!A:B,2,FALSE)","v":2},"home",{"$f":"\"/\"&F2","v":"/wb"},null,null,"MenuOpenType.COMPONENT",{"$f":"VLOOKUP(M2,枚举!D:E,2,FALSE)","v":2},"true",1,{"$f":"A2","v":10000000},"CommonStatus.ENABLE",1,{"$f":"\"            new SysMenu { Id = \"&A2&\", Pid = \"&B2&\", Pids = \"\"\"&C2&\"\"\", Name = \"\"\"&D2&\"\"\", Code = \"\"\"&F2&\"\"\", MenuType = \"&G2&\", Icon = \"\"\"&I2&\"\"\", Router = \"\"\"&J2&\"\"\", Component = \"\"\"&K2&\"\"\", Permission = \"\"\"&L2&\"\"\", OpenType = \"&M2&\", Visible = \"&O2&\", Sort = \"&Q2&\", Status = \"&R2&\" },\"","v":"            new SysMenu { Id = 10000000, Pid = 0, Pids = \"[0],\", Name = \"工作台\", Code = \"wb\", MenuType = MenuType.MENU, Icon = \"home\", Router = \"/wb\", Component = \"\", Permission = \"\", OpenType = MenuOpenType.COMPONENT, Visible = true, Sort = 10000000, Status = CommonStatus.ENABLE },"},{"$f":"UPPER(SUBSTITUTE(SUBSTITUTE(L2,\"-\",\"_\"),\".\",\"_\"))","v":""},{"$f":"\"INSERT INTO sys_menu(id, pid, pids, `name`, `code`, menu_type, icon, router, permission, open_type, visible, sort, `status`) VALUES(\"&A2&\", \"&B2&\", '\"&C2&\"', '\"&D2&\"', '\"&F2&\"', \"&H2&\", '\"&I2&\"', '\"&J2&\"', '\"&L2&\"', \"&N2&\", \"&P2&\", \"&Q2&\", \"&S2&\");\"","v":"INSERT INTO sys_menu(id, pid, pids, `name`, `code`, menu_type, icon, router, permission, open_type, visible, sort, `status`) VALUES(10000000, 0, '[0],', '工作台', 'wb', 2, 'home', '/wb', '', 2, 1, 10000000, 1);"}]
[]
[]
[10010000,0,{"$f":"\"[\"&B5&\"],\"","v":"[0],"},"基础资料",{"$f":"D5","v":"基础资料"},"base-s","MenuType.FOLDER",{"$f":"VLOOKUP(G5,枚举!A:B,2,FALSE)","v":1},"apps",{"$f":"\"/\"&F5","v":"/base-s"},null,null,"MenuOpenType.NONE",{"$f":"VLOOKUP(M5,枚举!D:E,2,FALSE)","v":1},"false",0,{"$f":"A5","v":10010000},"CommonStatus.ENABLE",1,{"$f":"\"            new SysMenu { Id = \"&A5&\", Pid = \"&B5&\", Pids = \"\"\"&C5&\"\"\", Name = \"\"\"&D5&\"\"\", Code = \"\"\"&F5&\"\"\", MenuType = \"&G5&\", Icon = \"\"\"&I5&\"\"\", Router = \"\"\"&J5&\"\"\", Component = \"\"\"&K5&\"\"\", Permission = \"\"\"&L5&\"\"\", OpenType = \"&M5&\", Visible = \"&O5&\", Sort = \"&Q5&\", Status = \"&R5&\" },\"","v":"            new SysMenu { Id = 10010000, Pid = 0, Pids = \"[0],\", Name = \"基础资料\", Code = \"base-s\", MenuType = MenuType.FOLDER, Icon = \"apps\", Router = \"/base-s\", Component = \"\", Permission = \"\", OpenType = MenuOpenType.NONE, Visible = false, Sort = 10010000, Status = CommonStatus.ENABLE },"},{"$f":"UPPER(SUBSTITUTE(SUBSTITUTE(L5,\"-\",\"_\"),\".\",\"_\"))","v":""},{"$f":"\"INSERT INTO sys_menu(id, pid, pids, `name`, `code`, menu_type, icon, router, permission, open_type, visible, sort, `status`) VALUES(\"&A5&\", \"&B5&\", '\"&C5&\"', '\"&D5&\"', '\"&F5&\"', \"&H5&\", '\"&I5&\"', '\"&J5&\"', '\"&L5&\"', \"&N5&\", \"&P5&\", \"&Q5&\", \"&S5&\");\"","v":"INSERT INTO sys_menu(id, pid, pids, `name`, `code`, menu_type, icon, router, permission, open_type, visible, sort, `status`) VALUES(10010000, 0, '[0],', '基础资料', 'base-s', 1, 'apps', '/base-s', '', 1, 0, 10010000, 1);"}]
[10010100,{"$f":"A$5","v":10010000},{"$f":"C$5&\"[\"&B6&\"],\"","v":"[0],[10010000],"},"班级信息",{"$f":"E$5&\"/\"&D6","v":"基础资料/班级信息"},"class","MenuType.MENU",{"$f":"VLOOKUP(G6,枚举!A:B,2,FALSE)","v":2},null,{"$f":"J$5&\"/\"&F6","v":"/base-s/class"},null,null,"MenuOpenType.COMPONENT",{"$f":"VLOOKUP(M6,枚举!D:E,2,FALSE)","v":2},"true",1,10,"CommonStatus.ENABLE",1,{"$f":"\"            new SysMenu { Id = \"&A6&\", Pid = \"&B6&\", Pids = \"\"\"&C6&\"\"\", Name = \"\"\"&D6&\"\"\", Code = \"\"\"&F6&\"\"\", MenuType = \"&G6&\", Icon = \"\"\"&I6&\"\"\", Router = \"\"\"&J6&\"\"\", Component = \"\"\"&K6&\"\"\", Permission = \"\"\"&L6&\"\"\", OpenType = \"&M6&\", Visible = \"&O6&\", Sort = \"&Q6&\", Status = \"&R6&\" },\"","v":"            new SysMenu { Id = 10010100, Pid = 10010000, Pids = \"[0],[10010000],\", Name = \"班级信息\", Code = \"class\", MenuType = MenuType.MENU, Icon = \"\", Router = \"/base-s/class\", Component = \"\", Permission = \"\", OpenType = MenuOpenType.COMPONENT, Visible = true, Sort = 10, Status = CommonStatus.ENABLE },"},{"$f":"UPPER(SUBSTITUTE(SUBSTITUTE(L6,\"-\",\"_\"),\".\",\"_\"))","v":""},"INSERT INTO sys_menu(id, pid, pids, `name`, `code`, menu_type, icon, router, permission, open_type, visible, sort, `status`) VALUES(10010100, 10010000, '[0],[10010000],', '班级信息', 'class', 2, '', '/base-s/class', '', 2, 1, 10, 1);"]
[10010101,{"$f":"A$6","v":10010100},{"$f":"C$6&\"[\"&B7&\"],\"","v":"[0],[10010000],[10010100],"},"添加",{"$f":"E$6&\"/\"&D7","v":"基础资料/班级信息/添加"},"add","MenuType.BUTTON",{"$f":"VLOOKUP(G7,枚举!A:B,2,FALSE)","v":3},null,null,null,{"$f":"F$5&\".\"&F$6&\".\"&F7","v":"base-s.class.add"},"MenuOpenType.NONE",{"$f":"VLOOKUP(M7,枚举!D:E,2,FALSE)","v":1},"true",1,0,"CommonStatus.ENABLE",1,"            new SysMenu { Id = 10010101, Pid = 10010100, Pids = \"[0],[10010000],[10010100],\", Name = \"添加\", Code = \"add\", MenuType = MenuType.BUTTON, Icon = \"\", Router = \"\", Component = \"\", Permission = \"base-s.class.add\", OpenType = MenuOpenType.NONE, Visible = true, Sort = 0, Status = CommonStatus.ENABLE },",{"$f":"UPPER(SUBSTITUTE(SUBSTITUTE(L7,\"-\",\"_\"),\".\",\"_\"))","v":"BASE_S_CLASS_ADD"},"INSERT INTO sys_menu(id, pid, pids, `name`, `code`, menu_type, icon, router, permission, open_type, visible, sort, `status`) VALUES(10010101, 10010100, '[0],[10010000],[10010100],', '添加', 'add', 3, '', '', 'base-s.class.add', 1, 1, 0, 1);"]
[10010102,{"$f":"A$6","v":10010100},{"$f":"C$6&\"[\"&B8&\"],\"","v":"[0],[10010000],[10010100],"},"修改",{"$f":"E$6&\"/\"&D8","v":"基础资料/班级信息/修改"},"edit","MenuType.BUTTON",{"$f":"VLOOKUP(G8,枚举!A:B,2,FALSE)","v":3},null,null,null,{"$f":"F$5&\".\"&F$6&\".\"&F8","v":"base-s.class.edit"},"MenuOpenType.NONE",{"$f":"VLOOKUP(M8,枚举!D:E,2,FALSE)","v":1},"true",1,0,"CommonStatus.ENABLE",1,"            new SysMenu { Id = 10010102, Pid = 10010100, Pids = \"[0],[10010000],[10010100],\", Name = \"修改\", Code = \"edit\", MenuType = MenuType.BUTTON, Icon = \"\", Router = \"\", Component = \"\", Permission = \"base-s.class.edit\", OpenType = MenuOpenType.NONE, Visible = true, Sort = 0, Status = CommonStatus.ENABLE },",{"$f":"UPPER(SUBSTITUTE(SUBSTITUTE(L8,\"-\",\"_\"),\".\",\"_\"))","v":"BASE_S_CLASS_EDIT"},"INSERT INTO sys_menu(id, pid, pids, `name`, `code`, menu_type, icon, router, permission, open_type, visible, sort, `status`) VALUES(10010102, 10010100, '[0],[10010000],[10010100],', '修改', 'edit', 3, '', '', 'base-s.class.edit', 1, 1, 0, 1);"]
[10010103,{"$f":"A$6","v":10010100},{"$f":"C$6&\"[\"&B9&\"],\"","v":"[0],[10010000],[10010100],"},"删除",{"$f":"E$6&\"/\"&D9","v":"基础资料/班级信息/删除"},"del","MenuType.BUTTON",{"$f":"VLOOKUP(G9,枚举!A:B,2,FALSE)","v":3},null,null,null,{"$f":"F$5&\".\"&F$6&\".\"&F9","v":"base-s.class.del"},"MenuOpenType.NONE",{"$f":"VLOOKUP(M9,枚举!D:E,2,FALSE)","v":1},"true",1,0,"CommonStatus.ENABLE",1,"            new SysMenu { Id = 10010103, Pid = 10010100, Pids = \"[0],[10010000],[10010100],\", Name = \"删除\", Code = \"del\", MenuType = MenuType.BUTTON, Icon = \"\", Router = \"\", Component = \"\", Permission = \"base-s.class.del\", OpenType = MenuOpenType.NONE, Visible = true, Sort = 0, Status = CommonStatus.ENABLE },",{"$f":"UPPER(SUBSTITUTE(SUBSTITUTE(L9,\"-\",\"_\"),\".\",\"_\"))","v":"BASE_S_CLASS_DEL"},"INSERT INTO sys_menu(id, pid, pids, `name`, `code`, menu_type, icon, router, permission, open_type, visible, sort, `status`) VALUES(10010103, 10010100, '[0],[10010000],[10010100],', '删除', 'del', 3, '', '', 'base-s.class.del', 1, 1, 0, 1);"]
[10010200,{"$f":"A$5","v":10010000},{"$f":"C$5&\"[\"&B10&\"],\"","v":"[0],[10010000],"},"学生信息",{"$f":"E$5&\"/\"&D10","v":"基础资料/学生信息"},"student","MenuType.MENU",{"$f":"VLOOKUP(G10,枚举!A:B,2,FALSE)","v":2},null,{"$f":"J$5&\"/\"&F10","v":"/base-s/student"},null,null,"MenuOpenType.COMPONENT",{"$f":"VLOOKUP(M10,枚举!D:E,2,FALSE)","v":2},"true",1,20,"CommonStatus.ENABLE",1,"            new SysMenu { Id = 10010200, Pid = 10010000, Pids = \"[0],[10010000],\", Name = \"学生信息\", Code = \"student\", MenuType = MenuType.MENU, Icon = \"\", Router = \"/base-s/student\", Component = \"\", Permission = \"\", OpenType = MenuOpenType.COMPONENT, Visible = true, Sort = 20, Status = CommonStatus.ENABLE },","",{"$f":"\"INSERT INTO sys_menu(id, pid, pids, `name`, `code`, menu_type, icon, router, permission, open_type, visible, sort, `status`) VALUES(\"&A10&\", \"&B10&\", '\"&C10&\"', '\"&D10&\"', '\"&F10&\"', \"&H10&\", '\"&I10&\"', '\"&J10&\"', '\"&L10&\"', \"&N10&\", \"&P10&\", \"&Q10&\", \"&S10&\");\"","v":"INSERT INTO sys_menu(id, pid, pids, `name`, `code`, menu_type, icon, router, permission, open_type, visible, sort, `status`) VALUES(10010200, 10010000, '[0],[10010000],', '学生信息', 'student', 2, '', '/base-s/student', '', 2, 1, 20, 1);"}]
[10010201,{"$f":"A$10","v":10010200},{"$f":"C$10&\"[\"&B11&\"],\"","v":"[0],[10010000],[10010200],"},"添加",{"$f":"E$10&\"/\"&D11","v":"基础资料/学生信息/添加"},"add","MenuType.BUTTON",{"$f":"VLOOKUP(G11,枚举!A:B,2,FALSE)","v":3},null,null,null,{"$f":"F$5&\".\"&F$10&\".\"&F11","v":"base-s.student.add"},"MenuOpenType.NONE",{"$f":"VLOOKUP(M11,枚举!D:E,2,FALSE)","v":1},"true",1,0,"CommonStatus.ENABLE",1,"            new SysMenu { Id = 10010201, Pid = 10010200, Pids = \"[0],[10010000],[10010200],\", Name = \"添加\", Code = \"add\", MenuType = MenuType.BUTTON, Icon = \"\", Router = \"\", Component = \"\", Permission = \"base-s.student.add\", OpenType = MenuOpenType.NONE, Visible = true, Sort = 0, Status = CommonStatus.ENABLE },","BASE_S_STUDENT_ADD","INSERT INTO sys_menu(id, pid, pids, `name`, `code`, menu_type, icon, router, permission, open_type, visible, sort, `status`) VALUES(10010201, 10010200, '[0],[10010000],[10010200],', '添加', 'add', 3, '', '', 'base-s.student.add', 1, 1, 0, 1);"]
[10010202,{"$f":"A$10","v":10010200},{"$f":"C$10&\"[\"&B12&\"],\"","v":"[0],[10010000],[10010200],"},"修改",{"$f":"E$10&\"/\"&D12","v":"基础资料/学生信息/修改"},"edit","MenuType.BUTTON",{"$f":"VLOOKUP(G12,枚举!A:B,2,FALSE)","v":3},null,null,null,{"$f":"F$5&\".\"&F$10&\".\"&F12","v":"base-s.student.edit"},"MenuOpenType.NONE",{"$f":"VLOOKUP(M12,枚举!D:E,2,FALSE)","v":1},"true",1,0,"CommonStatus.ENABLE",1,"            new SysMenu { Id = 10010202, Pid = 10010200, Pids = \"[0],[10010000],[10010200],\", Name = \"修改\", Code = \"edit\", MenuType = MenuType.BUTTON, Icon = \"\", Router = \"\", Component = \"\", Permission = \"base-s.student.edit\", OpenType = MenuOpenType.NONE, Visible = true, Sort = 0, Status = CommonStatus.ENABLE },","BASE_S_STUDENT_EDIT","INSERT INTO sys_menu(id, pid, pids, `name`, `code`, menu_type, icon, router, permission, open_type, visible, sort, `status`) VALUES(10010202, 10010200, '[0],[10010000],[10010200],', '修改', 'edit', 3, '', '', 'base-s.student.edit', 1, 1, 0, 1);"]
[10010203,{"$f":"A$10","v":10010200},{"$f":"C$10&\"[\"&B13&\"],\"","v":"[0],[10010000],[10010200],"},"删除",{"$f":"E$10&\"/\"&D13","v":"基础资料/学生信息/删除"},"del","MenuType.BUTTON",{"$f":"VLOOKUP(G13,枚举!A:B,2,FALSE)","v":3},null,null,null,{"$f":"F$5&\".\"&F$10&\".\"&F13","v":"base-s.student.del"},"MenuOpenType.NONE",{"$f":"VLOOKUP(M13,枚举!D:E,2,FALSE)","v":1},"true",1,0,"CommonStatus.ENABLE",1,"            new SysMenu { Id = 10010203, Pid = 10010200, Pids = \"[0],[10010000],[10010200],\", Name = \"删除\", Code = \"del\", MenuType = MenuType.BUTTON, Icon = \"\", Router = \"\", Component = \"\", Permission = \"base-s.student.del\", OpenType = MenuOpenType.NONE, Visible = true, Sort = 0, Status = CommonStatus.ENABLE },","BASE_S_STUDENT_DEL","INSERT INTO sys_menu(id, pid, pids, `name`, `code`, menu_type, icon, router, permission, open_type, visible, sort, `status`) VALUES(10010203, 10010200, '[0],[10010000],[10010200],', '删除', 'del', 3, '', '', 'base-s.student.del', 1, 1, 0, 1);"]
[10010300,{"$f":"A$5","v":10010000},{"$f":"C$5&\"[\"&B14&\"],\"","v":"[0],[10010000],"},"教师信息",{"$f":"E$5&\"/\"&D14","v":"基础资料/教师信息"},"teacher","MenuType.MENU",{"$f":"VLOOKUP(G14,枚举!A:B,2,FALSE)","v":2},null,{"$f":"J$5&\"/\"&F14","v":"/base-s/teacher"},null,null,"MenuOpenType.COMPONENT",{"$f":"VLOOKUP(M14,枚举!D:E,2,FALSE)","v":2},"true",1,30,"CommonStatus.ENABLE",1,"            new SysMenu { Id = 10010300, Pid = 10010000, Pids = \"[0],[10010000],\", Name = \"教师信息\", Code = \"teacher\", MenuType = MenuType.MENU, Icon = \"\", Router = \"/base-s/teacher\", Component = \"\", Permission = \"\", OpenType = MenuOpenType.COMPONENT, Visible = true, Sort = 30, Status = CommonStatus.ENABLE },","",{"$f":"\"INSERT INTO sys_menu(id, pid, pids, `name`, `code`, menu_type, icon, router, permission, open_type, visible, sort, `status`) VALUES(\"&A14&\", \"&B14&\", '\"&C14&\"', '\"&D14&\"', '\"&F14&\"', \"&H14&\", '\"&I14&\"', '\"&J14&\"', '\"&L14&\"', \"&N14&\", \"&P14&\", \"&Q14&\", \"&S14&\");\"","v":"INSERT INTO sys_menu(id, pid, pids, `name`, `code`, menu_type, icon, router, permission, open_type, visible, sort, `status`) VALUES(10010300, 10010000, '[0],[10010000],', '教师信息', 'teacher', 2, '', '/base-s/teacher', '', 2, 1, 30, 1);"}]
[10010301,{"$f":"A$14","v":10010300},{"$f":"C$14&\"[\"&B15&\"],\"","v":"[0],[10010000],[10010300],"},"添加",{"$f":"E$14&\"/\"&D15","v":"基础资料/教师信息/添加"},"add","MenuType.BUTTON",{"$f":"VLOOKUP(G15,枚举!A:B,2,FALSE)","v":3},null,null,null,{"$f":"F$5&\".\"&F$14&\".\"&F15","v":"base-s.teacher.add"},"MenuOpenType.NONE",{"$f":"VLOOKUP(M15,枚举!D:E,2,FALSE)","v":1},"true",1,0,"CommonStatus.ENABLE",1,"            new SysMenu { Id = 10010301, Pid = 10010300, Pids = \"[0],[10010000],[10010300],\", Name = \"添加\", Code = \"add\", MenuType = MenuType.BUTTON, Icon = \"\", Router = \"\", Component = \"\", Permission = \"base-s.teacher.add\", OpenType = MenuOpenType.NONE, Visible = true, Sort = 0, Status = CommonStatus.ENABLE },","BASE_S_TEACHER_ADD","INSERT INTO sys_menu(id, pid, pids, `name`, `code`, menu_type, icon, router, permission, open_type, visible, sort, `status`) VALUES(10010301, 10010300, '[0],[10010000],[10010300],', '添加', 'add', 3, '', '', 'base-s.teacher.add', 1, 1, 0, 1);"]
[10010302,{"$f":"A$14","v":10010300},{"$f":"C$14&\"[\"&B16&\"],\"","v":"[0],[10010000],[10010300],"},"修改",{"$f":"E$14&\"/\"&D16","v":"基础资料/教师信息/修改"},"edit","MenuType.BUTTON",{"$f":"VLOOKUP(G16,枚举!A:B,2,FALSE)","v":3},null,null,null,{"$f":"F$5&\".\"&F$14&\".\"&F16","v":"base-s.teacher.edit"},"MenuOpenType.NONE",{"$f":"VLOOKUP(M16,枚举!D:E,2,FALSE)","v":1},"true",1,0,"CommonStatus.ENABLE",1,"            new SysMenu { Id = 10010302, Pid = 10010300, Pids = \"[0],[10010000],[10010300],\", Name = \"修改\", Code = \"edit\", MenuType = MenuType.BUTTON, Icon = \"\", Router = \"\", Component = \"\", Permission = \"base-s.teacher.edit\", OpenType = MenuOpenType.NONE, Visible = true, Sort = 0, Status = CommonStatus.ENABLE },","BASE_S_TEACHER_EDIT","INSERT INTO sys_menu(id, pid, pids, `name`, `code`, menu_type, icon, router, permission, open_type, visible, sort, `status`) VALUES(10010302, 10010300, '[0],[10010000],[10010300],', '修改', 'edit', 3, '', '', 'base-s.teacher.edit', 1, 1, 0, 1);"]
[10010303,{"$f":"A$14","v":10010300},{"$f":"C$14&\"[\"&B17&\"],\"","v":"[0],[10010000],[10010300],"},"删除",{"$f":"E$14&\"/\"&D17","v":"基础资料/教师信息/删除"},"del","MenuType.BUTTON",{"$f":"VLOOKUP(G17,枚举!A:B,2,FALSE)","v":3},null,null,null,{"$f":"F$5&\".\"&F$14&\".\"&F17","v":"base-s.teacher.del"},"MenuOpenType.NONE",{"$f":"VLOOKUP(M17,枚举!D:E,2,FALSE)","v":1},"true",1,0,"CommonStatus.ENABLE",1,"            new SysMenu { Id = 10010303, Pid = 10010300, Pids = \"[0],[10010000],[10010300],\", Name = \"删除\", Code = \"del\", MenuType = MenuType.BUTTON, Icon = \"\", Router = \"\", Component = \"\", Permission = \"base-s.teacher.del\", OpenType = MenuOpenType.NONE, Visible = true, Sort = 0, Status = CommonStatus.ENABLE },","BASE_S_TEACHER_DEL","INSERT INTO sys_menu(id, pid, pids, `name`, `code`, menu_type, icon, router, permission, open_type, visible, sort, `status`) VALUES(10010303, 10010300, '[0],[10010000],[10010300],', '删除', 'del', 3, '', '', 'base-s.teacher.del', 1, 1, 0, 1);"]
[10010400,{"$f":"A$5","v":10010000},{"$f":"C$5&\"[\"&B18&\"],\"","v":"[0],[10010000],"},"特殊学生管理",{"$f":"E$5&\"/\"&D18","v":"基础资料/特殊学生管理"},"sp-stu","MenuType.MENU",{"$f":"VLOOKUP(G18,枚举!A:B,2,FALSE)","v":2},null,{"$f":"J$5&\"/\"&F18","v":"/base-s/sp-stu"},null,null,"MenuOpenType.COMPONENT",{"$f":"VLOOKUP(M18,枚举!D:E,2,FALSE)","v":2},"true",1,40,"CommonStatus.ENABLE",1,"            new SysMenu { Id = 10010400, Pid = 10010000, Pids = \"[0],[10010000],\", Name = \"特殊学生管理\", Code = \"sp-stu\", MenuType = MenuType.MENU, Icon = \"\", Router = \"/base-s/sp-stu\", Component = \"\", Permission = \"\", OpenType = MenuOpenType.COMPONENT, Visible = true, Sort = 40, Status = CommonStatus.ENABLE },","",{"$f":"\"INSERT INTO sys_menu(id, pid, pids, `name`, `code`, menu_type, icon, router, permission, open_type, visible, sort, `status`) VALUES(\"&A18&\", \"&B18&\", '\"&C18&\"', '\"&D18&\"', '\"&F18&\"', \"&H18&\", '\"&I18&\"', '\"&J18&\"', '\"&L18&\"', \"&N18&\", \"&P18&\", \"&Q18&\", \"&S18&\");\"","v":"INSERT INTO sys_menu(id, pid, pids, `name`, `code`, menu_type, icon, router, permission, open_type, visible, sort, `status`) VALUES(10010400, 10010000, '[0],[10010000],', '特殊学生管理', 'sp-stu', 2, '', '/base-s/sp-stu', '', 2, 1, 40, 1);"}]
[10010401,{"$f":"A$18","v":10010400},{"$f":"C$18&\"[\"&B19&\"],\"","v":"[0],[10010000],[10010400],"},"添加",{"$f":"E$18&\"/\"&D19","v":"基础资料/特殊学生管理/添加"},"add","MenuType.BUTTON",{"$f":"VLOOKUP(G19,枚举!A:B,2,FALSE)","v":3},null,null,null,{"$f":"F$5&\".\"&F$18&\".\"&F19","v":"base-s.sp-stu.add"},"MenuOpenType.NONE",1,"true",1,0,"CommonStatus.ENABLE",1,"            new SysMenu { Id = 10010401, Pid = 10010400, Pids = \"[0],[10010000],[10010400],\", Name = \"添加\", Code = \"add\", MenuType = MenuType.BUTTON, Icon = \"\", Router = \"\", Component = \"\", Permission = \"base-s.sp-stu.add\", OpenType = MenuOpenType.NONE, Visible = true, Sort = 0, Status = CommonStatus.ENABLE },","BASE_S_SP_STU_ADD","INSERT INTO sys_menu(id, pid, pids, `name`, `code`, menu_type, icon, router, permission, open_type, visible, sort, `status`) VALUES(10010401, 10010400, '[0],[10010000],[10010400],', '添加', 'add', 3, '', '', 'base-s.sp-stu.add', 1, 1, 0, 1);"]
[10010402,{"$f":"A$18","v":10010400},{"$f":"C$18&\"[\"&B20&\"],\"","v":"[0],[10010000],[10010400],"},"修改",{"$f":"E$18&\"/\"&D20","v":"基础资料/特殊学生管理/修改"},"edit","MenuType.BUTTON",{"$f":"VLOOKUP(G20,枚举!A:B,2,FALSE)","v":3},null,null,null,{"$f":"F$5&\".\"&F$18&\".\"&F20","v":"base-s.sp-stu.edit"},"MenuOpenType.NONE",1,"true",1,0,"CommonStatus.ENABLE",1,"            new SysMenu { Id = 10010402, Pid = 10010400, Pids = \"[0],[10010000],[10010400],\", Name = \"修改\", Code = \"edit\", MenuType = MenuType.BUTTON, Icon = \"\", Router = \"\", Component = \"\", Permission = \"base-s.sp-stu.edit\", OpenType = MenuOpenType.NONE, Visible = true, Sort = 0, Status = CommonStatus.ENABLE },","BASE_S_SP_STU_EDIT","INSERT INTO sys_menu(id, pid, pids, `name`, `code`, menu_type, icon, router, permission, open_type, visible, sort, `status`) VALUES(10010402, 10010400, '[0],[10010000],[10010400],', '修改', 'edit', 3, '', '', 'base-s.sp-stu.edit', 1, 1, 0, 1);"]
[10010403,{"$f":"A$18","v":10010400},{"$f":"C$18&\"[\"&B21&\"],\"","v":"[0],[10010000],[10010400],"},"删除",{"$f":"E$18&\"/\"&D21","v":"基础资料/特殊学生管理/删除"},"del","MenuType.BUTTON",{"$f":"VLOOKUP(G21,枚举!A:B,2,FALSE)","v":3},null,null,null,{"$f":"F$5&\".\"&F$18&\".\"&F21","v":"base-s.sp-stu.del"},"MenuOpenType.NONE",1,"true",1,0,"CommonStatus.ENABLE",1,"            new SysMenu { Id = 10010403, Pid = 10010400, Pids = \"[0],[10010000],[10010400],\", Name = \"删除\", Code = \"del\", MenuType = MenuType.BUTTON, Icon = \"\", Router = \"\", Component = \"\", Permission = \"base-s.sp-stu.del\", OpenType = MenuOpenType.NONE, Visible = true, Sort = 0, Status = CommonStatus.ENABLE },","BASE_S_SP_STU_DEL","INSERT INTO sys_menu(id, pid, pids, `name`, `code`, menu_type, icon, router, permission, open_type, visible, sort, `status`) VALUES(10010403, 10010400, '[0],[10010000],[10010400],', '删除', 'del', 3, '', '', 'base-s.sp-stu.del', 1, 1, 0, 1);"]
[]
[]
[10020000,0,{"$f":"\"[\"&B24&\"],\"","v":"[0],"},"监测管理",{"$f":"D24","v":"监测管理"},"exam-c","MenuType.FOLDER",{"$f":"VLOOKUP(G24,枚举!A:B,2,FALSE)","v":1},"order",{"$f":"\"/\"&F24","v":"/exam-c"},null,null,"MenuOpenType.NONE",{"$f":"VLOOKUP(M24,枚举!D:E,2,FALSE)","v":1},"true",1,{"$f":"A24","v":10020000},"CommonStatus.ENABLE",1,{"$f":"\"            new SysMenu { Id = \"&A24&\", Pid = \"&B24&\", Pids = \"\"\"&C24&\"\"\", Name = \"\"\"&D24&\"\"\", Code = \"\"\"&F24&\"\"\", MenuType = \"&G24&\", Icon = \"\"\"&I24&\"\"\", Router = \"\"\"&J24&\"\"\", Component = \"\"\"&K24&\"\"\", Permission = \"\"\"&L24&\"\"\", OpenType = \"&M24&\", Visible = \"&O24&\", Sort = \"&Q24&\", Status = \"&R24&\" },\"","v":"            new SysMenu { Id = 10020000, Pid = 0, Pids = \"[0],\", Name = \"监测管理\", Code = \"exam-c\", MenuType = MenuType.FOLDER, Icon = \"order\", Router = \"/exam-c\", Component = \"\", Permission = \"\", OpenType = MenuOpenType.NONE, Visible = true, Sort = 10020000, Status = CommonStatus.ENABLE },"},{"$f":"UPPER(SUBSTITUTE(SUBSTITUTE(L24,\"-\",\"_\"),\".\",\"_\"))","v":""},{"$f":"\"INSERT INTO sys_menu(id, pid, pids, `name`, `code`, menu_type, icon, router, permission, open_type, visible, sort, `status`) VALUES(\"&A24&\", \"&B24&\", '\"&C24&\"', '\"&D24&\"', '\"&F24&\"', \"&H24&\", '\"&I24&\"', '\"&J24&\"', '\"&L24&\"', \"&N24&\", \"&P24&\", \"&Q24&\", \"&S24&\");\"","v":"INSERT INTO sys_menu(id, pid, pids, `name`, `code`, menu_type, icon, router, permission, open_type, visible, sort, `status`) VALUES(10020000, 0, '[0],', '监测管理', 'exam-c', 1, 'order', '/exam-c', '', 1, 1, 10020000, 1);"}]
[10020100,{"$f":"A$24","v":10020000},{"$f":"C$24&\"[\"&B25&\"],\"","v":"[0],[10020000],"},"监测计划管理",{"$f":"E$24&\"/\"&D25","v":"监测管理/监测计划管理"},"plan","MenuType.MENU",{"$f":"VLOOKUP(G25,枚举!A:B,2,FALSE)","v":2},null,{"$f":"J$24&\"/\"&F25","v":"/exam-c/plan"},null,null,"MenuOpenType.COMPONENT",{"$f":"VLOOKUP(M25,枚举!D:E,2,FALSE)","v":2},"true",1,10,"CommonStatus.ENABLE",1,"            new SysMenu { Id = 10020100, Pid = 10020000, Pids = \"[0],[10020000],\", Name = \"监测计划管理\", Code = \"plan\", MenuType = MenuType.MENU, Icon = \"\", Router = \"/exam-c/plan\", Component = \"\", Permission = \"\", OpenType = MenuOpenType.COMPONENT, Visible = true, Sort = 10, Status = CommonStatus.ENABLE },",{"$f":"UPPER(SUBSTITUTE(SUBSTITUTE(L25,\"-\",\"_\"),\".\",\"_\"))","v":""},{"$f":"\"INSERT INTO sys_menu(id, pid, pids, `name`, `code`, menu_type, icon, router, permission, open_type, visible, sort, `status`) VALUES(\"&A25&\", \"&B25&\", '\"&C25&\"', '\"&D25&\"', '\"&F25&\"', \"&H25&\", '\"&I25&\"', '\"&J25&\"', '\"&L25&\"', \"&N25&\", \"&P25&\", \"&Q25&\", \"&S25&\");\"","v":"INSERT INTO sys_menu(id, pid, pids, `name`, `code`, menu_type, icon, router, permission, open_type, visible, sort, `status`) VALUES(10020100, 10020000, '[0],[10020000],', '监测计划管理', 'plan', 2, '', '/exam-c/plan', '', 2, 1, 10, 1);"}]
[10020101,{"$f":"A$25","v":10020100},{"$f":"C$25&\"[\"&B26&\"],\"","v":"[0],[10020000],[10020100],"},"添加",{"$f":"E$25&\"/\"&D26","v":"监测管理/监测计划管理/添加"},"add","MenuType.BUTTON",{"$f":"VLOOKUP(G26,枚举!A:B,2,FALSE)","v":3},null,null,null,{"$f":"F$24&\".\"&F$25&\".\"&F26","v":"exam-c.plan.add"},"MenuOpenType.NONE",{"$f":"VLOOKUP(M26,枚举!D:E,2,FALSE)","v":1},"true",1,0,"CommonStatus.ENABLE",1,"            new SysMenu { Id = 10020101, Pid = 10020100, Pids = \"[0],[10020000],[10020100],\", Name = \"添加\", Code = \"add\", MenuType = MenuType.BUTTON, Icon = \"\", Router = \"\", Component = \"\", Permission = \"exam-c.plan.add\", OpenType = MenuOpenType.NONE, Visible = true, Sort = 0, Status = CommonStatus.ENABLE },","EXAM_C_PLAN_ADD",{"$f":"\"INSERT INTO sys_menu(id, pid, pids, `name`, `code`, menu_type, icon, router, permission, open_type, visible, sort, `status`) VALUES(\"&A26&\", \"&B26&\", '\"&C26&\"', '\"&D26&\"', '\"&F26&\"', \"&H26&\", '\"&I26&\"', '\"&J26&\"', '\"&L26&\"', \"&N26&\", \"&P26&\", \"&Q26&\", \"&S26&\");\"","v":"INSERT INTO sys_menu(id, pid, pids, `name`, `code`, menu_type, icon, router, permission, open_type, visible, sort, `status`) VALUES(10020101, 10020100, '[0],[10020000],[10020100],', '添加', 'add', 3, '', '', 'exam-c.plan.add', 1, 1, 0, 1);"}]
[10020102,{"$f":"A$25","v":10020100},{"$f":"C$25&\"[\"&B27&\"],\"","v":"[0],[10020000],[10020100],"},"修改",{"$f":"E$25&\"/\"&D27","v":"监测管理/监测计划管理/修改"},"edit","MenuType.BUTTON",{"$f":"VLOOKUP(G27,枚举!A:B,2,FALSE)","v":3},null,null,null,{"$f":"F$24&\".\"&F$25&\".\"&F27","v":"exam-c.plan.edit"},"MenuOpenType.NONE",{"$f":"VLOOKUP(M27,枚举!D:E,2,FALSE)","v":1},"true",1,0,"CommonStatus.ENABLE",1,"            new SysMenu { Id = 10020102, Pid = 10020100, Pids = \"[0],[10020000],[10020100],\", Name = \"修改\", Code = \"edit\", MenuType = MenuType.BUTTON, Icon = \"\", Router = \"\", Component = \"\", Permission = \"exam-c.plan.edit\", OpenType = MenuOpenType.NONE, Visible = true, Sort = 0, Status = CommonStatus.ENABLE },","EXAM_C_PLAN_EDIT","INSERT INTO sys_menu(id, pid, pids, `name`, `code`, menu_type, icon, router, permission, open_type, visible, sort, `status`) VALUES(10020102, 10020100, '[0],[10020000],[10020100],', '修改', 'edit', 3, '', '', 'exam-c.plan.edit', 1, 1, 0, 1);"]
[10020103,{"$f":"A$25","v":10020100},{"$f":"C$25&\"[\"&B28&\"],\"","v":"[0],[10020000],[10020100],"},"删除",{"$f":"E$25&\"/\"&D28","v":"监测管理/监测计划管理/删除"},"del","MenuType.BUTTON",{"$f":"VLOOKUP(G28,枚举!A:B,2,FALSE)","v":3},null,null,null,{"$f":"F$24&\".\"&F$25&\".\"&F28","v":"exam-c.plan.del"},"MenuOpenType.NONE",{"$f":"VLOOKUP(M28,枚举!D:E,2,FALSE)","v":1},"true",1,0,"CommonStatus.ENABLE",1,"            new SysMenu { Id = 10020103, Pid = 10020100, Pids = \"[0],[10020000],[10020100],\", Name = \"删除\", Code = \"del\", MenuType = MenuType.BUTTON, Icon = \"\", Router = \"\", Component = \"\", Permission = \"exam-c.plan.del\", OpenType = MenuOpenType.NONE, Visible = true, Sort = 0, Status = CommonStatus.ENABLE },","EXAM_C_PLAN_DEL","INSERT INTO sys_menu(id, pid, pids, `name`, `code`, menu_type, icon, router, permission, open_type, visible, sort, `status`) VALUES(10020103, 10020100, '[0],[10020000],[10020100],', '删除', 'del', 3, '', '', 'exam-c.plan.del', 1, 1, 0, 1);"]
[10020104,{"$f":"A$25","v":10020100},{"$f":"C$25&\"[\"&B29&\"],\"","v":"[0],[10020000],[10020100],"},"发布",{"$f":"E$25&\"/\"&D29","v":"监测管理/监测计划管理/发布"},"publish","MenuType.BUTTON",{"$f":"VLOOKUP(G29,枚举!A:B,2,FALSE)","v":3},null,null,null,{"$f":"F$24&\".\"&F$25&\".\"&F29","v":"exam-c.plan.publish"},"MenuOpenType.NONE",{"$f":"VLOOKUP(M29,枚举!D:E,2,FALSE)","v":1},"true",1,0,"CommonStatus.ENABLE",1,"            new SysMenu { Id = 10020104, Pid = 10020100, Pids = \"[0],[10020000],[10020100],\", Name = \"发布\", Code = \"publish\", MenuType = MenuType.BUTTON, Icon = \"\", Router = \"\", Component = \"\", Permission = \"exam-c.plan.publish\", OpenType = MenuOpenType.NONE, Visible = true, Sort = 0, Status = CommonStatus.ENABLE },","EXAM_C_PLAN_PUBLISH","INSERT INTO sys_menu(id, pid, pids, `name`, `code`, menu_type, icon, router, permission, open_type, visible, sort, `status`) VALUES(10020104, 10020100, '[0],[10020000],[10020100],', '发布', 'publish', 3, '', '', 'exam-c.plan.publish', 1, 1, 0, 1);"]
[10020200,{"$f":"A$24","v":10020000},{"$f":"C$24&\"[\"&B30&\"],\"","v":"[0],[10020000],"},"监测学生管理",{"$f":"E$24&\"/\"&D30","v":"监测管理/监测学生管理"},"stu","MenuType.MENU",{"$f":"VLOOKUP(G30,枚举!A:B,2,FALSE)","v":2},null,{"$f":"J$24&\"/\"&F30","v":"/exam-c/stu"},null,null,"MenuOpenType.COMPONENT",{"$f":"VLOOKUP(M30,枚举!D:E,2,FALSE)","v":2},"false",0,20,"CommonStatus.ENABLE",1,"            new SysMenu { Id = 10020200, Pid = 10020000, Pids = \"[0],[10020000],\", Name = \"监测学生管理\", Code = \"stu\", MenuType = MenuType.MENU, Icon = \"\", Router = \"/exam-c/stu\", Component = \"\", Permission = \"\", OpenType = MenuOpenType.COMPONENT, Visible = false, Sort = 20, Status = CommonStatus.ENABLE },","","INSERT INTO sys_menu(id, pid, pids, `name`, `code`, menu_type, icon, router, permission, open_type, visible, sort, `status`) VALUES(10020200, 10020000, '[0],[10020000],', '监测学生管理', 'stu', 2, '', '/exam-c/stu', '', 2, 0, 20, 1);"]
[10020201,{"$f":"A$30","v":10020200},{"$f":"C$30&\"[\"&B31&\"],\"","v":"[0],[10020000],[10020200],"},"添加",{"$f":"E$30&\"/\"&D31","v":"监测管理/监测学生管理/添加"},"add","MenuType.BUTTON",{"$f":"VLOOKUP(G31,枚举!A:B,2,FALSE)","v":3},null,null,null,{"$f":"F$24&\".\"&F$30&\".\"&F31","v":"exam-c.stu.add"},"MenuOpenType.NONE",{"$f":"VLOOKUP(M31,枚举!D:E,2,FALSE)","v":1},"true",1,0,"CommonStatus.ENABLE",1,"            new SysMenu { Id = 10020201, Pid = 10020200, Pids = \"[0],[10020000],[10020200],\", Name = \"添加\", Code = \"add\", MenuType = MenuType.BUTTON, Icon = \"\", Router = \"\", Component = \"\", Permission = \"exam-c.stu.add\", OpenType = MenuOpenType.NONE, Visible = true, Sort = 0, Status = CommonStatus.ENABLE },","EXAM_C_STU_ADD",{"$f":"\"INSERT INTO sys_menu(id, pid, pids, `name`, `code`, menu_type, icon, router, permission, open_type, visible, sort, `status`) VALUES(\"&A31&\", \"&B31&\", '\"&C31&\"', '\"&D31&\"', '\"&F31&\"', \"&H31&\", '\"&I31&\"', '\"&J31&\"', '\"&L31&\"', \"&N31&\", \"&P31&\", \"&Q31&\", \"&S31&\");\"","v":"INSERT INTO sys_menu(id, pid, pids, `name`, `code`, menu_type, icon, router, permission, open_type, visible, sort, `status`) VALUES(10020201, 10020200, '[0],[10020000],[10020200],', '添加', 'add', 3, '', '', 'exam-c.stu.add', 1, 1, 0, 1);"}]
[10020202,{"$f":"A$30","v":10020200},{"$f":"C$30&\"[\"&B32&\"],\"","v":"[0],[10020000],[10020200],"},"修改",{"$f":"E$30&\"/\"&D32","v":"监测管理/监测学生管理/修改"},"edit","MenuType.BUTTON",{"$f":"VLOOKUP(G32,枚举!A:B,2,FALSE)","v":3},null,null,null,{"$f":"F$24&\".\"&F$30&\".\"&F32","v":"exam-c.stu.edit"},"MenuOpenType.NONE",{"$f":"VLOOKUP(M32,枚举!D:E,2,FALSE)","v":1},"true",1,0,"CommonStatus.ENABLE",1,"            new SysMenu { Id = 10020202, Pid = 10020200, Pids = \"[0],[10020000],[10020200],\", Name = \"修改\", Code = \"edit\", MenuType = MenuType.BUTTON, Icon = \"\", Router = \"\", Component = \"\", Permission = \"exam-c.stu.edit\", OpenType = MenuOpenType.NONE, Visible = true, Sort = 0, Status = CommonStatus.ENABLE },","EXAM_C_STU_EDIT","INSERT INTO sys_menu(id, pid, pids, `name`, `code`, menu_type, icon, router, permission, open_type, visible, sort, `status`) VALUES(10020202, 10020200, '[0],[10020000],[10020200],', '修改', 'edit', 3, '', '', 'exam-c.stu.edit', 1, 1, 0, 1);"]
[10020203,{"$f":"A$30","v":10020200},{"$f":"C$30&\"[\"&B33&\"],\"","v":"[0],[10020000],[10020200],"},"删除",{"$f":"E$30&\"/\"&D33","v":"监测管理/监测学生管理/删除"},"del","MenuType.BUTTON",{"$f":"VLOOKUP(G33,枚举!A:B,2,FALSE)","v":3},null,null,null,{"$f":"F$24&\".\"&F$30&\".\"&F33","v":"exam-c.stu.del"},"MenuOpenType.NONE",{"$f":"VLOOKUP(M33,枚举!D:E,2,FALSE)","v":1},"true",1,0,"CommonStatus.ENABLE",1,"            new SysMenu { Id = 10020203, Pid = 10020200, Pids = \"[0],[10020000],[10020200],\", Name = \"删除\", Code = \"del\", MenuType = MenuType.BUTTON, Icon = \"\", Router = \"\", Component = \"\", Permission = \"exam-c.stu.del\", OpenType = MenuOpenType.NONE, Visible = true, Sort = 0, Status = CommonStatus.ENABLE },","EXAM_C_STU_DEL","INSERT INTO sys_menu(id, pid, pids, `name`, `code`, menu_type, icon, router, permission, open_type, visible, sort, `status`) VALUES(10020203, 10020200, '[0],[10020000],[10020200],', '删除', 'del', 3, '', '', 'exam-c.stu.del', 1, 1, 0, 1);"]
[10020204,{"$f":"A$30","v":10020200},{"$f":"C$30&\"[\"&B34&\"],\"","v":"[0],[10020000],[10020200],"},"下载",{"$f":"E$30&\"/\"&D34","v":"监测管理/监测学生管理/下载"},"download","MenuType.BUTTON",{"$f":"VLOOKUP(G34,枚举!A:B,2,FALSE)","v":3},null,null,null,{"$f":"F$24&\".\"&F$30&\".\"&F34","v":"exam-c.stu.download"},"MenuOpenType.NONE",{"$f":"VLOOKUP(M34,枚举!D:E,2,FALSE)","v":1},"true",1,0,"CommonStatus.ENABLE",1,"            new SysMenu { Id = 10020204, Pid = 10020200, Pids = \"[0],[10020000],[10020200],\", Name = \"下载\", Code = \"download\", MenuType = MenuType.BUTTON, Icon = \"\", Router = \"\", Component = \"\", Permission = \"exam-c.stu.download\", OpenType = MenuOpenType.NONE, Visible = true, Sort = 0, Status = CommonStatus.ENABLE },","EXAM_C_STU_DOWNLOAD","INSERT INTO sys_menu(id, pid, pids, `name`, `code`, menu_type, icon, router, permission, open_type, visible, sort, `status`) VALUES(10020204, 10020200, '[0],[10020000],[10020200],', '下载', 'download', 3, '', '', 'exam-c.stu.download', 1, 1, 0, 1);"]
[10020300,{"$f":"A$24","v":10020000},{"$f":"C$24&\"[\"&B35&\"],\"","v":"[0],[10020000],"},"监测抽样管理",{"$f":"E$24&\"/\"&D35","v":"监测管理/监测抽样管理"},"sample","MenuType.MENU",{"$f":"VLOOKUP(G35,枚举!A:B,2,FALSE)","v":2},null,{"$f":"J$24&\"/\"&F35","v":"/exam-c/sample"},null,null,"MenuOpenType.COMPONENT",{"$f":"VLOOKUP(M35,枚举!D:E,2,FALSE)","v":2},"false",0,30,"CommonStatus.ENABLE",1,"            new SysMenu { Id = 10020300, Pid = 10020000, Pids = \"[0],[10020000],\", Name = \"监测抽样管理\", Code = \"sample\", MenuType = MenuType.MENU, Icon = \"\", Router = \"/exam-c/sample\", Component = \"\", Permission = \"\", OpenType = MenuOpenType.COMPONENT, Visible = false, Sort = 30, Status = CommonStatus.ENABLE },","","INSERT INTO sys_menu(id, pid, pids, `name`, `code`, menu_type, icon, router, permission, open_type, visible, sort, `status`) VALUES(10020300, 10020000, '[0],[10020000],', '监测抽样管理', 'sample', 2, '', '/exam-c/sample', '', 2, 0, 30, 1);"]
[10020301,{"$f":"A$35","v":10020300},{"$f":"C$35&\"[\"&B36&\"],\"","v":"[0],[10020000],[10020300],"},"添加",{"$f":"E$35&\"/\"&D36","v":"监测管理/监测抽样管理/添加"},"add","MenuType.BUTTON",{"$f":"VLOOKUP(G36,枚举!A:B,2,FALSE)","v":3},null,null,null,{"$f":"F$24&\".\"&F$35&\".\"&F36","v":"exam-c.sample.add"},"MenuOpenType.NONE",{"$f":"VLOOKUP(M36,枚举!D:E,2,FALSE)","v":1},"true",1,0,"CommonStatus.ENABLE",1,"            new SysMenu { Id = 10020301, Pid = 10020300, Pids = \"[0],[10020000],[10020300],\", Name = \"添加\", Code = \"add\", MenuType = MenuType.BUTTON, Icon = \"\", Router = \"\", Component = \"\", Permission = \"exam-c.sample.add\", OpenType = MenuOpenType.NONE, Visible = true, Sort = 0, Status = CommonStatus.ENABLE },","EXAM_C_SAMPLE_ADD",{"$f":"\"INSERT INTO sys_menu(id, pid, pids, `name`, `code`, menu_type, icon, router, permission, open_type, visible, sort, `status`) VALUES(\"&A36&\", \"&B36&\", '\"&C36&\"', '\"&D36&\"', '\"&F36&\"', \"&H36&\", '\"&I36&\"', '\"&J36&\"', '\"&L36&\"', \"&N36&\", \"&P36&\", \"&Q36&\", \"&S36&\");\"","v":"INSERT INTO sys_menu(id, pid, pids, `name`, `code`, menu_type, icon, router, permission, open_type, visible, sort, `status`) VALUES(10020301, 10020300, '[0],[10020000],[10020300],', '添加', 'add', 3, '', '', 'exam-c.sample.add', 1, 1, 0, 1);"}]
[10020302,10020300,"[0],[10020000],[10020300],","修改","监测管理/监测抽样管理/修改","edit","MenuType.BUTTON",{"$f":"VLOOKUP(G37,枚举!A:B,2,FALSE)","v":3},null,null,null,"exam-c.sample.edit","MenuOpenType.NONE",{"$f":"VLOOKUP(M37,枚举!D:E,2,FALSE)","v":1},"true",1,0,"CommonStatus.ENABLE",1,"            new SysMenu { Id = 10020302, Pid = 10020300, Pids = \"[0],[10020000],[10020300],\", Name = \"修改\", Code = \"edit\", MenuType = MenuType.BUTTON, Icon = \"\", Router = \"\", Component = \"\", Permission = \"exam-c.sample.edit\", OpenType = MenuOpenType.NONE, Visible = true, Sort = 0, Status = CommonStatus.ENABLE },","EXAM_C_SAMPLE_EDIT","INSERT INTO sys_menu(id, pid, pids, `name`, `code`, menu_type, icon, router, permission, open_type, visible, sort, `status`) VALUES(10020302, 10020300, '[0],[10020000],[10020300],', '修改', 'edit', 3, '', '', 'exam-c.sample.edit', 1, 1, 0, 1);"]
[10020303,10020300,"[0],[10020000],[10020300],","删除","监测管理/监测抽样管理/删除","del","MenuType.BUTTON",{"$f":"VLOOKUP(G38,枚举!A:B,2,FALSE)","v":3},null,null,null,"exam-c.sample.del","MenuOpenType.NONE",{"$f":"VLOOKUP(M38,枚举!D:E,2,FALSE)","v":1},"true",1,0,"CommonStatus.ENABLE",1,"            new SysMenu { Id = 10020303, Pid = 10020300, Pids = \"[0],[10020000],[10020300],\", Name = \"删除\", Code = \"del\", MenuType = MenuType.BUTTON, Icon = \"\", Router = \"\", Component = \"\", Permission = \"exam-c.sample.del\", OpenType = MenuOpenType.NONE, Visible = true, Sort = 0, Status = CommonStatus.ENABLE },","EXAM_C_SAMPLE_DEL","INSERT INTO sys_menu(id, pid, pids, `name`, `code`, menu_type, icon, router, permission, open_type, visible, sort, `status`) VALUES(10020303, 10020300, '[0],[10020000],[10020300],', '删除', 'del', 3, '', '', 'exam-c.sample.del', 1, 1, 0, 1);"]
[10020304,10020300,"[0],[10020000],[10020300],","下载","监测管理/监测抽样管理/下载","download","MenuType.BUTTON",{"$f":"VLOOKUP(G39,枚举!A:B,2,FALSE)","v":3},null,null,null,"exam-c.sample.download","MenuOpenType.NONE",{"$f":"VLOOKUP(M39,枚举!D:E,2,FALSE)","v":1},"true",1,0,"CommonStatus.ENABLE",1,"            new SysMenu { Id = 10020304, Pid = 10020300, Pids = \"[0],[10020000],[10020300],\", Name = \"下载\", Code = \"download\", MenuType = MenuType.BUTTON, Icon = \"\", Router = \"\", Component = \"\", Permission = \"exam-c.sample.download\", OpenType = MenuOpenType.NONE, Visible = true, Sort = 0, Status = CommonStatus.ENABLE },","EXAM_C_SAMPLE_DOWNLOAD","INSERT INTO sys_menu(id, pid, pids, `name`, `code`, menu_type, icon, router, permission, open_type, visible, sort, `status`) VALUES(10020304, 10020300, '[0],[10020000],[10020300],', '下载', 'download', 3, '', '', 'exam-c.sample.download', 1, 1, 0, 1);"]
[10020305,10020300,"[0],[10020000],[10020300],","发布","监测管理/监测抽样管理/发布","publish","MenuType.BUTTON",{"$f":"VLOOKUP(G40,枚举!A:B,2,FALSE)","v":3},null,null,null,"exam-c.sample.publish","MenuOpenType.NONE",{"$f":"VLOOKUP(M40,枚举!D:E,2,FALSE)","v":1},"true",1,0,"CommonStatus.ENABLE",1,"            new SysMenu { Id = 10020305, Pid = 10020300, Pids = \"[0],[10020000],[10020300],\", Name = \"发布\", Code = \"publish\", MenuType = MenuType.BUTTON, Icon = \"\", Router = \"\", Component = \"\", Permission = \"exam-c.sample.publish\", OpenType = MenuOpenType.NONE, Visible = true, Sort = 0, Status = CommonStatus.ENABLE },","EXAM_C_SAMPLE_PUBLISH","INSERT INTO sys_menu(id, pid, pids, `name`, `code`, menu_type, icon, router, permission, open_type, visible, sort, `status`) VALUES(10020305, 10020300, '[0],[10020000],[10020300],', '发布', 'publish', 3, '', '', 'exam-c.sample.publish', 1, 1, 0, 1);"]
[10020400,{"$f":"A$24","v":10020000},{"$f":"C$24&\"[\"&B41&\"],\"","v":"[0],[10020000],"},"教师信息管理",{"$f":"E$24&\"/\"&D41","v":"监测管理/教师信息管理"},"teacher","MenuType.MENU",{"$f":"VLOOKUP(G41,枚举!A:B,2,FALSE)","v":2},null,{"$f":"J$24&\"/\"&F41","v":"/exam-c/teacher"},null,null,"MenuOpenType.COMPONENT",{"$f":"VLOOKUP(M41,枚举!D:E,2,FALSE)","v":2},"false",0,40,"CommonStatus.ENABLE",1,"            new SysMenu { Id = 10020400, Pid = 10020000, Pids = \"[0],[10020000],\", Name = \"教师信息管理\", Code = \"teacher\", MenuType = MenuType.MENU, Icon = \"\", Router = \"/exam-c/teacher\", Component = \"\", Permission = \"\", OpenType = MenuOpenType.COMPONENT, Visible = false, Sort = 40, Status = CommonStatus.ENABLE },",{"$f":"UPPER(SUBSTITUTE(SUBSTITUTE(L41,\"-\",\"_\"),\".\",\"_\"))","v":""},"INSERT INTO sys_menu(id, pid, pids, `name`, `code`, menu_type, icon, router, permission, open_type, visible, sort, `status`) VALUES(10020400, 10020000, '[0],[10020000],', '教师信息管理', 'teacher', 2, '', '/exam-c/teacher', '', 2, 0, 40, 1);"]
[10020401,{"$f":"A$41","v":10020400},{"$f":"C$41&\"[\"&B42&\"],\"","v":"[0],[10020000],[10020400],"},"添加",{"$f":"E$41&\"/\"&D42","v":"监测管理/教师信息管理/添加"},"add","MenuType.BUTTON",{"$f":"VLOOKUP(G42,枚举!A:B,2,FALSE)","v":3},null,null,null,{"$f":"F$24&\".\"&F$41&\".\"&F42","v":"exam-c.teacher.add"},"MenuOpenType.NONE",{"$f":"VLOOKUP(M42,枚举!D:E,2,FALSE)","v":1},"true",1,0,"CommonStatus.ENABLE",1,"            new SysMenu { Id = 10020401, Pid = 10020400, Pids = \"[0],[10020000],[10020400],\", Name = \"添加\", Code = \"add\", MenuType = MenuType.BUTTON, Icon = \"\", Router = \"\", Component = \"\", Permission = \"exam-c.teacher.add\", OpenType = MenuOpenType.NONE, Visible = true, Sort = 0, Status = CommonStatus.ENABLE },","EXAM_C_TEACHER_ADD",{"$f":"\"INSERT INTO sys_menu(id, pid, pids, `name`, `code`, menu_type, icon, router, permission, open_type, visible, sort, `status`) VALUES(\"&A42&\", \"&B42&\", '\"&C42&\"', '\"&D42&\"', '\"&F42&\"', \"&H42&\", '\"&I42&\"', '\"&J42&\"', '\"&L42&\"', \"&N42&\", \"&P42&\", \"&Q42&\", \"&S42&\");\"","v":"INSERT INTO sys_menu(id, pid, pids, `name`, `code`, menu_type, icon, router, permission, open_type, visible, sort, `status`) VALUES(10020401, 10020400, '[0],[10020000],[10020400],', '添加', 'add', 3, '', '', 'exam-c.teacher.add', 1, 1, 0, 1);"}]
[10020402,{"$f":"A$41","v":10020400},{"$f":"C$41&\"[\"&B43&\"],\"","v":"[0],[10020000],[10020400],"},"修改",{"$f":"E$41&\"/\"&D43","v":"监测管理/教师信息管理/修改"},"edit","MenuType.BUTTON",{"$f":"VLOOKUP(G43,枚举!A:B,2,FALSE)","v":3},null,null,null,{"$f":"F$24&\".\"&F$41&\".\"&F43","v":"exam-c.teacher.edit"},"MenuOpenType.NONE",{"$f":"VLOOKUP(M43,枚举!D:E,2,FALSE)","v":1},"true",1,0,"CommonStatus.ENABLE",1,"            new SysMenu { Id = 10020402, Pid = 10020400, Pids = \"[0],[10020000],[10020400],\", Name = \"修改\", Code = \"edit\", MenuType = MenuType.BUTTON, Icon = \"\", Router = \"\", Component = \"\", Permission = \"exam-c.teacher.edit\", OpenType = MenuOpenType.NONE, Visible = true, Sort = 0, Status = CommonStatus.ENABLE },","EXAM_C_TEACHER_EDIT","INSERT INTO sys_menu(id, pid, pids, `name`, `code`, menu_type, icon, router, permission, open_type, visible, sort, `status`) VALUES(10020402, 10020400, '[0],[10020000],[10020400],', '修改', 'edit', 3, '', '', 'exam-c.teacher.edit', 1, 1, 0, 1);"]
[10020403,{"$f":"A$41","v":10020400},{"$f":"C$41&\"[\"&B44&\"],\"","v":"[0],[10020000],[10020400],"},"删除",{"$f":"E$41&\"/\"&D44","v":"监测管理/教师信息管理/删除"},"del","MenuType.BUTTON",{"$f":"VLOOKUP(G44,枚举!A:B,2,FALSE)","v":3},null,null,null,{"$f":"F$24&\".\"&F$41&\".\"&F44","v":"exam-c.teacher.del"},"MenuOpenType.NONE",{"$f":"VLOOKUP(M44,枚举!D:E,2,FALSE)","v":1},"true",1,0,"CommonStatus.ENABLE",1,"            new SysMenu { Id = 10020403, Pid = 10020400, Pids = \"[0],[10020000],[10020400],\", Name = \"删除\", Code = \"del\", MenuType = MenuType.BUTTON, Icon = \"\", Router = \"\", Component = \"\", Permission = \"exam-c.teacher.del\", OpenType = MenuOpenType.NONE, Visible = true, Sort = 0, Status = CommonStatus.ENABLE },","EXAM_C_TEACHER_DEL","INSERT INTO sys_menu(id, pid, pids, `name`, `code`, menu_type, icon, router, permission, open_type, visible, sort, `status`) VALUES(10020403, 10020400, '[0],[10020000],[10020400],', '删除', 'del', 3, '', '', 'exam-c.teacher.del', 1, 1, 0, 1);"]
[10020404,{"$f":"A$41","v":10020400},{"$f":"C$41&\"[\"&B45&\"],\"","v":"[0],[10020000],[10020400],"},"下载",{"$f":"E$41&\"/\"&D45","v":"监测管理/教师信息管理/下载"},"download","MenuType.BUTTON",{"$f":"VLOOKUP(G45,枚举!A:B,2,FALSE)","v":3},null,null,null,{"$f":"F$24&\".\"&F$41&\".\"&F45","v":"exam-c.teacher.download"},"MenuOpenType.NONE",{"$f":"VLOOKUP(M45,枚举!D:E,2,FALSE)","v":1},"true",1,0,"CommonStatus.ENABLE",1,"            new SysMenu { Id = 10020404, Pid = 10020400, Pids = \"[0],[10020000],[10020400],\", Name = \"下载\", Code = \"download\", MenuType = MenuType.BUTTON, Icon = \"\", Router = \"\", Component = \"\", Permission = \"exam-c.teacher.download\", OpenType = MenuOpenType.NONE, Visible = true, Sort = 0, Status = CommonStatus.ENABLE },","EXAM_C_TEACHER_DOWNLOAD","INSERT INTO sys_menu(id, pid, pids, `name`, `code`, menu_type, icon, router, permission, open_type, visible, sort, `status`) VALUES(10020404, 10020400, '[0],[10020000],[10020400],', '下载', 'download', 3, '', '', 'exam-c.teacher.download', 1, 1, 0, 1);"]
[10020500,{"$f":"A$24","v":10020000},{"$f":"C$24&\"[\"&B46&\"],\"","v":"[0],[10020000],"},"教师学科管理",{"$f":"E$24&\"/\"&D46","v":"监测管理/教师学科管理"},"t-course","MenuType.MENU",{"$f":"VLOOKUP(G46,枚举!A:B,2,FALSE)","v":2},null,{"$f":"J$24&\"/\"&F46","v":"/exam-c/t-course"},null,null,"MenuOpenType.COMPONENT",{"$f":"VLOOKUP(M46,枚举!D:E,2,FALSE)","v":2},"false",0,50,"CommonStatus.ENABLE",1,"            new SysMenu { Id = 10020500, Pid = 10020000, Pids = \"[0],[10020000],\", Name = \"教师学科管理\", Code = \"t-course\", MenuType = MenuType.MENU, Icon = \"\", Router = \"/exam-c/t-course\", Component = \"\", Permission = \"\", OpenType = MenuOpenType.COMPONENT, Visible = false, Sort = 50, Status = CommonStatus.ENABLE },","","INSERT INTO sys_menu(id, pid, pids, `name`, `code`, menu_type, icon, router, permission, open_type, visible, sort, `status`) VALUES(10020500, 10020000, '[0],[10020000],', '教师学科管理', 't-course', 2, '', '/exam-c/t-course', '', 2, 0, 50, 1);"]
[10020501,{"$f":"A$46","v":10020500},{"$f":"C$46&\"[\"&B47&\"],\"","v":"[0],[10020000],[10020500],"},"添加",{"$f":"E$46&\"/\"&D47","v":"监测管理/教师学科管理/添加"},"add","MenuType.BUTTON",{"$f":"VLOOKUP(G47,枚举!A:B,2,FALSE)","v":3},null,null,null,{"$f":"F$24&\".\"&F$46&\".\"&F47","v":"exam-c.t-course.add"},"MenuOpenType.NONE",{"$f":"VLOOKUP(M47,枚举!D:E,2,FALSE)","v":1},"true",1,0,"CommonStatus.ENABLE",1,"            new SysMenu { Id = 10020501, Pid = 10020500, Pids = \"[0],[10020000],[10020500],\", Name = \"添加\", Code = \"add\", MenuType = MenuType.BUTTON, Icon = \"\", Router = \"\", Component = \"\", Permission = \"exam-c.t-course.add\", OpenType = MenuOpenType.NONE, Visible = true, Sort = 0, Status = CommonStatus.ENABLE },","EXAM_C_T_COURSE_ADD",{"$f":"\"INSERT INTO sys_menu(id, pid, pids, `name`, `code`, menu_type, icon, router, permission, open_type, visible, sort, `status`) VALUES(\"&A47&\", \"&B47&\", '\"&C47&\"', '\"&D47&\"', '\"&F47&\"', \"&H47&\", '\"&I47&\"', '\"&J47&\"', '\"&L47&\"', \"&N47&\", \"&P47&\", \"&Q47&\", \"&S47&\");\"","v":"INSERT INTO sys_menu(id, pid, pids, `name`, `code`, menu_type, icon, router, permission, open_type, visible, sort, `status`) VALUES(10020501, 10020500, '[0],[10020000],[10020500],', '添加', 'add', 3, '', '', 'exam-c.t-course.add', 1, 1, 0, 1);"}]
[10020502,{"$f":"A$46","v":10020500},{"$f":"C$46&\"[\"&B48&\"],\"","v":"[0],[10020000],[10020500],"},"修改",{"$f":"E$46&\"/\"&D48","v":"监测管理/教师学科管理/修改"},"edit","MenuType.BUTTON",{"$f":"VLOOKUP(G48,枚举!A:B,2,FALSE)","v":3},null,null,null,{"$f":"F$24&\".\"&F$46&\".\"&F48","v":"exam-c.t-course.edit"},"MenuOpenType.NONE",{"$f":"VLOOKUP(M48,枚举!D:E,2,FALSE)","v":1},"true",1,0,"CommonStatus.ENABLE",1,"            new SysMenu { Id = 10020502, Pid = 10020500, Pids = \"[0],[10020000],[10020500],\", Name = \"修改\", Code = \"edit\", MenuType = MenuType.BUTTON, Icon = \"\", Router = \"\", Component = \"\", Permission = \"exam-c.t-course.edit\", OpenType = MenuOpenType.NONE, Visible = true, Sort = 0, Status = CommonStatus.ENABLE },","EXAM_C_T_COURSE_EDIT","INSERT INTO sys_menu(id, pid, pids, `name`, `code`, menu_type, icon, router, permission, open_type, visible, sort, `status`) VALUES(10020502, 10020500, '[0],[10020000],[10020500],', '修改', 'edit', 3, '', '', 'exam-c.t-course.edit', 1, 1, 0, 1);"]
[10020503,{"$f":"A$46","v":10020500},{"$f":"C$46&\"[\"&B49&\"],\"","v":"[0],[10020000],[10020500],"},"删除",{"$f":"E$46&\"/\"&D49","v":"监测管理/教师学科管理/删除"},"del","MenuType.BUTTON",{"$f":"VLOOKUP(G49,枚举!A:B,2,FALSE)","v":3},null,null,null,{"$f":"F$24&\".\"&F$46&\".\"&F49","v":"exam-c.t-course.del"},"MenuOpenType.NONE",{"$f":"VLOOKUP(M49,枚举!D:E,2,FALSE)","v":1},"true",1,0,"CommonStatus.ENABLE",1,"            new SysMenu { Id = 10020503, Pid = 10020500, Pids = \"[0],[10020000],[10020500],\", Name = \"删除\", Code = \"del\", MenuType = MenuType.BUTTON, Icon = \"\", Router = \"\", Component = \"\", Permission = \"exam-c.t-course.del\", OpenType = MenuOpenType.NONE, Visible = true, Sort = 0, Status = CommonStatus.ENABLE },","EXAM_C_T_COURSE_DEL","INSERT INTO sys_menu(id, pid, pids, `name`, `code`, menu_type, icon, router, permission, open_type, visible, sort, `status`) VALUES(10020503, 10020500, '[0],[10020000],[10020500],', '删除', 'del', 3, '', '', 'exam-c.t-course.del', 1, 1, 0, 1);"]
[10020504,{"$f":"A$46","v":10020500},{"$f":"C$46&\"[\"&B50&\"],\"","v":"[0],[10020000],[10020500],"},"下载",{"$f":"E$46&\"/\"&D50","v":"监测管理/教师学科管理/下载"},"download","MenuType.BUTTON",{"$f":"VLOOKUP(G50,枚举!A:B,2,FALSE)","v":3},null,null,null,{"$f":"F$24&\".\"&F$46&\".\"&F50","v":"exam-c.t-course.download"},"MenuOpenType.NONE",{"$f":"VLOOKUP(M50,枚举!D:E,2,FALSE)","v":1},"true",1,0,"CommonStatus.ENABLE",1,"            new SysMenu { Id = 10020504, Pid = 10020500, Pids = \"[0],[10020000],[10020500],\", Name = \"下载\", Code = \"download\", MenuType = MenuType.BUTTON, Icon = \"\", Router = \"\", Component = \"\", Permission = \"exam-c.t-course.download\", OpenType = MenuOpenType.NONE, Visible = true, Sort = 0, Status = CommonStatus.ENABLE },","EXAM_C_T_COURSE_DOWNLOAD","INSERT INTO sys_menu(id, pid, pids, `name`, `code`, menu_type, icon, router, permission, open_type, visible, sort, `status`) VALUES(10020504, 10020500, '[0],[10020000],[10020500],', '下载', 'download', 3, '', '', 'exam-c.t-course.download', 1, 1, 0, 1);"]
[10020600,{"$f":"A$24","v":10020000},{"$f":"C$24&\"[\"&B51&\"],\"","v":"[0],[10020000],"},"特殊学生申报审核",{"$f":"E$24&\"/\"&D51","v":"监测管理/特殊学生申报审核"},"sp-stu-audit","MenuType.MENU",{"$f":"VLOOKUP(G51,枚举!A:B,2,FALSE)","v":2},null,{"$f":"J$24&\"/\"&F51","v":"/exam-c/sp-stu-audit"},null,null,"MenuOpenType.COMPONENT",{"$f":"VLOOKUP(M51,枚举!D:E,2,FALSE)","v":2},"true",1,60,"CommonStatus.ENABLE",1,{"$f":"\"            new SysMenu { Id = \"&A51&\", Pid = \"&B51&\", Pids = \"\"\"&C51&\"\"\", Name = \"\"\"&D51&\"\"\", Code = \"\"\"&F51&\"\"\", MenuType = \"&G51&\", Icon = \"\"\"&I51&\"\"\", Router = \"\"\"&J51&\"\"\", Component = \"\"\"&K51&\"\"\", Permission = \"\"\"&L51&\"\"\", OpenType = \"&M51&\", Visible = \"&O51&\", Sort = \"&Q51&\", Status = \"&R51&\" },\"","v":"            new SysMenu { Id = 10020600, Pid = 10020000, Pids = \"[0],[10020000],\", Name = \"特殊学生申报审核\", Code = \"sp-stu-audit\", MenuType = MenuType.MENU, Icon = \"\", Router = \"/exam-c/sp-stu-audit\", Component = \"\", Permission = \"\", OpenType = MenuOpenType.COMPONENT, Visible = true, Sort = 60, Status = CommonStatus.ENABLE },"},{"$f":"UPPER(SUBSTITUTE(SUBSTITUTE(L51,\"-\",\"_\"),\".\",\"_\"))","v":""},"INSERT INTO sys_menu(id, pid, pids, `name`, `code`, menu_type, icon, router, permission, open_type, visible, sort, `status`) VALUES(10020600, 10020000, '[0],[10020000],', '特殊学生申报审核', 'sp-stu-audit', 2, '', '/exam-c/sp-stu-audit', '', 2, 1, 60, 1);"]
[10020601,{"$f":"A$51","v":10020600},{"$f":"C$51&\"[\"&B52&\"],\"","v":"[0],[10020000],[10020600],"},"添加",{"$f":"E$51&\"/\"&D52","v":"监测管理/特殊学生申报审核/添加"},"add","MenuType.BUTTON",3,null,null,null,{"$f":"F$24&\".\"&F$51&\".\"&F52","v":"exam-c.sp-stu-audit.add"},"MenuOpenType.NONE",{"$f":"VLOOKUP(M52,枚举!D:E,2,FALSE)","v":1},"true",1,0,"CommonStatus.ENABLE",1,"            new SysMenu { Id = 10020601, Pid = 10020600, Pids = \"[0],[10020000],[10020600],\", Name = \"添加\", Code = \"add\", MenuType = MenuType.BUTTON, Icon = \"\", Router = \"\", Component = \"\", Permission = \"exam-c.sp-stu-audit.add\", OpenType = MenuOpenType.NONE, Visible = true, Sort = 0, Status = CommonStatus.ENABLE },","EXAM_C_SP_STU_AUDIT_ADD",{"$f":"\"INSERT INTO sys_menu(id, pid, pids, `name`, `code`, menu_type, icon, router, permission, open_type, visible, sort, `status`) VALUES(\"&A52&\", \"&B52&\", '\"&C52&\"', '\"&D52&\"', '\"&F52&\"', \"&H52&\", '\"&I52&\"', '\"&J52&\"', '\"&L52&\"', \"&N52&\", \"&P52&\", \"&Q52&\", \"&S52&\");\"","v":"INSERT INTO sys_menu(id, pid, pids, `name`, `code`, menu_type, icon, router, permission, open_type, visible, sort, `status`) VALUES(10020601, 10020600, '[0],[10020000],[10020600],', '添加', 'add', 3, '', '', 'exam-c.sp-stu-audit.add', 1, 1, 0, 1);"}]
[10020602,10020600,"[0],[10020000],[10020600],","修改","监测管理/特殊学生申报审核/修改","edit","MenuType.BUTTON",3,null,null,null,"exam-c.sp-stu-audit.edit","MenuOpenType.NONE",{"$f":"VLOOKUP(M53,枚举!D:E,2,FALSE)","v":1},"true",1,0,"CommonStatus.ENABLE",1,"            new SysMenu { Id = 10020602, Pid = 10020600, Pids = \"[0],[10020000],[10020600],\", Name = \"修改\", Code = \"edit\", MenuType = MenuType.BUTTON, Icon = \"\", Router = \"\", Component = \"\", Permission = \"exam-c.sp-stu-audit.edit\", OpenType = MenuOpenType.NONE, Visible = true, Sort = 0, Status = CommonStatus.ENABLE },","EXAM_C_SP_STU_AUDIT_EDIT","INSERT INTO sys_menu(id, pid, pids, `name`, `code`, menu_type, icon, router, permission, open_type, visible, sort, `status`) VALUES(10020602, 10020600, '[0],[10020000],[10020600],', '修改', 'edit', 3, '', '', 'exam-c.sp-stu-audit.edit', 1, 1, 0, 1);"]
[10020603,10020600,"[0],[10020000],[10020600],","删除","监测管理/特殊学生申报审核/删除","del","MenuType.BUTTON",3,null,null,null,"exam-c.sp-stu-audit.del","MenuOpenType.NONE",{"$f":"VLOOKUP(M54,枚举!D:E,2,FALSE)","v":1},"true",1,0,"CommonStatus.ENABLE",1,"            new SysMenu { Id = 10020603, Pid = 10020600, Pids = \"[0],[10020000],[10020600],\", Name = \"删除\", Code = \"del\", MenuType = MenuType.BUTTON, Icon = \"\", Router = \"\", Component = \"\", Permission = \"exam-c.sp-stu-audit.del\", OpenType = MenuOpenType.NONE, Visible = true, Sort = 0, Status = CommonStatus.ENABLE },","EXAM_C_SP_STU_AUDIT_DEL","INSERT INTO sys_menu(id, pid, pids, `name`, `code`, menu_type, icon, router, permission, open_type, visible, sort, `status`) VALUES(10020603, 10020600, '[0],[10020000],[10020600],', '删除', 'del', 3, '', '', 'exam-c.sp-stu-audit.del', 1, 1, 0, 1);"]
[10020604,10020600,"[0],[10020000],[10020600],","提交","监测管理/特殊学生申报审核/提交","submit","MenuType.BUTTON",3,null,null,null,"exam-c.sp-stu-audit.submit","MenuOpenType.NONE",{"$f":"VLOOKUP(M55,枚举!D:E,2,FALSE)","v":1},"true",1,0,"CommonStatus.ENABLE",1,"            new SysMenu { Id = 10020604, Pid = 10020600, Pids = \"[0],[10020000],[10020600],\", Name = \"提交\", Code = \"submit\", MenuType = MenuType.BUTTON, Icon = \"\", Router = \"\", Component = \"\", Permission = \"exam-c.sp-stu-audit.submit\", OpenType = MenuOpenType.NONE, Visible = true, Sort = 0, Status = CommonStatus.ENABLE },","EXAM_C_SP_STU_AUDIT_SUBMIT","INSERT INTO sys_menu(id, pid, pids, `name`, `code`, menu_type, icon, router, permission, open_type, visible, sort, `status`) VALUES(10020604, 10020600, '[0],[10020000],[10020600],', '提交', 'submit', 3, '', '', 'exam-c.sp-stu-audit.submit', 1, 1, 0, 1);"]
[10020605,10020600,"[0],[10020000],[10020600],","审核","监测管理/特殊学生申报审核/审核","audit","MenuType.BUTTON",3,null,null,null,"exam-c.sp-stu-audit.audit","MenuOpenType.NONE",{"$f":"VLOOKUP(M56,枚举!D:E,2,FALSE)","v":1},"true",1,0,"CommonStatus.ENABLE",1,"            new SysMenu { Id = 10020605, Pid = 10020600, Pids = \"[0],[10020000],[10020600],\", Name = \"审核\", Code = \"audit\", MenuType = MenuType.BUTTON, Icon = \"\", Router = \"\", Component = \"\", Permission = \"exam-c.sp-stu-audit.audit\", OpenType = MenuOpenType.NONE, Visible = true, Sort = 0, Status = CommonStatus.ENABLE },","EXAM_C_SP_STU_AUDIT_AUDIT","INSERT INTO sys_menu(id, pid, pids, `name`, `code`, menu_type, icon, router, permission, open_type, visible, sort, `status`) VALUES(10020605, 10020600, '[0],[10020000],[10020600],', '审核', 'audit', 3, '', '', 'exam-c.sp-stu-audit.audit', 1, 1, 0, 1);"]
[10020606,10020600,"[0],[10020000],[10020600],","下载","监测管理/特殊学生申报审核/下载","download","MenuType.BUTTON",3,null,null,null,"exam-c.sp-stu-audit.download","MenuOpenType.NONE",{"$f":"VLOOKUP(M57,枚举!D:E,2,FALSE)","v":1},"true",1,0,"CommonStatus.ENABLE",1,"            new SysMenu { Id = 10020606, Pid = 10020600, Pids = \"[0],[10020000],[10020600],\", Name = \"下载\", Code = \"download\", MenuType = MenuType.BUTTON, Icon = \"\", Router = \"\", Component = \"\", Permission = \"exam-c.sp-stu-audit.download\", OpenType = MenuOpenType.NONE, Visible = true, Sort = 0, Status = CommonStatus.ENABLE },","EXAM_C_SP_STU_AUDIT_DOWNLOAD","INSERT INTO sys_menu(id, pid, pids, `name`, `code`, menu_type, icon, router, permission, open_type, visible, sort, `status`) VALUES(10020606, 10020600, '[0],[10020000],[10020600],', '下载', 'download', 3, '', '', 'exam-c.sp-stu-audit.download', 1, 1, 0, 1);"]
[10020700,{"$f":"A$24","v":10020000},{"$f":"C$24&\"[\"&B58&\"],\"","v":"[0],[10020000],"},"缺测替补学生审核",{"$f":"E$24&\"/\"&D58","v":"监测管理/缺测替补学生审核"},"absent-audit","MenuType.MENU",{"$f":"VLOOKUP(G58,枚举!A:B,2,FALSE)","v":2},null,{"$f":"J$24&\"/\"&F58","v":"/exam-c/absent-audit"},null,null,"MenuOpenType.COMPONENT",{"$f":"VLOOKUP(M58,枚举!D:E,2,FALSE)","v":2},"true",1,70,"CommonStatus.ENABLE",1,"            new SysMenu { Id = 10020700, Pid = 10020000, Pids = \"[0],[10020000],\", Name = \"缺测替补学生审核\", Code = \"absent-audit\", MenuType = MenuType.MENU, Icon = \"\", Router = \"/exam-c/absent-audit\", Component = \"\", Permission = \"\", OpenType = MenuOpenType.COMPONENT, Visible = true, Sort = 70, Status = CommonStatus.ENABLE },","","INSERT INTO sys_menu(id, pid, pids, `name`, `code`, menu_type, icon, router, permission, open_type, visible, sort, `status`) VALUES(10020700, 10020000, '[0],[10020000],', '缺测替补学生审核', 'absent-audit', 2, '', '/exam-c/absent-audit', '', 2, 1, 70, 1);"]
[10020701,{"$f":"A$58","v":10020700},{"$f":"C$58&\"[\"&B59&\"],\"","v":"[0],[10020000],[10020700],"},"添加",{"$f":"E$58&\"/\"&D59","v":"监测管理/缺测替补学生审核/添加"},"add","MenuType.BUTTON",3,null,null,null,{"$f":"F$24&\".\"&F$58&\".\"&F59","v":"exam-c.absent-audit.add"},"MenuOpenType.NONE",{"$f":"VLOOKUP(M59,枚举!D:E,2,FALSE)","v":1},"true",1,0,"CommonStatus.ENABLE",1,"            new SysMenu { Id = 10020701, Pid = 10020700, Pids = \"[0],[10020000],[10020700],\", Name = \"添加\", Code = \"add\", MenuType = MenuType.BUTTON, Icon = \"\", Router = \"\", Component = \"\", Permission = \"exam-c.absent-audit.add\", OpenType = MenuOpenType.NONE, Visible = true, Sort = 0, Status = CommonStatus.ENABLE },","EXAM_C_ABSENT_AUDIT_ADD",{"$f":"\"INSERT INTO sys_menu(id, pid, pids, `name`, `code`, menu_type, icon, router, permission, open_type, visible, sort, `status`) VALUES(\"&A59&\", \"&B59&\", '\"&C59&\"', '\"&D59&\"', '\"&F59&\"', \"&H59&\", '\"&I59&\"', '\"&J59&\"', '\"&L59&\"', \"&N59&\", \"&P59&\", \"&Q59&\", \"&S59&\");\"","v":"INSERT INTO sys_menu(id, pid, pids, `name`, `code`, menu_type, icon, router, permission, open_type, visible, sort, `status`) VALUES(10020701, 10020700, '[0],[10020000],[10020700],', '添加', 'add', 3, '', '', 'exam-c.absent-audit.add', 1, 1, 0, 1);"}]
[10020702,10020700,"[0],[10020000],[10020700],","修改","监测管理/缺测替补学生审核/修改","edit","MenuType.BUTTON",3,null,null,null,"exam-c.absent-audit.edit","MenuOpenType.NONE",{"$f":"VLOOKUP(M60,枚举!D:E,2,FALSE)","v":1},"true",1,0,"CommonStatus.ENABLE",1,"            new SysMenu { Id = 10020702, Pid = 10020700, Pids = \"[0],[10020000],[10020700],\", Name = \"修改\", Code = \"edit\", MenuType = MenuType.BUTTON, Icon = \"\", Router = \"\", Component = \"\", Permission = \"exam-c.absent-audit.edit\", OpenType = MenuOpenType.NONE, Visible = true, Sort = 0, Status = CommonStatus.ENABLE },","EXAM_C_ABSENT_AUDIT_EDIT","INSERT INTO sys_menu(id, pid, pids, `name`, `code`, menu_type, icon, router, permission, open_type, visible, sort, `status`) VALUES(10020702, 10020700, '[0],[10020000],[10020700],', '修改', 'edit', 3, '', '', 'exam-c.absent-audit.edit', 1, 1, 0, 1);"]
[10020703,10020700,"[0],[10020000],[10020700],","删除","监测管理/缺测替补学生审核/删除","del","MenuType.BUTTON",3,null,null,null,"exam-c.absent-audit.del","MenuOpenType.NONE",{"$f":"VLOOKUP(M61,枚举!D:E,2,FALSE)","v":1},"true",1,0,"CommonStatus.ENABLE",1,"            new SysMenu { Id = 10020703, Pid = 10020700, Pids = \"[0],[10020000],[10020700],\", Name = \"删除\", Code = \"del\", MenuType = MenuType.BUTTON, Icon = \"\", Router = \"\", Component = \"\", Permission = \"exam-c.absent-audit.del\", OpenType = MenuOpenType.NONE, Visible = true, Sort = 0, Status = CommonStatus.ENABLE },","EXAM_C_ABSENT_AUDIT_DEL","INSERT INTO sys_menu(id, pid, pids, `name`, `code`, menu_type, icon, router, permission, open_type, visible, sort, `status`) VALUES(10020703, 10020700, '[0],[10020000],[10020700],', '删除', 'del', 3, '', '', 'exam-c.absent-audit.del', 1, 1, 0, 1);"]
[10020704,10020700,"[0],[10020000],[10020700],","提交","监测管理/缺测替补学生审核/提交","submit","MenuType.BUTTON",3,null,null,null,"exam-c.absent-audit.submit","MenuOpenType.NONE",{"$f":"VLOOKUP(M62,枚举!D:E,2,FALSE)","v":1},"true",1,0,"CommonStatus.ENABLE",1,"            new SysMenu { Id = 10020704, Pid = 10020700, Pids = \"[0],[10020000],[10020700],\", Name = \"提交\", Code = \"submit\", MenuType = MenuType.BUTTON, Icon = \"\", Router = \"\", Component = \"\", Permission = \"exam-c.absent-audit.submit\", OpenType = MenuOpenType.NONE, Visible = true, Sort = 0, Status = CommonStatus.ENABLE },","EXAM_C_ABSENT_AUDIT_SUBMIT","INSERT INTO sys_menu(id, pid, pids, `name`, `code`, menu_type, icon, router, permission, open_type, visible, sort, `status`) VALUES(10020704, 10020700, '[0],[10020000],[10020700],', '提交', 'submit', 3, '', '', 'exam-c.absent-audit.submit', 1, 1, 0, 1);"]
[10020705,10020700,"[0],[10020000],[10020700],","审核","监测管理/缺测替补学生审核/审核","audit","MenuType.BUTTON",3,null,null,null,"exam-c.absent-audit.audit","MenuOpenType.NONE",{"$f":"VLOOKUP(M63,枚举!D:E,2,FALSE)","v":1},"true",1,0,"CommonStatus.ENABLE",1,"            new SysMenu { Id = 10020705, Pid = 10020700, Pids = \"[0],[10020000],[10020700],\", Name = \"审核\", Code = \"audit\", MenuType = MenuType.BUTTON, Icon = \"\", Router = \"\", Component = \"\", Permission = \"exam-c.absent-audit.audit\", OpenType = MenuOpenType.NONE, Visible = true, Sort = 0, Status = CommonStatus.ENABLE },","EXAM_C_ABSENT_AUDIT_AUDIT","INSERT INTO sys_menu(id, pid, pids, `name`, `code`, menu_type, icon, router, permission, open_type, visible, sort, `status`) VALUES(10020705, 10020700, '[0],[10020000],[10020700],', '审核', 'audit', 3, '', '', 'exam-c.absent-audit.audit', 1, 1, 0, 1);"]
[10020706,10020700,"[0],[10020000],[10020700],","下载","监测管理/缺测替补学生审核/下载","download","MenuType.BUTTON",3,null,null,null,"exam-c.absent-audit.download","MenuOpenType.NONE",{"$f":"VLOOKUP(M64,枚举!D:E,2,FALSE)","v":1},"true",1,0,"CommonStatus.ENABLE",1,"            new SysMenu { Id = 10020706, Pid = 10020700, Pids = \"[0],[10020000],[10020700],\", Name = \"下载\", Code = \"download\", MenuType = MenuType.BUTTON, Icon = \"\", Router = \"\", Component = \"\", Permission = \"exam-c.absent-audit.download\", OpenType = MenuOpenType.NONE, Visible = true, Sort = 0, Status = CommonStatus.ENABLE },","EXAM_C_ABSENT_AUDIT_DOWNLOAD","INSERT INTO sys_menu(id, pid, pids, `name`, `code`, menu_type, icon, router, permission, open_type, visible, sort, `status`) VALUES(10020706, 10020700, '[0],[10020000],[10020700],', '下载', 'download', 3, '', '', 'exam-c.absent-audit.download', 1, 1, 0, 1);"]
[10020800,{"$f":"A$24","v":10020000},{"$f":"C$24&\"[\"&B65&\"],\"","v":"[0],[10020000],"},"试卷管理",{"$f":"E$24&\"/\"&D65","v":"监测管理/试卷管理"},"ep","MenuType.MENU",{"$f":"VLOOKUP(G65,枚举!A:B,2,FALSE)","v":2},null,{"$f":"J$24&\"/\"&F65","v":"/exam-c/ep"},null,null,"MenuOpenType.COMPONENT",{"$f":"VLOOKUP(M65,枚举!D:E,2,FALSE)","v":2},"true",1,80,"CommonStatus.ENABLE",1,"            new SysMenu { Id = 10020800, Pid = 10020000, Pids = \"[0],[10020000],\", Name = \"试卷管理\", Code = \"ep\", MenuType = MenuType.MENU, Icon = \"\", Router = \"/exam-c/ep\", Component = \"\", Permission = \"\", OpenType = MenuOpenType.COMPONENT, Visible = true, Sort = 80, Status = CommonStatus.ENABLE },","","INSERT INTO sys_menu(id, pid, pids, `name`, `code`, menu_type, icon, router, permission, open_type, visible, sort, `status`) VALUES(10020800, 10020000, '[0],[10020000],', '试卷管理', 'ep', 2, '', '/exam-c/ep', '', 2, 1, 80, 1);"]
[10020801,{"$f":"A$65","v":10020800},{"$f":"C$65&\"[\"&B66&\"],\"","v":"[0],[10020000],[10020800],"},"添加",{"$f":"E$65&\"/\"&D66","v":"监测管理/试卷管理/添加"},"add","MenuType.BUTTON",3,null,null,null,{"$f":"F$24&\".\"&F$65&\".\"&F66","v":"exam-c.ep.add"},"MenuOpenType.NONE",{"$f":"VLOOKUP(M66,枚举!D:E,2,FALSE)","v":1},"true",1,0,"CommonStatus.ENABLE",1,"            new SysMenu { Id = 10020801, Pid = 10020800, Pids = \"[0],[10020000],[10020800],\", Name = \"添加\", Code = \"add\", MenuType = MenuType.BUTTON, Icon = \"\", Router = \"\", Component = \"\", Permission = \"exam-c.ep.add\", OpenType = MenuOpenType.NONE, Visible = true, Sort = 0, Status = CommonStatus.ENABLE },","EXAM_C_EP_ADD",{"$f":"\"INSERT INTO sys_menu(id, pid, pids, `name`, `code`, menu_type, icon, router, permission, open_type, visible, sort, `status`) VALUES(\"&A66&\", \"&B66&\", '\"&C66&\"', '\"&D66&\"', '\"&F66&\"', \"&H66&\", '\"&I66&\"', '\"&J66&\"', '\"&L66&\"', \"&N66&\", \"&P66&\", \"&Q66&\", \"&S66&\");\"","v":"INSERT INTO sys_menu(id, pid, pids, `name`, `code`, menu_type, icon, router, permission, open_type, visible, sort, `status`) VALUES(10020801, 10020800, '[0],[10020000],[10020800],', '添加', 'add', 3, '', '', 'exam-c.ep.add', 1, 1, 0, 1);"}]
[10020802,{"$f":"A$65","v":10020800},{"$f":"C$65&\"[\"&B67&\"],\"","v":"[0],[10020000],[10020800],"},"修改",{"$f":"E$65&\"/\"&D67","v":"监测管理/试卷管理/修改"},"edit","MenuType.BUTTON",3,null,null,null,{"$f":"F$24&\".\"&F$65&\".\"&F67","v":"exam-c.ep.edit"},"MenuOpenType.NONE",{"$f":"VLOOKUP(M67,枚举!D:E,2,FALSE)","v":1},"true",1,0,"CommonStatus.ENABLE",1,"            new SysMenu { Id = 10020802, Pid = 10020800, Pids = \"[0],[10020000],[10020800],\", Name = \"修改\", Code = \"edit\", MenuType = MenuType.BUTTON, Icon = \"\", Router = \"\", Component = \"\", Permission = \"exam-c.ep.edit\", OpenType = MenuOpenType.NONE, Visible = true, Sort = 0, Status = CommonStatus.ENABLE },","EXAM_C_EP_EDIT","INSERT INTO sys_menu(id, pid, pids, `name`, `code`, menu_type, icon, router, permission, open_type, visible, sort, `status`) VALUES(10020802, 10020800, '[0],[10020000],[10020800],', '修改', 'edit', 3, '', '', 'exam-c.ep.edit', 1, 1, 0, 1);"]
[10020803,{"$f":"A$65","v":10020800},{"$f":"C$65&\"[\"&B68&\"],\"","v":"[0],[10020000],[10020800],"},"删除",{"$f":"E$65&\"/\"&D68","v":"监测管理/试卷管理/删除"},"del","MenuType.BUTTON",3,null,null,null,{"$f":"F$24&\".\"&F$65&\".\"&F68","v":"exam-c.ep.del"},"MenuOpenType.NONE",{"$f":"VLOOKUP(M68,枚举!D:E,2,FALSE)","v":1},"true",1,0,"CommonStatus.ENABLE",1,"            new SysMenu { Id = 10020803, Pid = 10020800, Pids = \"[0],[10020000],[10020800],\", Name = \"删除\", Code = \"del\", MenuType = MenuType.BUTTON, Icon = \"\", Router = \"\", Component = \"\", Permission = \"exam-c.ep.del\", OpenType = MenuOpenType.NONE, Visible = true, Sort = 0, Status = CommonStatus.ENABLE },","EXAM_C_EP_DEL","INSERT INTO sys_menu(id, pid, pids, `name`, `code`, menu_type, icon, router, permission, open_type, visible, sort, `status`) VALUES(10020803, 10020800, '[0],[10020000],[10020800],', '删除', 'del', 3, '', '', 'exam-c.ep.del', 1, 1, 0, 1);"]
[10020804,{"$f":"A$65","v":10020800},{"$f":"C$65&\"[\"&B69&\"],\"","v":"[0],[10020000],[10020800],"},"审核",{"$f":"E$65&\"/\"&D69","v":"监测管理/试卷管理/审核"},"audit","MenuType.BUTTON",3,null,null,null,{"$f":"F$24&\".\"&F$65&\".\"&F69","v":"exam-c.ep.audit"},"MenuOpenType.NONE",{"$f":"VLOOKUP(M69,枚举!D:E,2,FALSE)","v":1},"true",1,0,"CommonStatus.ENABLE",1,"            new SysMenu { Id = 10020804, Pid = 10020800, Pids = \"[0],[10020000],[10020800],\", Name = \"审核\", Code = \"audit\", MenuType = MenuType.BUTTON, Icon = \"\", Router = \"\", Component = \"\", Permission = \"exam-c.ep.audit\", OpenType = MenuOpenType.NONE, Visible = true, Sort = 0, Status = CommonStatus.ENABLE },","EXAM_C_EP_AUDIT","INSERT INTO sys_menu(id, pid, pids, `name`, `code`, menu_type, icon, router, permission, open_type, visible, sort, `status`) VALUES(10020804, 10020800, '[0],[10020000],[10020800],', '审核', 'audit', 3, '', '', 'exam-c.ep.audit', 1, 1, 0, 1);"]
[10020805,{"$f":"A$65","v":10020800},{"$f":"C$65&\"[\"&B70&\"],\"","v":"[0],[10020000],[10020800],"},"导出",{"$f":"E$65&\"/\"&D70","v":"监测管理/试卷管理/导出"},"export","MenuType.BUTTON",3,null,null,null,{"$f":"F$24&\".\"&F$65&\".\"&F70","v":"exam-c.ep.export"},"MenuOpenType.NONE",{"$f":"VLOOKUP(M70,枚举!D:E,2,FALSE)","v":1},"true",1,0,"CommonStatus.ENABLE",1,"            new SysMenu { Id = 10020805, Pid = 10020800, Pids = \"[0],[10020000],[10020800],\", Name = \"导出\", Code = \"export\", MenuType = MenuType.BUTTON, Icon = \"\", Router = \"\", Component = \"\", Permission = \"exam-c.ep.export\", OpenType = MenuOpenType.NONE, Visible = true, Sort = 0, Status = CommonStatus.ENABLE },","EXAM_C_EP_EXPORT","INSERT INTO sys_menu(id, pid, pids, `name`, `code`, menu_type, icon, router, permission, open_type, visible, sort, `status`) VALUES(10020805, 10020800, '[0],[10020000],[10020800],', '导出', 'export', 3, '', '', 'exam-c.ep.export', 1, 1, 0, 1);"]
[10020900,{"$f":"A$24","v":10020000},{"$f":"C$24&\"[\"&B71&\"],\"","v":"[0],[10020000],"},"缺测替补管理",{"$f":"E$24&\"/\"&D71","v":"监测管理/缺测替补管理"},"absent","MenuType.MENU",{"$f":"VLOOKUP(G71,枚举!A:B,2,FALSE)","v":2},null,{"$f":"J$24&\"/\"&F71","v":"/exam-c/absent"},null,null,"MenuOpenType.COMPONENT",{"$f":"VLOOKUP(M71,枚举!D:E,2,FALSE)","v":2},"true",1,69,"CommonStatus.ENABLE",1,"            new SysMenu { Id = 10020900, Pid = 10020000, Pids = \"[0],[10020000],\", Name = \"缺测替补管理\", Code = \"absent\", MenuType = MenuType.MENU, Icon = \"\", Router = \"/exam-c/absent\", Component = \"\", Permission = \"\", OpenType = MenuOpenType.COMPONENT, Visible = true, Sort = 69, Status = CommonStatus.ENABLE },","","INSERT INTO sys_menu(id, pid, pids, `name`, `code`, menu_type, icon, router, permission, open_type, visible, sort, `status`) VALUES(10020900, 10020000, '[0],[10020000],', '缺测替补管理', 'absent', 2, '', '/exam-c/absent', '', 2, 1, 69, 1);"]
[10020901,{"$f":"A$71","v":10020900},{"$f":"C$71&\"[\"&B72&\"],\"","v":"[0],[10020000],[10020900],"},"添加",{"$f":"E$71&\"/\"&D72","v":"监测管理/缺测替补管理/添加"},"add","MenuType.BUTTON",3,null,null,null,{"$f":"F$24&\".\"&F$71&\".\"&F72","v":"exam-c.absent.add"},"MenuOpenType.NONE",{"$f":"VLOOKUP(M72,枚举!D:E,2,FALSE)","v":1},"true",1,0,"CommonStatus.ENABLE",1,"            new SysMenu { Id = 10020901, Pid = 10020900, Pids = \"[0],[10020000],[10020900],\", Name = \"添加\", Code = \"add\", MenuType = MenuType.BUTTON, Icon = \"\", Router = \"\", Component = \"\", Permission = \"exam-c.absent.add\", OpenType = MenuOpenType.NONE, Visible = true, Sort = 0, Status = CommonStatus.ENABLE },","EXAM_C_ABSENT_ADD","INSERT INTO sys_menu(id, pid, pids, `name`, `code`, menu_type, icon, router, permission, open_type, visible, sort, `status`) VALUES(10020901, 10020900, '[0],[10020000],[10020900],', '添加', 'add', 3, '', '', 'exam-c.absent.add', 1, 1, 0, 1);"]
[10020902,{"$f":"A$71","v":10020900},{"$f":"C$71&\"[\"&B73&\"],\"","v":"[0],[10020000],[10020900],"},"修改",{"$f":"E$71&\"/\"&D73","v":"监测管理/缺测替补管理/修改"},"edit","MenuType.BUTTON",3,null,null,null,{"$f":"F$24&\".\"&F$71&\".\"&F73","v":"exam-c.absent.edit"},"MenuOpenType.NONE",{"$f":"VLOOKUP(M73,枚举!D:E,2,FALSE)","v":1},"true",1,0,"CommonStatus.ENABLE",1,"            new SysMenu { Id = 10020902, Pid = 10020900, Pids = \"[0],[10020000],[10020900],\", Name = \"修改\", Code = \"edit\", MenuType = MenuType.BUTTON, Icon = \"\", Router = \"\", Component = \"\", Permission = \"exam-c.absent.edit\", OpenType = MenuOpenType.NONE, Visible = true, Sort = 0, Status = CommonStatus.ENABLE },","EXAM_C_ABSENT_EDIT","INSERT INTO sys_menu(id, pid, pids, `name`, `code`, menu_type, icon, router, permission, open_type, visible, sort, `status`) VALUES(10020902, 10020900, '[0],[10020000],[10020900],', '修改', 'edit', 3, '', '', 'exam-c.absent.edit', 1, 1, 0, 1);"]
[10020903,{"$f":"A$71","v":10020900},{"$f":"C$71&\"[\"&B74&\"],\"","v":"[0],[10020000],[10020900],"},"删除",{"$f":"E$71&\"/\"&D74","v":"监测管理/缺测替补管理/删除"},"del","MenuType.BUTTON",3,null,null,null,{"$f":"F$24&\".\"&F$71&\".\"&F74","v":"exam-c.absent.del"},"MenuOpenType.NONE",{"$f":"VLOOKUP(M74,枚举!D:E,2,FALSE)","v":1},"true",1,0,"CommonStatus.ENABLE",1,"            new SysMenu { Id = 10020903, Pid = 10020900, Pids = \"[0],[10020000],[10020900],\", Name = \"删除\", Code = \"del\", MenuType = MenuType.BUTTON, Icon = \"\", Router = \"\", Component = \"\", Permission = \"exam-c.absent.del\", OpenType = MenuOpenType.NONE, Visible = true, Sort = 0, Status = CommonStatus.ENABLE },","EXAM_C_ABSENT_DEL","INSERT INTO sys_menu(id, pid, pids, `name`, `code`, menu_type, icon, router, permission, open_type, visible, sort, `status`) VALUES(10020903, 10020900, '[0],[10020000],[10020900],', '删除', 'del', 3, '', '', 'exam-c.absent.del', 1, 1, 0, 1);"]
[10020904,{"$f":"A$71","v":10020900},{"$f":"C$71&\"[\"&B75&\"],\"","v":"[0],[10020000],[10020900],"},"审核",{"$f":"E$71&\"/\"&D75","v":"监测管理/缺测替补管理/审核"},"audit","MenuType.BUTTON",3,null,null,null,{"$f":"F$24&\".\"&F$71&\".\"&F75","v":"exam-c.absent.audit"},"MenuOpenType.NONE",{"$f":"VLOOKUP(M75,枚举!D:E,2,FALSE)","v":1},"true",1,0,"CommonStatus.ENABLE",1,"            new SysMenu { Id = 10020904, Pid = 10020900, Pids = \"[0],[10020000],[10020900],\", Name = \"审核\", Code = \"audit\", MenuType = MenuType.BUTTON, Icon = \"\", Router = \"\", Component = \"\", Permission = \"exam-c.absent.audit\", OpenType = MenuOpenType.NONE, Visible = true, Sort = 0, Status = CommonStatus.ENABLE },","EXAM_C_ABSENT_AUDIT","INSERT INTO sys_menu(id, pid, pids, `name`, `code`, menu_type, icon, router, permission, open_type, visible, sort, `status`) VALUES(10020904, 10020900, '[0],[10020000],[10020900],', '审核', 'audit', 3, '', '', 'exam-c.absent.audit', 1, 1, 0, 1);"]
[10020905,{"$f":"A$71","v":10020900},{"$f":"C$71&\"[\"&B76&\"],\"","v":"[0],[10020000],[10020900],"},"导出",{"$f":"E$71&\"/\"&D76","v":"监测管理/缺测替补管理/导出"},"export","MenuType.BUTTON",3,null,null,null,{"$f":"F$24&\".\"&F$71&\".\"&F76","v":"exam-c.absent.export"},"MenuOpenType.NONE",{"$f":"VLOOKUP(M76,枚举!D:E,2,FALSE)","v":1},"true",1,0,"CommonStatus.ENABLE",1,"            new SysMenu { Id = 10020905, Pid = 10020900, Pids = \"[0],[10020000],[10020900],\", Name = \"导出\", Code = \"export\", MenuType = MenuType.BUTTON, Icon = \"\", Router = \"\", Component = \"\", Permission = \"exam-c.absent.export\", OpenType = MenuOpenType.NONE, Visible = true, Sort = 0, Status = CommonStatus.ENABLE },","EXAM_C_ABSENT_EXPORT","INSERT INTO sys_menu(id, pid, pids, `name`, `code`, menu_type, icon, router, permission, open_type, visible, sort, `status`) VALUES(10020905, 10020900, '[0],[10020000],[10020900],', '导出', 'export', 3, '', '', 'exam-c.absent.export', 1, 1, 0, 1);"]
[10021000,{"$f":"A$24","v":10020000},{"$f":"C$24&\"[\"&B77&\"],\"","v":"[0],[10020000],"},"特殊学生管理",{"$f":"E$24&\"/\"&D77","v":"监测管理/特殊学生管理"},"sp-stu","MenuType.MENU",{"$f":"VLOOKUP(G77,枚举!A:B,2,FALSE)","v":2},null,{"$f":"J$24&\"/\"&F77","v":"/exam-c/sp-stu"},null,null,"MenuOpenType.COMPONENT",{"$f":"VLOOKUP(M77,枚举!D:E,2,FALSE)","v":2},"true",1,59,"CommonStatus.ENABLE",1,"            new SysMenu { Id = 10021000, Pid = 10020000, Pids = \"[0],[10020000],\", Name = \"特殊学生管理\", Code = \"sp-stu\", MenuType = MenuType.MENU, Icon = \"\", Router = \"/exam-c/sp-stu\", Component = \"\", Permission = \"\", OpenType = MenuOpenType.COMPONENT, Visible = true, Sort = 59, Status = CommonStatus.ENABLE },","","INSERT INTO sys_menu(id, pid, pids, `name`, `code`, menu_type, icon, router, permission, open_type, visible, sort, `status`) VALUES(10021000, 10020000, '[0],[10020000],', '特殊学生管理', 'sp-stu', 2, '', '/exam-c/sp-stu', '', 2, 1, 59, 1);"]
[10021001,{"$f":"A$77","v":10021000},{"$f":"C$77&\"[\"&B78&\"],\"","v":"[0],[10020000],[10021000],"},"添加",{"$f":"E$77&\"/\"&D78","v":"监测管理/特殊学生管理/添加"},"add","MenuType.BUTTON",3,null,null,null,{"$f":"F$24&\".\"&F$77&\".\"&F78","v":"exam-c.sp-stu.add"},"MenuOpenType.NONE",{"$f":"VLOOKUP(M78,枚举!D:E,2,FALSE)","v":1},"true",1,0,"CommonStatus.ENABLE",1,"            new SysMenu { Id = 10021001, Pid = 10021000, Pids = \"[0],[10020000],[10021000],\", Name = \"添加\", Code = \"add\", MenuType = MenuType.BUTTON, Icon = \"\", Router = \"\", Component = \"\", Permission = \"exam-c.sp-stu.add\", OpenType = MenuOpenType.NONE, Visible = true, Sort = 0, Status = CommonStatus.ENABLE },","EXAM_C_SP_STU_ADD","INSERT INTO sys_menu(id, pid, pids, `name`, `code`, menu_type, icon, router, permission, open_type, visible, sort, `status`) VALUES(10021001, 10021000, '[0],[10020000],[10021000],', '添加', 'add', 3, '', '', 'exam-c.sp-stu.add', 1, 1, 0, 1);"]
[10021002,{"$f":"A$77","v":10021000},{"$f":"C$77&\"[\"&B79&\"],\"","v":"[0],[10020000],[10021000],"},"修改",{"$f":"E$77&\"/\"&D79","v":"监测管理/特殊学生管理/修改"},"edit","MenuType.BUTTON",3,null,null,null,{"$f":"F$24&\".\"&F$77&\".\"&F79","v":"exam-c.sp-stu.edit"},"MenuOpenType.NONE",{"$f":"VLOOKUP(M79,枚举!D:E,2,FALSE)","v":1},"true",1,0,"CommonStatus.ENABLE",1,"            new SysMenu { Id = 10021002, Pid = 10021000, Pids = \"[0],[10020000],[10021000],\", Name = \"修改\", Code = \"edit\", MenuType = MenuType.BUTTON, Icon = \"\", Router = \"\", Component = \"\", Permission = \"exam-c.sp-stu.edit\", OpenType = MenuOpenType.NONE, Visible = true, Sort = 0, Status = CommonStatus.ENABLE },","EXAM_C_SP_STU_EDIT","INSERT INTO sys_menu(id, pid, pids, `name`, `code`, menu_type, icon, router, permission, open_type, visible, sort, `status`) VALUES(10021002, 10021000, '[0],[10020000],[10021000],', '修改', 'edit', 3, '', '', 'exam-c.sp-stu.edit', 1, 1, 0, 1);"]
[10021003,{"$f":"A$77","v":10021000},{"$f":"C$77&\"[\"&B80&\"],\"","v":"[0],[10020000],[10021000],"},"删除",{"$f":"E$77&\"/\"&D80","v":"监测管理/特殊学生管理/删除"},"del","MenuType.BUTTON",3,null,null,null,{"$f":"F$24&\".\"&F$77&\".\"&F80","v":"exam-c.sp-stu.del"},"MenuOpenType.NONE",{"$f":"VLOOKUP(M80,枚举!D:E,2,FALSE)","v":1},"true",1,0,"CommonStatus.ENABLE",1,"            new SysMenu { Id = 10021003, Pid = 10021000, Pids = \"[0],[10020000],[10021000],\", Name = \"删除\", Code = \"del\", MenuType = MenuType.BUTTON, Icon = \"\", Router = \"\", Component = \"\", Permission = \"exam-c.sp-stu.del\", OpenType = MenuOpenType.NONE, Visible = true, Sort = 0, Status = CommonStatus.ENABLE },","EXAM_C_SP_STU_DEL","INSERT INTO sys_menu(id, pid, pids, `name`, `code`, menu_type, icon, router, permission, open_type, visible, sort, `status`) VALUES(10021003, 10021000, '[0],[10020000],[10021000],', '删除', 'del', 3, '', '', 'exam-c.sp-stu.del', 1, 1, 0, 1);"]
[10021004,{"$f":"A$77","v":10021000},{"$f":"C$77&\"[\"&B81&\"],\"","v":"[0],[10020000],[10021000],"},"审核",{"$f":"E$77&\"/\"&D81","v":"监测管理/特殊学生管理/审核"},"audit","MenuType.BUTTON",3,null,null,null,{"$f":"F$24&\".\"&F$77&\".\"&F81","v":"exam-c.sp-stu.audit"},"MenuOpenType.NONE",{"$f":"VLOOKUP(M81,枚举!D:E,2,FALSE)","v":1},"true",1,0,"CommonStatus.ENABLE",1,"            new SysMenu { Id = 10021004, Pid = 10021000, Pids = \"[0],[10020000],[10021000],\", Name = \"审核\", Code = \"audit\", MenuType = MenuType.BUTTON, Icon = \"\", Router = \"\", Component = \"\", Permission = \"exam-c.sp-stu.audit\", OpenType = MenuOpenType.NONE, Visible = true, Sort = 0, Status = CommonStatus.ENABLE },","EXAM_C_SP_STU_AUDIT","INSERT INTO sys_menu(id, pid, pids, `name`, `code`, menu_type, icon, router, permission, open_type, visible, sort, `status`) VALUES(10021004, 10021000, '[0],[10020000],[10021000],', '审核', 'audit', 3, '', '', 'exam-c.sp-stu.audit', 1, 1, 0, 1);"]
[10021005,{"$f":"A$77","v":10021000},{"$f":"C$77&\"[\"&B82&\"],\"","v":"[0],[10020000],[10021000],"},"导出",{"$f":"E$77&\"/\"&D82","v":"监测管理/特殊学生管理/导出"},"export","MenuType.BUTTON",3,null,null,null,{"$f":"F$24&\".\"&F$77&\".\"&F82","v":"exam-c.sp-stu.export"},"MenuOpenType.NONE",{"$f":"VLOOKUP(M82,枚举!D:E,2,FALSE)","v":1},"true",1,0,"CommonStatus.ENABLE",1,"            new SysMenu { Id = 10021005, Pid = 10021000, Pids = \"[0],[10020000],[10021000],\", Name = \"导出\", Code = \"export\", MenuType = MenuType.BUTTON, Icon = \"\", Router = \"\", Component = \"\", Permission = \"exam-c.sp-stu.export\", OpenType = MenuOpenType.NONE, Visible = true, Sort = 0, Status = CommonStatus.ENABLE },","EXAM_C_SP_STU_EXPORT","INSERT INTO sys_menu(id, pid, pids, `name`, `code`, menu_type, icon, router, permission, open_type, visible, sort, `status`) VALUES(10021005, 10021000, '[0],[10020000],[10021000],', '导出', 'export', 3, '', '', 'exam-c.sp-stu.export', 1, 1, 0, 1);"]
[10025000,{"$f":"A$24","v":10020000},{"$f":"C$24&\"[\"&B83&\"],\"","v":"[0],[10020000],"},"双向细目表编制",{"$f":"E$24&\"/\"&D83","v":"监测管理/双向细目表编制"},"tr-twcl","MenuType.MENU",{"$f":"VLOOKUP(G83,枚举!A:B,2,FALSE)","v":2},null,{"$f":"J$24&\"/\"&F83","v":"/exam-c/tr-twcl"},null,null,"MenuOpenType.COMPONENT",{"$f":"VLOOKUP(M83,枚举!D:E,2,FALSE)","v":2},"true",1,90,"CommonStatus.ENABLE",1,{"$f":"\"            new SysMenu { Id = \"&A83&\", Pid = \"&B83&\", Pids = \"\"\"&C83&\"\"\", Name = \"\"\"&D83&\"\"\", Code = \"\"\"&F83&\"\"\", MenuType = \"&G83&\", Icon = \"\"\"&I83&\"\"\", Router = \"\"\"&J83&\"\"\", Component = \"\"\"&K83&\"\"\", Permission = \"\"\"&L83&\"\"\", OpenType = \"&M83&\", Visible = \"&O83&\", Sort = \"&Q83&\", Status = \"&R83&\" },\"","v":"            new SysMenu { Id = 10025000, Pid = 10020000, Pids = \"[0],[10020000],\", Name = \"双向细目表编制\", Code = \"tr-twcl\", MenuType = MenuType.MENU, Icon = \"\", Router = \"/exam-c/tr-twcl\", Component = \"\", Permission = \"\", OpenType = MenuOpenType.COMPONENT, Visible = true, Sort = 90, Status = CommonStatus.ENABLE },"},{"$f":"UPPER(SUBSTITUTE(SUBSTITUTE(L83,\"-\",\"_\"),\".\",\"_\"))","v":""},{"$f":"\"INSERT INTO sys_menu(id, pid, pids, `name`, `code`, menu_type, icon, router, permission, open_type, visible, sort, `status`) VALUES(\"&A83&\", \"&B83&\", '\"&C83&\"', '\"&D83&\"', '\"&F83&\"', \"&H83&\", '\"&I83&\"', '\"&J83&\"', '\"&L83&\"', \"&N83&\", \"&P83&\", \"&Q83&\", \"&S83&\");\"","v":"INSERT INTO sys_menu(id, pid, pids, `name`, `code`, menu_type, icon, router, permission, open_type, visible, sort, `status`) VALUES(10025000, 10020000, '[0],[10020000],', '双向细目表编制', 'tr-twcl', 2, '', '/exam-c/tr-twcl', '', 2, 1, 90, 1);"}]
[10025001,{"$f":"A$83","v":10025000},{"$f":"C$83&\"[\"&B84&\"],\"","v":"[0],[10020000],[10025000],"},"添加",{"$f":"E$83&\"/\"&D84","v":"监测管理/双向细目表编制/添加"},"add","MenuType.BUTTON",3,null,null,null,{"$f":"F$24&\".\"&F$83&\".\"&F84","v":"exam-c.tr-twcl.add"},"MenuOpenType.NONE",{"$f":"VLOOKUP(M84,枚举!D:E,2,FALSE)","v":1},"true",1,0,"CommonStatus.ENABLE",1,{"$f":"\"            new SysMenu { Id = \"&A84&\", Pid = \"&B84&\", Pids = \"\"\"&C84&\"\"\", Name = \"\"\"&D84&\"\"\", Code = \"\"\"&F84&\"\"\", MenuType = \"&G84&\", Icon = \"\"\"&I84&\"\"\", Router = \"\"\"&J84&\"\"\", Component = \"\"\"&K84&\"\"\", Permission = \"\"\"&L84&\"\"\", OpenType = \"&M84&\", Visible = \"&O84&\", Sort = \"&Q84&\", Status = \"&R84&\" },\"","v":"            new SysMenu { Id = 10025001, Pid = 10025000, Pids = \"[0],[10020000],[10025000],\", Name = \"添加\", Code = \"add\", MenuType = MenuType.BUTTON, Icon = \"\", Router = \"\", Component = \"\", Permission = \"exam-c.tr-twcl.add\", OpenType = MenuOpenType.NONE, Visible = true, Sort = 0, Status = CommonStatus.ENABLE },"},{"$f":"UPPER(SUBSTITUTE(SUBSTITUTE(L84,\"-\",\"_\"),\".\",\"_\"))","v":"EXAM_C_TR_TWCL_ADD"},{"$f":"\"INSERT INTO sys_menu(id, pid, pids, `name`, `code`, menu_type, icon, router, permission, open_type, visible, sort, `status`) VALUES(\"&A84&\", \"&B84&\", '\"&C84&\"', '\"&D84&\"', '\"&F84&\"', \"&H84&\", '\"&I84&\"', '\"&J84&\"', '\"&L84&\"', \"&N84&\", \"&P84&\", \"&Q84&\", \"&S84&\");\"","v":"INSERT INTO sys_menu(id, pid, pids, `name`, `code`, menu_type, icon, router, permission, open_type, visible, sort, `status`) VALUES(10025001, 10025000, '[0],[10020000],[10025000],', '添加', 'add', 3, '', '', 'exam-c.tr-twcl.add', 1, 1, 0, 1);"}]
[10025002,{"$f":"A$83","v":10025000},{"$f":"C$83&\"[\"&B85&\"],\"","v":"[0],[10020000],[10025000],"},"修改",{"$f":"E$83&\"/\"&D85","v":"监测管理/双向细目表编制/修改"},"edit","MenuType.BUTTON",3,null,null,null,{"$f":"F$24&\".\"&F$83&\".\"&F85","v":"exam-c.tr-twcl.edit"},"MenuOpenType.NONE",{"$f":"VLOOKUP(M85,枚举!D:E,2,FALSE)","v":1},"true",1,0,"CommonStatus.ENABLE",1,{"$f":"\"            new SysMenu { Id = \"&A85&\", Pid = \"&B85&\", Pids = \"\"\"&C85&\"\"\", Name = \"\"\"&D85&\"\"\", Code = \"\"\"&F85&\"\"\", MenuType = \"&G85&\", Icon = \"\"\"&I85&\"\"\", Router = \"\"\"&J85&\"\"\", Component = \"\"\"&K85&\"\"\", Permission = \"\"\"&L85&\"\"\", OpenType = \"&M85&\", Visible = \"&O85&\", Sort = \"&Q85&\", Status = \"&R85&\" },\"","v":"            new SysMenu { Id = 10025002, Pid = 10025000, Pids = \"[0],[10020000],[10025000],\", Name = \"修改\", Code = \"edit\", MenuType = MenuType.BUTTON, Icon = \"\", Router = \"\", Component = \"\", Permission = \"exam-c.tr-twcl.edit\", OpenType = MenuOpenType.NONE, Visible = true, Sort = 0, Status = CommonStatus.ENABLE },"},{"$f":"UPPER(SUBSTITUTE(SUBSTITUTE(L85,\"-\",\"_\"),\".\",\"_\"))","v":"EXAM_C_TR_TWCL_EDIT"},"INSERT INTO sys_menu(id, pid, pids, `name`, `code`, menu_type, icon, router, permission, open_type, visible, sort, `status`) VALUES(10025002, 10025000, '[0],[10020000],[10025000],', '修改', 'edit', 3, '', '', 'exam-c.tr-twcl.edit', 1, 1, 0, 1);"]
[10025003,{"$f":"A$83","v":10025000},{"$f":"C$83&\"[\"&B86&\"],\"","v":"[0],[10020000],[10025000],"},"删除",{"$f":"E$83&\"/\"&D86","v":"监测管理/双向细目表编制/删除"},"del","MenuType.BUTTON",3,null,null,null,{"$f":"F$24&\".\"&F$83&\".\"&F86","v":"exam-c.tr-twcl.del"},"MenuOpenType.NONE",{"$f":"VLOOKUP(M86,枚举!D:E,2,FALSE)","v":1},"true",1,0,"CommonStatus.ENABLE",1,{"$f":"\"            new SysMenu { Id = \"&A86&\", Pid = \"&B86&\", Pids = \"\"\"&C86&\"\"\", Name = \"\"\"&D86&\"\"\", Code = \"\"\"&F86&\"\"\", MenuType = \"&G86&\", Icon = \"\"\"&I86&\"\"\", Router = \"\"\"&J86&\"\"\", Component = \"\"\"&K86&\"\"\", Permission = \"\"\"&L86&\"\"\", OpenType = \"&M86&\", Visible = \"&O86&\", Sort = \"&Q86&\", Status = \"&R86&\" },\"","v":"            new SysMenu { Id = 10025003, Pid = 10025000, Pids = \"[0],[10020000],[10025000],\", Name = \"删除\", Code = \"del\", MenuType = MenuType.BUTTON, Icon = \"\", Router = \"\", Component = \"\", Permission = \"exam-c.tr-twcl.del\", OpenType = MenuOpenType.NONE, Visible = true, Sort = 0, Status = CommonStatus.ENABLE },"},{"$f":"UPPER(SUBSTITUTE(SUBSTITUTE(L86,\"-\",\"_\"),\".\",\"_\"))","v":"EXAM_C_TR_TWCL_DEL"},"INSERT INTO sys_menu(id, pid, pids, `name`, `code`, menu_type, icon, router, permission, open_type, visible, sort, `status`) VALUES(10025003, 10025000, '[0],[10020000],[10025000],', '删除', 'del', 3, '', '', 'exam-c.tr-twcl.del', 1, 1, 0, 1);"]
[10025004,{"$f":"A$83","v":10025000},{"$f":"C$83&\"[\"&B87&\"],\"","v":"[0],[10020000],[10025000],"},"审核",{"$f":"E$83&\"/\"&D87","v":"监测管理/双向细目表编制/审核"},"audit","MenuType.BUTTON",3,null,null,null,{"$f":"F$24&\".\"&F$83&\".\"&F87","v":"exam-c.tr-twcl.audit"},"MenuOpenType.NONE",{"$f":"VLOOKUP(M87,枚举!D:E,2,FALSE)","v":1},"true",1,0,"CommonStatus.ENABLE",1,{"$f":"\"            new SysMenu { Id = \"&A87&\", Pid = \"&B87&\", Pids = \"\"\"&C87&\"\"\", Name = \"\"\"&D87&\"\"\", Code = \"\"\"&F87&\"\"\", MenuType = \"&G87&\", Icon = \"\"\"&I87&\"\"\", Router = \"\"\"&J87&\"\"\", Component = \"\"\"&K87&\"\"\", Permission = \"\"\"&L87&\"\"\", OpenType = \"&M87&\", Visible = \"&O87&\", Sort = \"&Q87&\", Status = \"&R87&\" },\"","v":"            new SysMenu { Id = 10025004, Pid = 10025000, Pids = \"[0],[10020000],[10025000],\", Name = \"审核\", Code = \"audit\", MenuType = MenuType.BUTTON, Icon = \"\", Router = \"\", Component = \"\", Permission = \"exam-c.tr-twcl.audit\", OpenType = MenuOpenType.NONE, Visible = true, Sort = 0, Status = CommonStatus.ENABLE },"},{"$f":"UPPER(SUBSTITUTE(SUBSTITUTE(L87,\"-\",\"_\"),\".\",\"_\"))","v":"EXAM_C_TR_TWCL_AUDIT"},"INSERT INTO sys_menu(id, pid, pids, `name`, `code`, menu_type, icon, router, permission, open_type, visible, sort, `status`) VALUES(10025004, 10025000, '[0],[10020000],[10025000],', '审核', 'audit', 3, '', '', 'exam-c.tr-twcl.audit', 1, 1, 0, 1);"]
[10025005,{"$f":"A$83","v":10025000},{"$f":"C$83&\"[\"&B88&\"],\"","v":"[0],[10020000],[10025000],"},"导出",{"$f":"E$83&\"/\"&D88","v":"监测管理/双向细目表编制/导出"},"export","MenuType.BUTTON",3,null,null,null,{"$f":"F$24&\".\"&F$83&\".\"&F88","v":"exam-c.tr-twcl.export"},"MenuOpenType.NONE",{"$f":"VLOOKUP(M88,枚举!D:E,2,FALSE)","v":1},"true",1,0,"CommonStatus.ENABLE",1,{"$f":"\"            new SysMenu { Id = \"&A88&\", Pid = \"&B88&\", Pids = \"\"\"&C88&\"\"\", Name = \"\"\"&D88&\"\"\", Code = \"\"\"&F88&\"\"\", MenuType = \"&G88&\", Icon = \"\"\"&I88&\"\"\", Router = \"\"\"&J88&\"\"\", Component = \"\"\"&K88&\"\"\", Permission = \"\"\"&L88&\"\"\", OpenType = \"&M88&\", Visible = \"&O88&\", Sort = \"&Q88&\", Status = \"&R88&\" },\"","v":"            new SysMenu { Id = 10025005, Pid = 10025000, Pids = \"[0],[10020000],[10025000],\", Name = \"导出\", Code = \"export\", MenuType = MenuType.BUTTON, Icon = \"\", Router = \"\", Component = \"\", Permission = \"exam-c.tr-twcl.export\", OpenType = MenuOpenType.NONE, Visible = true, Sort = 0, Status = CommonStatus.ENABLE },"},{"$f":"UPPER(SUBSTITUTE(SUBSTITUTE(L88,\"-\",\"_\"),\".\",\"_\"))","v":"EXAM_C_TR_TWCL_EXPORT"},"INSERT INTO sys_menu(id, pid, pids, `name`, `code`, menu_type, icon, router, permission, open_type, visible, sort, `status`) VALUES(10025005, 10025000, '[0],[10020000],[10025000],', '导出', 'export', 3, '', '', 'exam-c.tr-twcl.export', 1, 1, 0, 1);"]
[10025100,{"$f":"A$24","v":10020000},{"$f":"C$24&\"[\"&B89&\"],\"","v":"[0],[10020000],"},"学科问题建议撰写",{"$f":"E$24&\"/\"&D89","v":"监测管理/学科问题建议撰写"},"tr-qs","MenuType.MENU",{"$f":"VLOOKUP(G89,枚举!A:B,2,FALSE)","v":2},null,{"$f":"J$24&\"/\"&F89","v":"/exam-c/tr-qs"},null,null,"MenuOpenType.COMPONENT",{"$f":"VLOOKUP(M89,枚举!D:E,2,FALSE)","v":2},"true",1,100,"CommonStatus.ENABLE",1,{"$f":"\"            new SysMenu { Id = \"&A89&\", Pid = \"&B89&\", Pids = \"\"\"&C89&\"\"\", Name = \"\"\"&D89&\"\"\", Code = \"\"\"&F89&\"\"\", MenuType = \"&G89&\", Icon = \"\"\"&I89&\"\"\", Router = \"\"\"&J89&\"\"\", Component = \"\"\"&K89&\"\"\", Permission = \"\"\"&L89&\"\"\", OpenType = \"&M89&\", Visible = \"&O89&\", Sort = \"&Q89&\", Status = \"&R89&\" },\"","v":"            new SysMenu { Id = 10025100, Pid = 10020000, Pids = \"[0],[10020000],\", Name = \"学科问题建议撰写\", Code = \"tr-qs\", MenuType = MenuType.MENU, Icon = \"\", Router = \"/exam-c/tr-qs\", Component = \"\", Permission = \"\", OpenType = MenuOpenType.COMPONENT, Visible = true, Sort = 100, Status = CommonStatus.ENABLE },"},{"$f":"UPPER(SUBSTITUTE(SUBSTITUTE(L89,\"-\",\"_\"),\".\",\"_\"))","v":""},"INSERT INTO sys_menu(id, pid, pids, `name`, `code`, menu_type, icon, router, permission, open_type, visible, sort, `status`) VALUES(10025100, 10020000, '[0],[10020000],', '学科问题建议撰写', 'tr-qs', 2, '', '/exam-c/tr-qs', '', 2, 1, 100, 1);"]
[10025101,{"$f":"A$89","v":10025100},{"$f":"C$89&\"[\"&B90&\"],\"","v":"[0],[10020000],[10025100],"},"添加",{"$f":"E$89&\"/\"&D90","v":"监测管理/学科问题建议撰写/添加"},"add","MenuType.BUTTON",3,null,null,null,{"$f":"F$24&\".\"&F$89&\".\"&F90","v":"exam-c.tr-qs.add"},"MenuOpenType.NONE",1,"true",1,0,"CommonStatus.ENABLE",1,"            new SysMenu { Id = 10025101, Pid = 10025100, Pids = \"[0],[10020000],[10025100],\", Name = \"添加\", Code = \"add\", MenuType = MenuType.BUTTON, Icon = \"\", Router = \"\", Component = \"\", Permission = \"exam-c.tr-qs.add\", OpenType = MenuOpenType.NONE, Visible = true, Sort = 0, Status = CommonStatus.ENABLE },","EXAM_C_TR_QS_ADD",{"$f":"\"INSERT INTO sys_menu(id, pid, pids, `name`, `code`, menu_type, icon, router, permission, open_type, visible, sort, `status`) VALUES(\"&A90&\", \"&B90&\", '\"&C90&\"', '\"&D90&\"', '\"&F90&\"', \"&H90&\", '\"&I90&\"', '\"&J90&\"', '\"&L90&\"', \"&N90&\", \"&P90&\", \"&Q90&\", \"&S90&\");\"","v":"INSERT INTO sys_menu(id, pid, pids, `name`, `code`, menu_type, icon, router, permission, open_type, visible, sort, `status`) VALUES(10025101, 10025100, '[0],[10020000],[10025100],', '添加', 'add', 3, '', '', 'exam-c.tr-qs.add', 1, 1, 0, 1);"}]
[10025102,{"$f":"A$89","v":10025100},{"$f":"C$89&\"[\"&B91&\"],\"","v":"[0],[10020000],[10025100],"},"修改",{"$f":"E$89&\"/\"&D91","v":"监测管理/学科问题建议撰写/修改"},"edit","MenuType.BUTTON",3,null,null,null,{"$f":"F$24&\".\"&F$89&\".\"&F91","v":"exam-c.tr-qs.edit"},"MenuOpenType.NONE",1,"true",1,0,"CommonStatus.ENABLE",1,"            new SysMenu { Id = 10025102, Pid = 10025100, Pids = \"[0],[10020000],[10025100],\", Name = \"修改\", Code = \"edit\", MenuType = MenuType.BUTTON, Icon = \"\", Router = \"\", Component = \"\", Permission = \"exam-c.tr-qs.edit\", OpenType = MenuOpenType.NONE, Visible = true, Sort = 0, Status = CommonStatus.ENABLE },","EXAM_C_TR_QS_EDIT","INSERT INTO sys_menu(id, pid, pids, `name`, `code`, menu_type, icon, router, permission, open_type, visible, sort, `status`) VALUES(10025102, 10025100, '[0],[10020000],[10025100],', '修改', 'edit', 3, '', '', 'exam-c.tr-qs.edit', 1, 1, 0, 1);"]
[10025103,{"$f":"A$89","v":10025100},{"$f":"C$89&\"[\"&B92&\"],\"","v":"[0],[10020000],[10025100],"},"删除",{"$f":"E$89&\"/\"&D92","v":"监测管理/学科问题建议撰写/删除"},"del","MenuType.BUTTON",3,null,null,null,{"$f":"F$24&\".\"&F$89&\".\"&F92","v":"exam-c.tr-qs.del"},"MenuOpenType.NONE",1,"true",1,0,"CommonStatus.ENABLE",1,"            new SysMenu { Id = 10025103, Pid = 10025100, Pids = \"[0],[10020000],[10025100],\", Name = \"删除\", Code = \"del\", MenuType = MenuType.BUTTON, Icon = \"\", Router = \"\", Component = \"\", Permission = \"exam-c.tr-qs.del\", OpenType = MenuOpenType.NONE, Visible = true, Sort = 0, Status = CommonStatus.ENABLE },","EXAM_C_TR_QS_DEL","INSERT INTO sys_menu(id, pid, pids, `name`, `code`, menu_type, icon, router, permission, open_type, visible, sort, `status`) VALUES(10025103, 10025100, '[0],[10020000],[10025100],', '删除', 'del', 3, '', '', 'exam-c.tr-qs.del', 1, 1, 0, 1);"]
[10025104,{"$f":"A$89","v":10025100},{"$f":"C$89&\"[\"&B93&\"],\"","v":"[0],[10020000],[10025100],"},"审核",{"$f":"E$89&\"/\"&D93","v":"监测管理/学科问题建议撰写/审核"},"audit","MenuType.BUTTON",3,null,null,null,{"$f":"F$24&\".\"&F$89&\".\"&F93","v":"exam-c.tr-qs.audit"},"MenuOpenType.NONE",1,"true",1,0,"CommonStatus.ENABLE",1,"            new SysMenu { Id = 10025104, Pid = 10025100, Pids = \"[0],[10020000],[10025100],\", Name = \"审核\", Code = \"audit\", MenuType = MenuType.BUTTON, Icon = \"\", Router = \"\", Component = \"\", Permission = \"exam-c.tr-qs.audit\", OpenType = MenuOpenType.NONE, Visible = true, Sort = 0, Status = CommonStatus.ENABLE },","EXAM_C_TR_QS_AUDIT","INSERT INTO sys_menu(id, pid, pids, `name`, `code`, menu_type, icon, router, permission, open_type, visible, sort, `status`) VALUES(10025104, 10025100, '[0],[10020000],[10025100],', '审核', 'audit', 3, '', '', 'exam-c.tr-qs.audit', 1, 1, 0, 1);"]
[10025105,{"$f":"A$89","v":10025100},{"$f":"C$89&\"[\"&B94&\"],\"","v":"[0],[10020000],[10025100],"},"导出",{"$f":"E$89&\"/\"&D94","v":"监测管理/学科问题建议撰写/导出"},"export","MenuType.BUTTON",3,null,null,null,{"$f":"F$24&\".\"&F$89&\".\"&F94","v":"exam-c.tr-qs.export"},"MenuOpenType.NONE",1,"true",1,0,"CommonStatus.ENABLE",1,"            new SysMenu { Id = 10025105, Pid = 10025100, Pids = \"[0],[10020000],[10025100],\", Name = \"导出\", Code = \"export\", MenuType = MenuType.BUTTON, Icon = \"\", Router = \"\", Component = \"\", Permission = \"exam-c.tr-qs.export\", OpenType = MenuOpenType.NONE, Visible = true, Sort = 0, Status = CommonStatus.ENABLE },","EXAM_C_TR_QS_EXPORT","INSERT INTO sys_menu(id, pid, pids, `name`, `code`, menu_type, icon, router, permission, open_type, visible, sort, `status`) VALUES(10025105, 10025100, '[0],[10020000],[10025100],', '导出', 'export', 3, '', '', 'exam-c.tr-qs.export', 1, 1, 0, 1);"]
[]
[]
[10030000,0,{"$f":"\"[\"&B97&\"],\"","v":"[0],"},"评估监测",{"$f":"D97","v":"评估监测"},"exam-s","MenuType.FOLDER",{"$f":"VLOOKUP(G97,枚举!A:B,2,FALSE)","v":1},"box",{"$f":"\"/\"&F97","v":"/exam-s"},null,null,"MenuOpenType.NONE",{"$f":"VLOOKUP(M97,枚举!D:E,2,FALSE)","v":1},"true",1,{"$f":"A97","v":10030000},"CommonStatus.ENABLE",1,{"$f":"\"            new SysMenu { Id = \"&A97&\", Pid = \"&B97&\", Pids = \"\"\"&C97&\"\"\", Name = \"\"\"&D97&\"\"\", Code = \"\"\"&F97&\"\"\", MenuType = \"&G97&\", Icon = \"\"\"&I97&\"\"\", Router = \"\"\"&J97&\"\"\", Component = \"\"\"&K97&\"\"\", Permission = \"\"\"&L97&\"\"\", OpenType = \"&M97&\", Visible = \"&O97&\", Sort = \"&Q97&\", Status = \"&R97&\" },\"","v":"            new SysMenu { Id = 10030000, Pid = 0, Pids = \"[0],\", Name = \"评估监测\", Code = \"exam-s\", MenuType = MenuType.FOLDER, Icon = \"box\", Router = \"/exam-s\", Component = \"\", Permission = \"\", OpenType = MenuOpenType.NONE, Visible = true, Sort = 10030000, Status = CommonStatus.ENABLE },"},{"$f":"UPPER(SUBSTITUTE(SUBSTITUTE(L97,\"-\",\"_\"),\".\",\"_\"))","v":""},{"$f":"\"INSERT INTO sys_menu(id, pid, pids, `name`, `code`, menu_type, icon, router, permission, open_type, visible, sort, `status`) VALUES(\"&A97&\", \"&B97&\", '\"&C97&\"', '\"&D97&\"', '\"&F97&\"', \"&H97&\", '\"&I97&\"', '\"&J97&\"', '\"&L97&\"', \"&N97&\", \"&P97&\", \"&Q97&\", \"&S97&\");\"","v":"INSERT INTO sys_menu(id, pid, pids, `name`, `code`, menu_type, icon, router, permission, open_type, visible, sort, `status`) VALUES(10030000, 0, '[0],', '评估监测', 'exam-s', 1, 'box', '/exam-s', '', 1, 1, 10030000, 1);"}]
[10030100,{"$f":"A$97","v":10030000},{"$f":"C$97&\"[\"&B98&\"],\"","v":"[0],[10030000],"},"评估监测计划",{"$f":"E$97&\"/\"&D98","v":"评估监测/评估监测计划"},"plan","MenuType.MENU",{"$f":"VLOOKUP(G98,枚举!A:B,2,FALSE)","v":2},null,{"$f":"J$97&\"/\"&F98","v":"/exam-s/plan"},null,null,"MenuOpenType.COMPONENT",{"$f":"VLOOKUP(M98,枚举!D:E,2,FALSE)","v":2},"true",1,10,"CommonStatus.ENABLE",1,{"$f":"\"            new SysMenu { Id = \"&A98&\", Pid = \"&B98&\", Pids = \"\"\"&C98&\"\"\", Name = \"\"\"&D98&\"\"\", Code = \"\"\"&F98&\"\"\", MenuType = \"&G98&\", Icon = \"\"\"&I98&\"\"\", Router = \"\"\"&J98&\"\"\", Component = \"\"\"&K98&\"\"\", Permission = \"\"\"&L98&\"\"\", OpenType = \"&M98&\", Visible = \"&O98&\", Sort = \"&Q98&\", Status = \"&R98&\" },\"","v":"            new SysMenu { Id = 10030100, Pid = 10030000, Pids = \"[0],[10030000],\", Name = \"评估监测计划\", Code = \"plan\", MenuType = MenuType.MENU, Icon = \"\", Router = \"/exam-s/plan\", Component = \"\", Permission = \"\", OpenType = MenuOpenType.COMPONENT, Visible = true, Sort = 10, Status = CommonStatus.ENABLE },"},{"$f":"UPPER(SUBSTITUTE(SUBSTITUTE(L98,\"-\",\"_\"),\".\",\"_\"))","v":""},"INSERT INTO sys_menu(id, pid, pids, `name`, `code`, menu_type, icon, router, permission, open_type, visible, sort, `status`) VALUES(10030100, 10030000, '[0],[10030000],', '评估监测计划', 'plan', 2, '', '/exam-s/plan', '', 2, 1, 10, 1);"]
[10030200,{"$f":"A$97","v":10030000},{"$f":"C$97&\"[\"&B99&\"],\"","v":"[0],[10030000],"},"学生信息上报",{"$f":"E$97&\"/\"&D99","v":"评估监测/学生信息上报"},"stu","MenuType.MENU",{"$f":"VLOOKUP(G99,枚举!A:B,2,FALSE)","v":2},null,{"$f":"J$97&\"/\"&F99","v":"/exam-s/stu"},null,null,"MenuOpenType.COMPONENT",{"$f":"VLOOKUP(M99,枚举!D:E,2,FALSE)","v":2},"true",1,20,"CommonStatus.ENABLE",1,{"$f":"\"            new SysMenu { Id = \"&A99&\", Pid = \"&B99&\", Pids = \"\"\"&C99&\"\"\", Name = \"\"\"&D99&\"\"\", Code = \"\"\"&F99&\"\"\", MenuType = \"&G99&\", Icon = \"\"\"&I99&\"\"\", Router = \"\"\"&J99&\"\"\", Component = \"\"\"&K99&\"\"\", Permission = \"\"\"&L99&\"\"\", OpenType = \"&M99&\", Visible = \"&O99&\", Sort = \"&Q99&\", Status = \"&R99&\" },\"","v":"            new SysMenu { Id = 10030200, Pid = 10030000, Pids = \"[0],[10030000],\", Name = \"学生信息上报\", Code = \"stu\", MenuType = MenuType.MENU, Icon = \"\", Router = \"/exam-s/stu\", Component = \"\", Permission = \"\", OpenType = MenuOpenType.COMPONENT, Visible = true, Sort = 20, Status = CommonStatus.ENABLE },"},{"$f":"UPPER(SUBSTITUTE(SUBSTITUTE(L99,\"-\",\"_\"),\".\",\"_\"))","v":""},"INSERT INTO sys_menu(id, pid, pids, `name`, `code`, menu_type, icon, router, permission, open_type, visible, sort, `status`) VALUES(10030200, 10030000, '[0],[10030000],', '学生信息上报', 'stu', 2, '', '/exam-s/stu', '', 2, 1, 20, 1);"]
[10030201,{"$f":"A$99","v":10030200},{"$f":"C$99&\"[\"&B100&\"],\"","v":"[0],[10030000],[10030200],"},"添加",{"$f":"E$99&\"/\"&D100","v":"评估监测/学生信息上报/添加"},"add","MenuType.BUTTON",{"$f":"VLOOKUP(G100,枚举!A:B,2,FALSE)","v":3},null,null,null,{"$f":"F$97&\".\"&F$99&\".\"&F100","v":"exam-s.stu.add"},"MenuOpenType.NONE",{"$f":"VLOOKUP(M100,枚举!D:E,2,FALSE)","v":1},"true",1,0,"CommonStatus.ENABLE",1,"            new SysMenu { Id = 10030201, Pid = 10030200, Pids = \"[0],[10030000],[10030200],\", Name = \"添加\", Code = \"add\", MenuType = MenuType.BUTTON, Icon = \"\", Router = \"\", Component = \"\", Permission = \"exam-s.stu.add\", OpenType = MenuOpenType.NONE, Visible = true, Sort = 0, Status = CommonStatus.ENABLE },","EXAM_S_STU_ADD",{"$f":"\"INSERT INTO sys_menu(id, pid, pids, `name`, `code`, menu_type, icon, router, permission, open_type, visible, sort, `status`) VALUES(\"&A100&\", \"&B100&\", '\"&C100&\"', '\"&D100&\"', '\"&F100&\"', \"&H100&\", '\"&I100&\"', '\"&J100&\"', '\"&L100&\"', \"&N100&\", \"&P100&\", \"&Q100&\", \"&S100&\");\"","v":"INSERT INTO sys_menu(id, pid, pids, `name`, `code`, menu_type, icon, router, permission, open_type, visible, sort, `status`) VALUES(10030201, 10030200, '[0],[10030000],[10030200],', '添加', 'add', 3, '', '', 'exam-s.stu.add', 1, 1, 0, 1);"}]
[10030202,10030200,"[0],[10030000],[10030200],","修改","评估监测/学生信息上报/修改","edit","MenuType.BUTTON",{"$f":"VLOOKUP(G101,枚举!A:B,2,FALSE)","v":3},null,null,null,"exam-s.stu.edit","MenuOpenType.NONE",{"$f":"VLOOKUP(M101,枚举!D:E,2,FALSE)","v":1},"true",1,0,"CommonStatus.ENABLE",1,"            new SysMenu { Id = 10030202, Pid = 10030200, Pids = \"[0],[10030000],[10030200],\", Name = \"修改\", Code = \"edit\", MenuType = MenuType.BUTTON, Icon = \"\", Router = \"\", Component = \"\", Permission = \"exam-s.stu.edit\", OpenType = MenuOpenType.NONE, Visible = true, Sort = 0, Status = CommonStatus.ENABLE },","EXAM_S_STU_EDIT","INSERT INTO sys_menu(id, pid, pids, `name`, `code`, menu_type, icon, router, permission, open_type, visible, sort, `status`) VALUES(10030202, 10030200, '[0],[10030000],[10030200],', '修改', 'edit', 3, '', '', 'exam-s.stu.edit', 1, 1, 0, 1);"]
[10030203,10030200,"[0],[10030000],[10030200],","删除","评估监测/学生信息上报/删除","del","MenuType.BUTTON",{"$f":"VLOOKUP(G102,枚举!A:B,2,FALSE)","v":3},null,null,null,"exam-s.stu.del","MenuOpenType.NONE",{"$f":"VLOOKUP(M102,枚举!D:E,2,FALSE)","v":1},"true",1,0,"CommonStatus.ENABLE",1,"            new SysMenu { Id = 10030203, Pid = 10030200, Pids = \"[0],[10030000],[10030200],\", Name = \"删除\", Code = \"del\", MenuType = MenuType.BUTTON, Icon = \"\", Router = \"\", Component = \"\", Permission = \"exam-s.stu.del\", OpenType = MenuOpenType.NONE, Visible = true, Sort = 0, Status = CommonStatus.ENABLE },","EXAM_S_STU_DEL","INSERT INTO sys_menu(id, pid, pids, `name`, `code`, menu_type, icon, router, permission, open_type, visible, sort, `status`) VALUES(10030203, 10030200, '[0],[10030000],[10030200],', '删除', 'del', 3, '', '', 'exam-s.stu.del', 1, 1, 0, 1);"]
[10030204,10030200,"[0],[10030000],[10030200],","提交","评估监测/学生信息上报/提交","submit","MenuType.BUTTON",{"$f":"VLOOKUP(G103,枚举!A:B,2,FALSE)","v":3},null,null,null,"exam-s.stu.submit","MenuOpenType.NONE",{"$f":"VLOOKUP(M103,枚举!D:E,2,FALSE)","v":1},"true",1,0,"CommonStatus.ENABLE",1,"            new SysMenu { Id = 10030204, Pid = 10030200, Pids = \"[0],[10030000],[10030200],\", Name = \"提交\", Code = \"submit\", MenuType = MenuType.BUTTON, Icon = \"\", Router = \"\", Component = \"\", Permission = \"exam-s.stu.submit\", OpenType = MenuOpenType.NONE, Visible = true, Sort = 0, Status = CommonStatus.ENABLE },","EXAM_S_STU_SUBMIT","INSERT INTO sys_menu(id, pid, pids, `name`, `code`, menu_type, icon, router, permission, open_type, visible, sort, `status`) VALUES(10030204, 10030200, '[0],[10030000],[10030200],', '提交', 'submit', 3, '', '', 'exam-s.stu.submit', 1, 1, 0, 1);"]
[10030205,10030200,"[0],[10030000],[10030200],","审核","评估监测/学生信息上报/审核","audit","MenuType.BUTTON",{"$f":"VLOOKUP(G104,枚举!A:B,2,FALSE)","v":3},null,null,null,"exam-s.stu.audit","MenuOpenType.NONE",{"$f":"VLOOKUP(M104,枚举!D:E,2,FALSE)","v":1},"true",1,0,"CommonStatus.ENABLE",1,"            new SysMenu { Id = 10030205, Pid = 10030200, Pids = \"[0],[10030000],[10030200],\", Name = \"审核\", Code = \"audit\", MenuType = MenuType.BUTTON, Icon = \"\", Router = \"\", Component = \"\", Permission = \"exam-s.stu.audit\", OpenType = MenuOpenType.NONE, Visible = true, Sort = 0, Status = CommonStatus.ENABLE },","EXAM_S_STU_AUDIT","INSERT INTO sys_menu(id, pid, pids, `name`, `code`, menu_type, icon, router, permission, open_type, visible, sort, `status`) VALUES(10030205, 10030200, '[0],[10030000],[10030200],', '审核', 'audit', 3, '', '', 'exam-s.stu.audit', 1, 1, 0, 1);"]
[10030206,10030200,"[0],[10030000],[10030200],","下载","评估监测/学生信息上报/下载","download","MenuType.BUTTON",{"$f":"VLOOKUP(G105,枚举!A:B,2,FALSE)","v":3},null,null,null,"exam-s.stu.download","MenuOpenType.NONE",{"$f":"VLOOKUP(M105,枚举!D:E,2,FALSE)","v":1},"true",1,0,"CommonStatus.ENABLE",1,"            new SysMenu { Id = 10030206, Pid = 10030200, Pids = \"[0],[10030000],[10030200],\", Name = \"下载\", Code = \"download\", MenuType = MenuType.BUTTON, Icon = \"\", Router = \"\", Component = \"\", Permission = \"exam-s.stu.download\", OpenType = MenuOpenType.NONE, Visible = true, Sort = 0, Status = CommonStatus.ENABLE },","EXAM_S_STU_DOWNLOAD","INSERT INTO sys_menu(id, pid, pids, `name`, `code`, menu_type, icon, router, permission, open_type, visible, sort, `status`) VALUES(10030206, 10030200, '[0],[10030000],[10030200],', '下载', 'download', 3, '', '', 'exam-s.stu.download', 1, 1, 0, 1);"]
[10030300,{"$f":"A$97","v":10030000},{"$f":"C$97&\"[\"&B106&\"],\"","v":"[0],[10030000],"},"特殊学生上报",{"$f":"E$97&\"/\"&D106","v":"评估监测/特殊学生上报"},"sp-stu","MenuType.MENU",{"$f":"VLOOKUP(G106,枚举!A:B,2,FALSE)","v":2},null,{"$f":"J$97&\"/\"&F106","v":"/exam-s/sp-stu"},null,null,"MenuOpenType.COMPONENT",{"$f":"VLOOKUP(M106,枚举!D:E,2,FALSE)","v":2},"true",1,30,"CommonStatus.ENABLE",1,{"$f":"\"            new SysMenu { Id = \"&A106&\", Pid = \"&B106&\", Pids = \"\"\"&C106&\"\"\", Name = \"\"\"&D106&\"\"\", Code = \"\"\"&F106&\"\"\", MenuType = \"&G106&\", Icon = \"\"\"&I106&\"\"\", Router = \"\"\"&J106&\"\"\", Component = \"\"\"&K106&\"\"\", Permission = \"\"\"&L106&\"\"\", OpenType = \"&M106&\", Visible = \"&O106&\", Sort = \"&Q106&\", Status = \"&R106&\" },\"","v":"            new SysMenu { Id = 10030300, Pid = 10030000, Pids = \"[0],[10030000],\", Name = \"特殊学生上报\", Code = \"sp-stu\", MenuType = MenuType.MENU, Icon = \"\", Router = \"/exam-s/sp-stu\", Component = \"\", Permission = \"\", OpenType = MenuOpenType.COMPONENT, Visible = true, Sort = 30, Status = CommonStatus.ENABLE },"},{"$f":"UPPER(SUBSTITUTE(SUBSTITUTE(L106,\"-\",\"_\"),\".\",\"_\"))","v":""},"INSERT INTO sys_menu(id, pid, pids, `name`, `code`, menu_type, icon, router, permission, open_type, visible, sort, `status`) VALUES(10030300, 10030000, '[0],[10030000],', '特殊学生上报', 'sp-stu', 2, '', '/exam-s/sp-stu', '', 2, 1, 30, 1);"]
[10030301,{"$f":"A$106","v":10030300},{"$f":"C$106&\"[\"&B107&\"],\"","v":"[0],[10030000],[10030300],"},"添加",{"$f":"E$106&\"/\"&D107","v":"评估监测/特殊学生上报/添加"},"add","MenuType.BUTTON",{"$f":"VLOOKUP(G107,枚举!A:B,2,FALSE)","v":3},null,null,null,{"$f":"F$97&\".\"&F$106&\".\"&F107","v":"exam-s.sp-stu.add"},"MenuOpenType.NONE",{"$f":"VLOOKUP(M107,枚举!D:E,2,FALSE)","v":1},"true",1,0,"CommonStatus.ENABLE",1,"            new SysMenu { Id = 10030301, Pid = 10030300, Pids = \"[0],[10030000],[10030300],\", Name = \"添加\", Code = \"add\", MenuType = MenuType.BUTTON, Icon = \"\", Router = \"\", Component = \"\", Permission = \"exam-s.sp-stu.add\", OpenType = MenuOpenType.NONE, Visible = true, Sort = 0, Status = CommonStatus.ENABLE },","EXAM_S_SP_STU_ADD",{"$f":"\"INSERT INTO sys_menu(id, pid, pids, `name`, `code`, menu_type, icon, router, permission, open_type, visible, sort, `status`) VALUES(\"&A107&\", \"&B107&\", '\"&C107&\"', '\"&D107&\"', '\"&F107&\"', \"&H107&\", '\"&I107&\"', '\"&J107&\"', '\"&L107&\"', \"&N107&\", \"&P107&\", \"&Q107&\", \"&S107&\");\"","v":"INSERT INTO sys_menu(id, pid, pids, `name`, `code`, menu_type, icon, router, permission, open_type, visible, sort, `status`) VALUES(10030301, 10030300, '[0],[10030000],[10030300],', '添加', 'add', 3, '', '', 'exam-s.sp-stu.add', 1, 1, 0, 1);"}]
[10030302,10030300,"[0],[10030000],[10030300],","修改","评估监测/特殊学生上报/修改","edit","MenuType.BUTTON",{"$f":"VLOOKUP(G108,枚举!A:B,2,FALSE)","v":3},null,null,null,"exam-s.sp-stu.edit","MenuOpenType.NONE",{"$f":"VLOOKUP(M108,枚举!D:E,2,FALSE)","v":1},"true",1,0,"CommonStatus.ENABLE",1,"            new SysMenu { Id = 10030302, Pid = 10030300, Pids = \"[0],[10030000],[10030300],\", Name = \"修改\", Code = \"edit\", MenuType = MenuType.BUTTON, Icon = \"\", Router = \"\", Component = \"\", Permission = \"exam-s.sp-stu.edit\", OpenType = MenuOpenType.NONE, Visible = true, Sort = 0, Status = CommonStatus.ENABLE },","EXAM_S_SP_STU_EDIT","INSERT INTO sys_menu(id, pid, pids, `name`, `code`, menu_type, icon, router, permission, open_type, visible, sort, `status`) VALUES(10030302, 10030300, '[0],[10030000],[10030300],', '修改', 'edit', 3, '', '', 'exam-s.sp-stu.edit', 1, 1, 0, 1);"]
[10030303,10030300,"[0],[10030000],[10030300],","删除","评估监测/特殊学生上报/删除","del","MenuType.BUTTON",{"$f":"VLOOKUP(G109,枚举!A:B,2,FALSE)","v":3},null,null,null,"exam-s.sp-stu.del","MenuOpenType.NONE",{"$f":"VLOOKUP(M109,枚举!D:E,2,FALSE)","v":1},"true",1,0,"CommonStatus.ENABLE",1,"            new SysMenu { Id = 10030303, Pid = 10030300, Pids = \"[0],[10030000],[10030300],\", Name = \"删除\", Code = \"del\", MenuType = MenuType.BUTTON, Icon = \"\", Router = \"\", Component = \"\", Permission = \"exam-s.sp-stu.del\", OpenType = MenuOpenType.NONE, Visible = true, Sort = 0, Status = CommonStatus.ENABLE },","EXAM_S_SP_STU_DEL","INSERT INTO sys_menu(id, pid, pids, `name`, `code`, menu_type, icon, router, permission, open_type, visible, sort, `status`) VALUES(10030303, 10030300, '[0],[10030000],[10030300],', '删除', 'del', 3, '', '', 'exam-s.sp-stu.del', 1, 1, 0, 1);"]
[10030304,10030300,"[0],[10030000],[10030300],","提交","评估监测/特殊学生上报/提交","submit","MenuType.BUTTON",{"$f":"VLOOKUP(G110,枚举!A:B,2,FALSE)","v":3},null,null,null,"exam-s.sp-stu.submit","MenuOpenType.NONE",{"$f":"VLOOKUP(M110,枚举!D:E,2,FALSE)","v":1},"true",1,0,"CommonStatus.ENABLE",1,"            new SysMenu { Id = 10030304, Pid = 10030300, Pids = \"[0],[10030000],[10030300],\", Name = \"提交\", Code = \"submit\", MenuType = MenuType.BUTTON, Icon = \"\", Router = \"\", Component = \"\", Permission = \"exam-s.sp-stu.submit\", OpenType = MenuOpenType.NONE, Visible = true, Sort = 0, Status = CommonStatus.ENABLE },","EXAM_S_SP_STU_SUBMIT","INSERT INTO sys_menu(id, pid, pids, `name`, `code`, menu_type, icon, router, permission, open_type, visible, sort, `status`) VALUES(10030304, 10030300, '[0],[10030000],[10030300],', '提交', 'submit', 3, '', '', 'exam-s.sp-stu.submit', 1, 1, 0, 1);"]
[10030305,10030300,"[0],[10030000],[10030300],","审核","评估监测/特殊学生上报/审核","audit","MenuType.BUTTON",{"$f":"VLOOKUP(G111,枚举!A:B,2,FALSE)","v":3},null,null,null,"exam-s.sp-stu.audit","MenuOpenType.NONE",{"$f":"VLOOKUP(M111,枚举!D:E,2,FALSE)","v":1},"true",1,0,"CommonStatus.ENABLE",1,"            new SysMenu { Id = 10030305, Pid = 10030300, Pids = \"[0],[10030000],[10030300],\", Name = \"审核\", Code = \"audit\", MenuType = MenuType.BUTTON, Icon = \"\", Router = \"\", Component = \"\", Permission = \"exam-s.sp-stu.audit\", OpenType = MenuOpenType.NONE, Visible = true, Sort = 0, Status = CommonStatus.ENABLE },","EXAM_S_SP_STU_AUDIT","INSERT INTO sys_menu(id, pid, pids, `name`, `code`, menu_type, icon, router, permission, open_type, visible, sort, `status`) VALUES(10030305, 10030300, '[0],[10030000],[10030300],', '审核', 'audit', 3, '', '', 'exam-s.sp-stu.audit', 1, 1, 0, 1);"]
[10030306,10030300,"[0],[10030000],[10030300],","下载","评估监测/特殊学生上报/下载","download","MenuType.BUTTON",{"$f":"VLOOKUP(G112,枚举!A:B,2,FALSE)","v":3},null,null,null,"exam-s.sp-stu.download","MenuOpenType.NONE",{"$f":"VLOOKUP(M112,枚举!D:E,2,FALSE)","v":1},"true",1,0,"CommonStatus.ENABLE",1,"            new SysMenu { Id = 10030306, Pid = 10030300, Pids = \"[0],[10030000],[10030300],\", Name = \"下载\", Code = \"download\", MenuType = MenuType.BUTTON, Icon = \"\", Router = \"\", Component = \"\", Permission = \"exam-s.sp-stu.download\", OpenType = MenuOpenType.NONE, Visible = true, Sort = 0, Status = CommonStatus.ENABLE },",{"$f":"UPPER(SUBSTITUTE(SUBSTITUTE(L112,\"-\",\"_\"),\".\",\"_\"))","v":"EXAM_S_SP_STU_DOWNLOAD"},"INSERT INTO sys_menu(id, pid, pids, `name`, `code`, menu_type, icon, router, permission, open_type, visible, sort, `status`) VALUES(10030306, 10030300, '[0],[10030000],[10030300],', '下载', 'download', 3, '', '', 'exam-s.sp-stu.download', 1, 1, 0, 1);"]
[10030400,{"$f":"A$97","v":10030000},{"$f":"C$97&\"[\"&B113&\"],\"","v":"[0],[10030000],"},"教师信息上报",{"$f":"E$97&\"/\"&D113","v":"评估监测/教师信息上报"},"teacher","MenuType.MENU",{"$f":"VLOOKUP(G113,枚举!A:B,2,FALSE)","v":2},null,{"$f":"J$97&\"/\"&F113","v":"/exam-s/teacher"},null,null,"MenuOpenType.COMPONENT",{"$f":"VLOOKUP(M113,枚举!D:E,2,FALSE)","v":2},"true",1,40,"CommonStatus.ENABLE",1,"            new SysMenu { Id = 10030400, Pid = 10030000, Pids = \"[0],[10030000],\", Name = \"教师信息上报\", Code = \"teacher\", MenuType = MenuType.MENU, Icon = \"\", Router = \"/exam-s/teacher\", Component = \"\", Permission = \"\", OpenType = MenuOpenType.COMPONENT, Visible = true, Sort = 40, Status = CommonStatus.ENABLE },","","INSERT INTO sys_menu(id, pid, pids, `name`, `code`, menu_type, icon, router, permission, open_type, visible, sort, `status`) VALUES(10030400, 10030000, '[0],[10030000],', '教师信息上报', 'teacher', 2, '', '/exam-s/teacher', '', 2, 1, 40, 1);"]
[10030401,{"$f":"A$113","v":10030400},{"$f":"C$113&\"[\"&B114&\"],\"","v":"[0],[10030000],[10030400],"},"添加",{"$f":"E$113&\"/\"&D114","v":"评估监测/教师信息上报/添加"},"add","MenuType.BUTTON",{"$f":"VLOOKUP(G114,枚举!A:B,2,FALSE)","v":3},null,null,null,{"$f":"F$97&\".\"&F$113&\".\"&F114","v":"exam-s.teacher.add"},"MenuOpenType.NONE",{"$f":"VLOOKUP(M114,枚举!D:E,2,FALSE)","v":1},"true",1,0,"CommonStatus.ENABLE",1,"            new SysMenu { Id = 10030401, Pid = 10030400, Pids = \"[0],[10030000],[10030400],\", Name = \"添加\", Code = \"add\", MenuType = MenuType.BUTTON, Icon = \"\", Router = \"\", Component = \"\", Permission = \"exam-s.teacher.add\", OpenType = MenuOpenType.NONE, Visible = true, Sort = 0, Status = CommonStatus.ENABLE },","EXAM_S_TEACHER_ADD",{"$f":"\"INSERT INTO sys_menu(id, pid, pids, `name`, `code`, menu_type, icon, router, permission, open_type, visible, sort, `status`) VALUES(\"&A114&\", \"&B114&\", '\"&C114&\"', '\"&D114&\"', '\"&F114&\"', \"&H114&\", '\"&I114&\"', '\"&J114&\"', '\"&L114&\"', \"&N114&\", \"&P114&\", \"&Q114&\", \"&S114&\");\"","v":"INSERT INTO sys_menu(id, pid, pids, `name`, `code`, menu_type, icon, router, permission, open_type, visible, sort, `status`) VALUES(10030401, 10030400, '[0],[10030000],[10030400],', '添加', 'add', 3, '', '', 'exam-s.teacher.add', 1, 1, 0, 1);"}]
[10030402,10030400,"[0],[10030000],[10030400],","修改","评估监测/教师信息上报/修改","edit","MenuType.BUTTON",{"$f":"VLOOKUP(G115,枚举!A:B,2,FALSE)","v":3},null,null,null,"exam-s.teacher.edit","MenuOpenType.NONE",{"$f":"VLOOKUP(M115,枚举!D:E,2,FALSE)","v":1},"true",1,0,"CommonStatus.ENABLE",1,"            new SysMenu { Id = 10030402, Pid = 10030400, Pids = \"[0],[10030000],[10030400],\", Name = \"修改\", Code = \"edit\", MenuType = MenuType.BUTTON, Icon = \"\", Router = \"\", Component = \"\", Permission = \"exam-s.teacher.edit\", OpenType = MenuOpenType.NONE, Visible = true, Sort = 0, Status = CommonStatus.ENABLE },","EXAM_S_TEACHER_EDIT","INSERT INTO sys_menu(id, pid, pids, `name`, `code`, menu_type, icon, router, permission, open_type, visible, sort, `status`) VALUES(10030402, 10030400, '[0],[10030000],[10030400],', '修改', 'edit', 3, '', '', 'exam-s.teacher.edit', 1, 1, 0, 1);"]
[10030403,10030400,"[0],[10030000],[10030400],","删除","评估监测/教师信息上报/删除","del","MenuType.BUTTON",{"$f":"VLOOKUP(G116,枚举!A:B,2,FALSE)","v":3},null,null,null,"exam-s.teacher.del","MenuOpenType.NONE",{"$f":"VLOOKUP(M116,枚举!D:E,2,FALSE)","v":1},"true",1,0,"CommonStatus.ENABLE",1,"            new SysMenu { Id = 10030403, Pid = 10030400, Pids = \"[0],[10030000],[10030400],\", Name = \"删除\", Code = \"del\", MenuType = MenuType.BUTTON, Icon = \"\", Router = \"\", Component = \"\", Permission = \"exam-s.teacher.del\", OpenType = MenuOpenType.NONE, Visible = true, Sort = 0, Status = CommonStatus.ENABLE },","EXAM_S_TEACHER_DEL","INSERT INTO sys_menu(id, pid, pids, `name`, `code`, menu_type, icon, router, permission, open_type, visible, sort, `status`) VALUES(10030403, 10030400, '[0],[10030000],[10030400],', '删除', 'del', 3, '', '', 'exam-s.teacher.del', 1, 1, 0, 1);"]
[10030404,10030400,"[0],[10030000],[10030400],","提交","评估监测/教师信息上报/提交","submit","MenuType.BUTTON",{"$f":"VLOOKUP(G117,枚举!A:B,2,FALSE)","v":3},null,null,null,"exam-s.teacher.submit","MenuOpenType.NONE",{"$f":"VLOOKUP(M117,枚举!D:E,2,FALSE)","v":1},"true",1,0,"CommonStatus.ENABLE",1,"            new SysMenu { Id = 10030404, Pid = 10030400, Pids = \"[0],[10030000],[10030400],\", Name = \"提交\", Code = \"submit\", MenuType = MenuType.BUTTON, Icon = \"\", Router = \"\", Component = \"\", Permission = \"exam-s.teacher.submit\", OpenType = MenuOpenType.NONE, Visible = true, Sort = 0, Status = CommonStatus.ENABLE },","EXAM_S_TEACHER_SUBMIT","INSERT INTO sys_menu(id, pid, pids, `name`, `code`, menu_type, icon, router, permission, open_type, visible, sort, `status`) VALUES(10030404, 10030400, '[0],[10030000],[10030400],', '提交', 'submit', 3, '', '', 'exam-s.teacher.submit', 1, 1, 0, 1);"]
[10030405,10030400,"[0],[10030000],[10030400],","审核","评估监测/教师信息上报/审核","audit","MenuType.BUTTON",{"$f":"VLOOKUP(G118,枚举!A:B,2,FALSE)","v":3},null,null,null,"exam-s.teacher.audit","MenuOpenType.NONE",{"$f":"VLOOKUP(M118,枚举!D:E,2,FALSE)","v":1},"true",1,0,"CommonStatus.ENABLE",1,"            new SysMenu { Id = 10030405, Pid = 10030400, Pids = \"[0],[10030000],[10030400],\", Name = \"审核\", Code = \"audit\", MenuType = MenuType.BUTTON, Icon = \"\", Router = \"\", Component = \"\", Permission = \"exam-s.teacher.audit\", OpenType = MenuOpenType.NONE, Visible = true, Sort = 0, Status = CommonStatus.ENABLE },","EXAM_S_TEACHER_AUDIT","INSERT INTO sys_menu(id, pid, pids, `name`, `code`, menu_type, icon, router, permission, open_type, visible, sort, `status`) VALUES(10030405, 10030400, '[0],[10030000],[10030400],', '审核', 'audit', 3, '', '', 'exam-s.teacher.audit', 1, 1, 0, 1);"]
[10030406,10030400,"[0],[10030000],[10030400],","下载","评估监测/教师信息上报/下载","download","MenuType.BUTTON",{"$f":"VLOOKUP(G119,枚举!A:B,2,FALSE)","v":3},null,null,null,"exam-s.teacher.download","MenuOpenType.NONE",{"$f":"VLOOKUP(M119,枚举!D:E,2,FALSE)","v":1},"true",1,0,"CommonStatus.ENABLE",1,"            new SysMenu { Id = 10030406, Pid = 10030400, Pids = \"[0],[10030000],[10030400],\", Name = \"下载\", Code = \"download\", MenuType = MenuType.BUTTON, Icon = \"\", Router = \"\", Component = \"\", Permission = \"exam-s.teacher.download\", OpenType = MenuOpenType.NONE, Visible = true, Sort = 0, Status = CommonStatus.ENABLE },","EXAM_S_TEACHER_DOWNLOAD","INSERT INTO sys_menu(id, pid, pids, `name`, `code`, menu_type, icon, router, permission, open_type, visible, sort, `status`) VALUES(10030406, 10030400, '[0],[10030000],[10030400],', '下载', 'download', 3, '', '', 'exam-s.teacher.download', 1, 1, 0, 1);"]
[10030500,{"$f":"A$97","v":10030000},{"$f":"C$97&\"[\"&B120&\"],\"","v":"[0],[10030000],"},"教师学科上报",{"$f":"E$97&\"/\"&D120","v":"评估监测/教师学科上报"},"t-course","MenuType.MENU",{"$f":"VLOOKUP(G120,枚举!A:B,2,FALSE)","v":2},null,{"$f":"J$97&\"/\"&F120","v":"/exam-s/t-course"},null,null,"MenuOpenType.COMPONENT",{"$f":"VLOOKUP(M120,枚举!D:E,2,FALSE)","v":2},"true",1,50,"CommonStatus.ENABLE",1,{"$f":"\"            new SysMenu { Id = \"&A120&\", Pid = \"&B120&\", Pids = \"\"\"&C120&\"\"\", Name = \"\"\"&D120&\"\"\", Code = \"\"\"&F120&\"\"\", MenuType = \"&G120&\", Icon = \"\"\"&I120&\"\"\", Router = \"\"\"&J120&\"\"\", Component = \"\"\"&K120&\"\"\", Permission = \"\"\"&L120&\"\"\", OpenType = \"&M120&\", Visible = \"&O120&\", Sort = \"&Q120&\", Status = \"&R120&\" },\"","v":"            new SysMenu { Id = 10030500, Pid = 10030000, Pids = \"[0],[10030000],\", Name = \"教师学科上报\", Code = \"t-course\", MenuType = MenuType.MENU, Icon = \"\", Router = \"/exam-s/t-course\", Component = \"\", Permission = \"\", OpenType = MenuOpenType.COMPONENT, Visible = true, Sort = 50, Status = CommonStatus.ENABLE },"},{"$f":"UPPER(SUBSTITUTE(SUBSTITUTE(L120,\"-\",\"_\"),\".\",\"_\"))","v":""},"INSERT INTO sys_menu(id, pid, pids, `name`, `code`, menu_type, icon, router, permission, open_type, visible, sort, `status`) VALUES(10030500, 10030000, '[0],[10030000],', '教师学科上报', 't-course', 2, '', '/exam-s/t-course', '', 2, 1, 50, 1);"]
[10030501,{"$f":"A$120","v":10030500},{"$f":"C$120&\"[\"&B121&\"],\"","v":"[0],[10030000],[10030500],"},"添加",{"$f":"E$120&\"/\"&D121","v":"评估监测/教师学科上报/添加"},"add","MenuType.BUTTON",{"$f":"VLOOKUP(G121,枚举!A:B,2,FALSE)","v":3},null,null,null,{"$f":"F$97&\".\"&F$120&\".\"&F121","v":"exam-s.t-course.add"},"MenuOpenType.NONE",{"$f":"VLOOKUP(M121,枚举!D:E,2,FALSE)","v":1},"true",1,0,"CommonStatus.ENABLE",1,"            new SysMenu { Id = 10030501, Pid = 10030500, Pids = \"[0],[10030000],[10030500],\", Name = \"添加\", Code = \"add\", MenuType = MenuType.BUTTON, Icon = \"\", Router = \"\", Component = \"\", Permission = \"exam-s.t-course.add\", OpenType = MenuOpenType.NONE, Visible = true, Sort = 0, Status = CommonStatus.ENABLE },","EXAM_S_T_COURSE_ADD",{"$f":"\"INSERT INTO sys_menu(id, pid, pids, `name`, `code`, menu_type, icon, router, permission, open_type, visible, sort, `status`) VALUES(\"&A121&\", \"&B121&\", '\"&C121&\"', '\"&D121&\"', '\"&F121&\"', \"&H121&\", '\"&I121&\"', '\"&J121&\"', '\"&L121&\"', \"&N121&\", \"&P121&\", \"&Q121&\", \"&S121&\");\"","v":"INSERT INTO sys_menu(id, pid, pids, `name`, `code`, menu_type, icon, router, permission, open_type, visible, sort, `status`) VALUES(10030501, 10030500, '[0],[10030000],[10030500],', '添加', 'add', 3, '', '', 'exam-s.t-course.add', 1, 1, 0, 1);"}]
[10030502,10030500,"[0],[10030000],[10030500],","修改","评估监测/教师学科上报/修改","edit","MenuType.BUTTON",{"$f":"VLOOKUP(G122,枚举!A:B,2,FALSE)","v":3},null,null,null,"exam-s.t-course.edit","MenuOpenType.NONE",{"$f":"VLOOKUP(M122,枚举!D:E,2,FALSE)","v":1},"true",1,0,"CommonStatus.ENABLE",1,"            new SysMenu { Id = 10030502, Pid = 10030500, Pids = \"[0],[10030000],[10030500],\", Name = \"修改\", Code = \"edit\", MenuType = MenuType.BUTTON, Icon = \"\", Router = \"\", Component = \"\", Permission = \"exam-s.t-course.edit\", OpenType = MenuOpenType.NONE, Visible = true, Sort = 0, Status = CommonStatus.ENABLE },","EXAM_S_T_COURSE_EDIT","INSERT INTO sys_menu(id, pid, pids, `name`, `code`, menu_type, icon, router, permission, open_type, visible, sort, `status`) VALUES(10030502, 10030500, '[0],[10030000],[10030500],', '修改', 'edit', 3, '', '', 'exam-s.t-course.edit', 1, 1, 0, 1);"]
[10030503,10030500,"[0],[10030000],[10030500],","删除","评估监测/教师学科上报/删除","del","MenuType.BUTTON",{"$f":"VLOOKUP(G123,枚举!A:B,2,FALSE)","v":3},null,null,null,"exam-s.t-course.del","MenuOpenType.NONE",{"$f":"VLOOKUP(M123,枚举!D:E,2,FALSE)","v":1},"true",1,0,"CommonStatus.ENABLE",1,"            new SysMenu { Id = 10030503, Pid = 10030500, Pids = \"[0],[10030000],[10030500],\", Name = \"删除\", Code = \"del\", MenuType = MenuType.BUTTON, Icon = \"\", Router = \"\", Component = \"\", Permission = \"exam-s.t-course.del\", OpenType = MenuOpenType.NONE, Visible = true, Sort = 0, Status = CommonStatus.ENABLE },","EXAM_S_T_COURSE_DEL","INSERT INTO sys_menu(id, pid, pids, `name`, `code`, menu_type, icon, router, permission, open_type, visible, sort, `status`) VALUES(10030503, 10030500, '[0],[10030000],[10030500],', '删除', 'del', 3, '', '', 'exam-s.t-course.del', 1, 1, 0, 1);"]
[10030504,10030500,"[0],[10030000],[10030500],","提交","评估监测/教师学科上报/提交","submit","MenuType.BUTTON",{"$f":"VLOOKUP(G124,枚举!A:B,2,FALSE)","v":3},null,null,null,"exam-s.t-course.submit","MenuOpenType.NONE",{"$f":"VLOOKUP(M124,枚举!D:E,2,FALSE)","v":1},"true",1,0,"CommonStatus.ENABLE",1,"            new SysMenu { Id = 10030504, Pid = 10030500, Pids = \"[0],[10030000],[10030500],\", Name = \"提交\", Code = \"submit\", MenuType = MenuType.BUTTON, Icon = \"\", Router = \"\", Component = \"\", Permission = \"exam-s.t-course.submit\", OpenType = MenuOpenType.NONE, Visible = true, Sort = 0, Status = CommonStatus.ENABLE },","EXAM_S_T_COURSE_SUBMIT","INSERT INTO sys_menu(id, pid, pids, `name`, `code`, menu_type, icon, router, permission, open_type, visible, sort, `status`) VALUES(10030504, 10030500, '[0],[10030000],[10030500],', '提交', 'submit', 3, '', '', 'exam-s.t-course.submit', 1, 1, 0, 1);"]
[10030505,10030500,"[0],[10030000],[10030500],","审核","评估监测/教师学科上报/审核","audit","MenuType.BUTTON",{"$f":"VLOOKUP(G125,枚举!A:B,2,FALSE)","v":3},null,null,null,"exam-s.t-course.audit","MenuOpenType.NONE",{"$f":"VLOOKUP(M125,枚举!D:E,2,FALSE)","v":1},"true",1,0,"CommonStatus.ENABLE",1,"            new SysMenu { Id = 10030505, Pid = 10030500, Pids = \"[0],[10030000],[10030500],\", Name = \"审核\", Code = \"audit\", MenuType = MenuType.BUTTON, Icon = \"\", Router = \"\", Component = \"\", Permission = \"exam-s.t-course.audit\", OpenType = MenuOpenType.NONE, Visible = true, Sort = 0, Status = CommonStatus.ENABLE },","EXAM_S_T_COURSE_AUDIT","INSERT INTO sys_menu(id, pid, pids, `name`, `code`, menu_type, icon, router, permission, open_type, visible, sort, `status`) VALUES(10030505, 10030500, '[0],[10030000],[10030500],', '审核', 'audit', 3, '', '', 'exam-s.t-course.audit', 1, 1, 0, 1);"]
[10030506,10030500,"[0],[10030000],[10030500],","下载","评估监测/教师学科上报/下载","download","MenuType.BUTTON",{"$f":"VLOOKUP(G126,枚举!A:B,2,FALSE)","v":3},null,null,null,"exam-s.t-course.download","MenuOpenType.NONE",{"$f":"VLOOKUP(M126,枚举!D:E,2,FALSE)","v":1},"true",1,0,"CommonStatus.ENABLE",1,"            new SysMenu { Id = 10030506, Pid = 10030500, Pids = \"[0],[10030000],[10030500],\", Name = \"下载\", Code = \"download\", MenuType = MenuType.BUTTON, Icon = \"\", Router = \"\", Component = \"\", Permission = \"exam-s.t-course.download\", OpenType = MenuOpenType.NONE, Visible = true, Sort = 0, Status = CommonStatus.ENABLE },","EXAM_S_T_COURSE_DOWNLOAD","INSERT INTO sys_menu(id, pid, pids, `name`, `code`, menu_type, icon, router, permission, open_type, visible, sort, `status`) VALUES(10030506, 10030500, '[0],[10030000],[10030500],', '下载', 'download', 3, '', '', 'exam-s.t-course.download', 1, 1, 0, 1);"]
[10030600,{"$f":"A$97","v":10030000},{"$f":"C$97&\"[\"&B127&\"],\"","v":"[0],[10030000],"},"缺测替补上报",{"$f":"E$97&\"/\"&D127","v":"评估监测/缺测替补上报"},"absent","MenuType.MENU",{"$f":"VLOOKUP(G127,枚举!A:B,2,FALSE)","v":2},null,{"$f":"J$97&\"/\"&F127","v":"/exam-s/absent"},null,null,"MenuOpenType.COMPONENT",{"$f":"VLOOKUP(M127,枚举!D:E,2,FALSE)","v":2},"true",1,60,"CommonStatus.ENABLE",1,{"$f":"\"            new SysMenu { Id = \"&A127&\", Pid = \"&B127&\", Pids = \"\"\"&C127&\"\"\", Name = \"\"\"&D127&\"\"\", Code = \"\"\"&F127&\"\"\", MenuType = \"&G127&\", Icon = \"\"\"&I127&\"\"\", Router = \"\"\"&J127&\"\"\", Component = \"\"\"&K127&\"\"\", Permission = \"\"\"&L127&\"\"\", OpenType = \"&M127&\", Visible = \"&O127&\", Sort = \"&Q127&\", Status = \"&R127&\" },\"","v":"            new SysMenu { Id = 10030600, Pid = 10030000, Pids = \"[0],[10030000],\", Name = \"缺测替补上报\", Code = \"absent\", MenuType = MenuType.MENU, Icon = \"\", Router = \"/exam-s/absent\", Component = \"\", Permission = \"\", OpenType = MenuOpenType.COMPONENT, Visible = true, Sort = 60, Status = CommonStatus.ENABLE },"},{"$f":"UPPER(SUBSTITUTE(SUBSTITUTE(L127,\"-\",\"_\"),\".\",\"_\"))","v":""},"INSERT INTO sys_menu(id, pid, pids, `name`, `code`, menu_type, icon, router, permission, open_type, visible, sort, `status`) VALUES(10030600, 10030000, '[0],[10030000],', '缺测替补上报', 'absent', 2, '', '/exam-s/absent', '', 2, 1, 60, 1);"]
[10030601,{"$f":"A$127","v":10030600},{"$f":"C$127&\"[\"&B128&\"],\"","v":"[0],[10030000],[10030600],"},"添加",{"$f":"E$127&\"/\"&D128","v":"评估监测/缺测替补上报/添加"},"add","MenuType.BUTTON",{"$f":"VLOOKUP(G128,枚举!A:B,2,FALSE)","v":3},null,null,null,{"$f":"F$97&\".\"&F$127&\".\"&F128","v":"exam-s.absent.add"},"MenuOpenType.NONE",{"$f":"VLOOKUP(M128,枚举!D:E,2,FALSE)","v":1},"true",1,0,"CommonStatus.ENABLE",1,"            new SysMenu { Id = 10030601, Pid = 10030600, Pids = \"[0],[10030000],[10030600],\", Name = \"添加\", Code = \"add\", MenuType = MenuType.BUTTON, Icon = \"\", Router = \"\", Component = \"\", Permission = \"exam-s.absent.add\", OpenType = MenuOpenType.NONE, Visible = true, Sort = 0, Status = CommonStatus.ENABLE },","EXAM_S_ABSENT_ADD",{"$f":"\"INSERT INTO sys_menu(id, pid, pids, `name`, `code`, menu_type, icon, router, permission, open_type, visible, sort, `status`) VALUES(\"&A128&\", \"&B128&\", '\"&C128&\"', '\"&D128&\"', '\"&F128&\"', \"&H128&\", '\"&I128&\"', '\"&J128&\"', '\"&L128&\"', \"&N128&\", \"&P128&\", \"&Q128&\", \"&S128&\");\"","v":"INSERT INTO sys_menu(id, pid, pids, `name`, `code`, menu_type, icon, router, permission, open_type, visible, sort, `status`) VALUES(10030601, 10030600, '[0],[10030000],[10030600],', '添加', 'add', 3, '', '', 'exam-s.absent.add', 1, 1, 0, 1);"}]
[10030602,10030600,"[0],[10030000],[10030600],","修改","评估监测/缺测替补上报/修改","edit","MenuType.BUTTON",{"$f":"VLOOKUP(G129,枚举!A:B,2,FALSE)","v":3},null,null,null,"exam-s.absent.edit","MenuOpenType.NONE",{"$f":"VLOOKUP(M129,枚举!D:E,2,FALSE)","v":1},"true",1,0,"CommonStatus.ENABLE",1,"            new SysMenu { Id = 10030602, Pid = 10030600, Pids = \"[0],[10030000],[10030600],\", Name = \"修改\", Code = \"edit\", MenuType = MenuType.BUTTON, Icon = \"\", Router = \"\", Component = \"\", Permission = \"exam-s.absent.edit\", OpenType = MenuOpenType.NONE, Visible = true, Sort = 0, Status = CommonStatus.ENABLE },","EXAM_S_ABSENT_EDIT","INSERT INTO sys_menu(id, pid, pids, `name`, `code`, menu_type, icon, router, permission, open_type, visible, sort, `status`) VALUES(10030602, 10030600, '[0],[10030000],[10030600],', '修改', 'edit', 3, '', '', 'exam-s.absent.edit', 1, 1, 0, 1);"]
[10030603,10030600,"[0],[10030000],[10030600],","删除","评估监测/缺测替补上报/删除","del","MenuType.BUTTON",{"$f":"VLOOKUP(G130,枚举!A:B,2,FALSE)","v":3},null,null,null,"exam-s.absent.del","MenuOpenType.NONE",{"$f":"VLOOKUP(M130,枚举!D:E,2,FALSE)","v":1},"true",1,0,"CommonStatus.ENABLE",1,"            new SysMenu { Id = 10030603, Pid = 10030600, Pids = \"[0],[10030000],[10030600],\", Name = \"删除\", Code = \"del\", MenuType = MenuType.BUTTON, Icon = \"\", Router = \"\", Component = \"\", Permission = \"exam-s.absent.del\", OpenType = MenuOpenType.NONE, Visible = true, Sort = 0, Status = CommonStatus.ENABLE },","EXAM_S_ABSENT_DEL","INSERT INTO sys_menu(id, pid, pids, `name`, `code`, menu_type, icon, router, permission, open_type, visible, sort, `status`) VALUES(10030603, 10030600, '[0],[10030000],[10030600],', '删除', 'del', 3, '', '', 'exam-s.absent.del', 1, 1, 0, 1);"]
[10030604,10030600,"[0],[10030000],[10030600],","提交","评估监测/缺测替补上报/提交","submit","MenuType.BUTTON",{"$f":"VLOOKUP(G131,枚举!A:B,2,FALSE)","v":3},null,null,null,"exam-s.absent.submit","MenuOpenType.NONE",{"$f":"VLOOKUP(M131,枚举!D:E,2,FALSE)","v":1},"true",1,0,"CommonStatus.ENABLE",1,"            new SysMenu { Id = 10030604, Pid = 10030600, Pids = \"[0],[10030000],[10030600],\", Name = \"提交\", Code = \"submit\", MenuType = MenuType.BUTTON, Icon = \"\", Router = \"\", Component = \"\", Permission = \"exam-s.absent.submit\", OpenType = MenuOpenType.NONE, Visible = true, Sort = 0, Status = CommonStatus.ENABLE },","EXAM_S_ABSENT_SUBMIT","INSERT INTO sys_menu(id, pid, pids, `name`, `code`, menu_type, icon, router, permission, open_type, visible, sort, `status`) VALUES(10030604, 10030600, '[0],[10030000],[10030600],', '提交', 'submit', 3, '', '', 'exam-s.absent.submit', 1, 1, 0, 1);"]
[10030605,10030600,"[0],[10030000],[10030600],","审核","评估监测/缺测替补上报/审核","audit","MenuType.BUTTON",{"$f":"VLOOKUP(G132,枚举!A:B,2,FALSE)","v":3},null,null,null,"exam-s.absent.audit","MenuOpenType.NONE",{"$f":"VLOOKUP(M132,枚举!D:E,2,FALSE)","v":1},"true",1,0,"CommonStatus.ENABLE",1,"            new SysMenu { Id = 10030605, Pid = 10030600, Pids = \"[0],[10030000],[10030600],\", Name = \"审核\", Code = \"audit\", MenuType = MenuType.BUTTON, Icon = \"\", Router = \"\", Component = \"\", Permission = \"exam-s.absent.audit\", OpenType = MenuOpenType.NONE, Visible = true, Sort = 0, Status = CommonStatus.ENABLE },","EXAM_S_ABSENT_AUDIT","INSERT INTO sys_menu(id, pid, pids, `name`, `code`, menu_type, icon, router, permission, open_type, visible, sort, `status`) VALUES(10030605, 10030600, '[0],[10030000],[10030600],', '审核', 'audit', 3, '', '', 'exam-s.absent.audit', 1, 1, 0, 1);"]
[10030606,10030600,"[0],[10030000],[10030600],","下载","评估监测/缺测替补上报/下载","download","MenuType.BUTTON",{"$f":"VLOOKUP(G133,枚举!A:B,2,FALSE)","v":3},null,null,null,"exam-s.absent.download","MenuOpenType.NONE",{"$f":"VLOOKUP(M133,枚举!D:E,2,FALSE)","v":1},"true",1,0,"CommonStatus.ENABLE",1,{"$f":"\"            new SysMenu { Id = \"&A133&\", Pid = \"&B133&\", Pids = \"\"\"&C133&\"\"\", Name = \"\"\"&D133&\"\"\", Code = \"\"\"&F133&\"\"\", MenuType = \"&G133&\", Icon = \"\"\"&I133&\"\"\", Router = \"\"\"&J133&\"\"\", Component = \"\"\"&K133&\"\"\", Permission = \"\"\"&L133&\"\"\", OpenType = \"&M133&\", Visible = \"&O133&\", Sort = \"&Q133&\", Status = \"&R133&\" },\"","v":"            new SysMenu { Id = 10030606, Pid = 10030600, Pids = \"[0],[10030000],[10030600],\", Name = \"下载\", Code = \"download\", MenuType = MenuType.BUTTON, Icon = \"\", Router = \"\", Component = \"\", Permission = \"exam-s.absent.download\", OpenType = MenuOpenType.NONE, Visible = true, Sort = 0, Status = CommonStatus.ENABLE },"},{"$f":"UPPER(SUBSTITUTE(SUBSTITUTE(L133,\"-\",\"_\"),\".\",\"_\"))","v":"EXAM_S_ABSENT_DOWNLOAD"},"INSERT INTO sys_menu(id, pid, pids, `name`, `code`, menu_type, icon, router, permission, open_type, visible, sort, `status`) VALUES(10030606, 10030600, '[0],[10030000],[10030600],', '下载', 'download', 3, '', '', 'exam-s.absent.download', 1, 1, 0, 1);"]
[10030700,{"$f":"A$97","v":10030000},{"$f":"C$97&\"[\"&B134&\"],\"","v":"[0],[10030000],"},"校考成绩上报",{"$f":"E$97&\"/\"&D134","v":"评估监测/校考成绩上报"},"school-exam-score","MenuType.MENU",{"$f":"VLOOKUP(G134,枚举!A:B,2,FALSE)","v":2},null,{"$f":"J$97&\"/\"&F134","v":"/exam-s/school-exam-score"},null,null,"MenuOpenType.COMPONENT",{"$f":"VLOOKUP(M134,枚举!D:E,2,FALSE)","v":2},"true",1,70,"CommonStatus.ENABLE",1,"            new SysMenu { Id = 10030700, Pid = 10030000, Pids = \"[0],[10030000],\", Name = \"校考成绩上报\", Code = \"school-exam-score\", MenuType = MenuType.MENU, Icon = \"\", Router = \"/exam-s/school-exam-score\", Component = \"\", Permission = \"\", OpenType = MenuOpenType.COMPONENT, Visible = true, Sort = 70, Status = CommonStatus.ENABLE },","","INSERT INTO sys_menu(id, pid, pids, `name`, `code`, menu_type, icon, router, permission, open_type, visible, sort, `status`) VALUES(10030700, 10030000, '[0],[10030000],', '校考成绩上报', 'school-exam-score', 2, '', '/exam-s/school-exam-score', '', 2, 1, 70, 1);"]
[10030701,{"$f":"A$134","v":10030700},{"$f":"C$134&\"[\"&B135&\"],\"","v":"[0],[10030000],[10030700],"},"添加",{"$f":"E$134&\"/\"&D135","v":"评估监测/校考成绩上报/添加"},"add","MenuType.BUTTON",{"$f":"VLOOKUP(G135,枚举!A:B,2,FALSE)","v":3},null,null,null,{"$f":"F$97&\".\"&F$134&\".\"&F135","v":"exam-s.school-exam-score.add"},"MenuOpenType.NONE",1,"true",1,0,"CommonStatus.ENABLE",1,"            new SysMenu { Id = 10030701, Pid = 10030700, Pids = \"[0],[10030000],[10030700],\", Name = \"添加\", Code = \"add\", MenuType = MenuType.BUTTON, Icon = \"\", Router = \"\", Component = \"\", Permission = \"exam-s.school-exam-score.add\", OpenType = MenuOpenType.NONE, Visible = true, Sort = 0, Status = CommonStatus.ENABLE },","EXAM_S_SCHOOL_EXAM_SCORE_ADD",{"$f":"\"INSERT INTO sys_menu(id, pid, pids, `name`, `code`, menu_type, icon, router, permission, open_type, visible, sort, `status`) VALUES(\"&A135&\", \"&B135&\", '\"&C135&\"', '\"&D135&\"', '\"&F135&\"', \"&H135&\", '\"&I135&\"', '\"&J135&\"', '\"&L135&\"', \"&N135&\", \"&P135&\", \"&Q135&\", \"&S135&\");\"","v":"INSERT INTO sys_menu(id, pid, pids, `name`, `code`, menu_type, icon, router, permission, open_type, visible, sort, `status`) VALUES(10030701, 10030700, '[0],[10030000],[10030700],', '添加', 'add', 3, '', '', 'exam-s.school-exam-score.add', 1, 1, 0, 1);"}]
[10030702,10030700,"[0],[10030000],[10030700],","修改","评估监测/校考成绩上报/修改","edit","MenuType.BUTTON",{"$f":"VLOOKUP(G136,枚举!A:B,2,FALSE)","v":3},null,null,null,"exam-s.school-exam-score.edit","MenuOpenType.NONE",1,"true",1,0,"CommonStatus.ENABLE",1,"            new SysMenu { Id = 10030702, Pid = 10030700, Pids = \"[0],[10030000],[10030700],\", Name = \"修改\", Code = \"edit\", MenuType = MenuType.BUTTON, Icon = \"\", Router = \"\", Component = \"\", Permission = \"exam-s.school-exam-score.edit\", OpenType = MenuOpenType.NONE, Visible = true, Sort = 0, Status = CommonStatus.ENABLE },","EXAM_S_SCHOOL_EXAM_SCORE_EDIT","INSERT INTO sys_menu(id, pid, pids, `name`, `code`, menu_type, icon, router, permission, open_type, visible, sort, `status`) VALUES(10030702, 10030700, '[0],[10030000],[10030700],', '修改', 'edit', 3, '', '', 'exam-s.school-exam-score.edit', 1, 1, 0, 1);"]
[10030703,10030700,"[0],[10030000],[10030700],","删除","评估监测/校考成绩上报/删除","del","MenuType.BUTTON",{"$f":"VLOOKUP(G137,枚举!A:B,2,FALSE)","v":3},null,null,null,"exam-s.school-exam-score.del","MenuOpenType.NONE",1,"true",1,0,"CommonStatus.ENABLE",1,"            new SysMenu { Id = 10030703, Pid = 10030700, Pids = \"[0],[10030000],[10030700],\", Name = \"删除\", Code = \"del\", MenuType = MenuType.BUTTON, Icon = \"\", Router = \"\", Component = \"\", Permission = \"exam-s.school-exam-score.del\", OpenType = MenuOpenType.NONE, Visible = true, Sort = 0, Status = CommonStatus.ENABLE },","EXAM_S_SCHOOL_EXAM_SCORE_DEL","INSERT INTO sys_menu(id, pid, pids, `name`, `code`, menu_type, icon, router, permission, open_type, visible, sort, `status`) VALUES(10030703, 10030700, '[0],[10030000],[10030700],', '删除', 'del', 3, '', '', 'exam-s.school-exam-score.del', 1, 1, 0, 1);"]
[10030704,10030700,"[0],[10030000],[10030700],","提交","评估监测/校考成绩上报/提交","submit","MenuType.BUTTON",{"$f":"VLOOKUP(G138,枚举!A:B,2,FALSE)","v":3},null,null,null,"exam-s.school-exam-score.submit","MenuOpenType.NONE",1,"true",1,0,"CommonStatus.ENABLE",1,"            new SysMenu { Id = 10030704, Pid = 10030700, Pids = \"[0],[10030000],[10030700],\", Name = \"提交\", Code = \"submit\", MenuType = MenuType.BUTTON, Icon = \"\", Router = \"\", Component = \"\", Permission = \"exam-s.school-exam-score.submit\", OpenType = MenuOpenType.NONE, Visible = true, Sort = 0, Status = CommonStatus.ENABLE },","EXAM_S_SCHOOL_EXAM_SCORE_SUBMIT","INSERT INTO sys_menu(id, pid, pids, `name`, `code`, menu_type, icon, router, permission, open_type, visible, sort, `status`) VALUES(10030704, 10030700, '[0],[10030000],[10030700],', '提交', 'submit', 3, '', '', 'exam-s.school-exam-score.submit', 1, 1, 0, 1);"]
[10030705,10030700,"[0],[10030000],[10030700],","审核","评估监测/校考成绩上报/审核","audit","MenuType.BUTTON",{"$f":"VLOOKUP(G139,枚举!A:B,2,FALSE)","v":3},null,null,null,"exam-s.school-exam-score.audit","MenuOpenType.NONE",1,"true",1,0,"CommonStatus.ENABLE",1,"            new SysMenu { Id = 10030705, Pid = 10030700, Pids = \"[0],[10030000],[10030700],\", Name = \"审核\", Code = \"audit\", MenuType = MenuType.BUTTON, Icon = \"\", Router = \"\", Component = \"\", Permission = \"exam-s.school-exam-score.audit\", OpenType = MenuOpenType.NONE, Visible = true, Sort = 0, Status = CommonStatus.ENABLE },","EXAM_S_SCHOOL_EXAM_SCORE_AUDIT","INSERT INTO sys_menu(id, pid, pids, `name`, `code`, menu_type, icon, router, permission, open_type, visible, sort, `status`) VALUES(10030705, 10030700, '[0],[10030000],[10030700],', '审核', 'audit', 3, '', '', 'exam-s.school-exam-score.audit', 1, 1, 0, 1);"]
[10030706,10030700,"[0],[10030000],[10030700],","下载","评估监测/校考成绩上报/下载","download","MenuType.BUTTON",{"$f":"VLOOKUP(G140,枚举!A:B,2,FALSE)","v":3},null,null,null,"exam-s.school-exam-score.download","MenuOpenType.NONE",1,"true",1,0,"CommonStatus.ENABLE",1,"            new SysMenu { Id = 10030706, Pid = 10030700, Pids = \"[0],[10030000],[10030700],\", Name = \"下载\", Code = \"download\", MenuType = MenuType.BUTTON, Icon = \"\", Router = \"\", Component = \"\", Permission = \"exam-s.school-exam-score.download\", OpenType = MenuOpenType.NONE, Visible = true, Sort = 0, Status = CommonStatus.ENABLE },","EXAM_S_SCHOOL_EXAM_SCORE_DOWNLOAD","INSERT INTO sys_menu(id, pid, pids, `name`, `code`, menu_type, icon, router, permission, open_type, visible, sort, `status`) VALUES(10030706, 10030700, '[0],[10030000],[10030700],', '下载', 'download', 3, '', '', 'exam-s.school-exam-score.download', 1, 1, 0, 1);"]
[10030800,{"$f":"A$97","v":10030000},{"$f":"C$97&\"[\"&B141&\"],\"","v":"[0],[10030000],"},"缺测替补抽取",{"$f":"E$97&\"/\"&D141","v":"评估监测/缺测替补抽取"},"replace","MenuType.MENU",{"$f":"VLOOKUP(G141,枚举!A:B,2,FALSE)","v":2},null,{"$f":"J$97&\"/\"&F141","v":"/exam-s/replace"},null,null,"MenuOpenType.COMPONENT",{"$f":"VLOOKUP(M141,枚举!D:E,2,FALSE)","v":2},"true",1,80,"CommonStatus.ENABLE",1,"            new SysMenu { Id = 10030800, Pid = 10030000, Pids = \"[0],[10030000],\", Name = \"缺测替补抽取\", Code = \"replace\", MenuType = MenuType.MENU, Icon = \"\", Router = \"/exam-s/replace\", Component = \"\", Permission = \"\", OpenType = MenuOpenType.COMPONENT, Visible = true, Sort = 80, Status = CommonStatus.ENABLE },","","INSERT INTO sys_menu(id, pid, pids, `name`, `code`, menu_type, icon, router, permission, open_type, visible, sort, `status`) VALUES(10030800, 10030000, '[0],[10030000],', '缺测替补抽取', 'replace', 2, '', '/exam-s/replace', '', 2, 1, 80, 1);"]
[10030801,{"$f":"A$141","v":10030800},{"$f":"C$141&\"[\"&B142&\"],\"","v":"[0],[10030000],[10030800],"},"添加",{"$f":"E$141&\"/\"&D142","v":"评估监测/缺测替补抽取/添加"},"add","MenuType.BUTTON",{"$f":"VLOOKUP(G142,枚举!A:B,2,FALSE)","v":3},null,null,null,{"$f":"F$97&\".\"&F$141&\".\"&F142","v":"exam-s.replace.add"},"MenuOpenType.NONE",1,"true",1,0,"CommonStatus.ENABLE",1,"            new SysMenu { Id = 10030801, Pid = 10030800, Pids = \"[0],[10030000],[10030800],\", Name = \"添加\", Code = \"add\", MenuType = MenuType.BUTTON, Icon = \"\", Router = \"\", Component = \"\", Permission = \"exam-s.replace.add\", OpenType = MenuOpenType.NONE, Visible = true, Sort = 0, Status = CommonStatus.ENABLE },","EXAM_S_REPLACE_ADD","INSERT INTO sys_menu(id, pid, pids, `name`, `code`, menu_type, icon, router, permission, open_type, visible, sort, `status`) VALUES(10030801, 10030800, '[0],[10030000],[10030800],', '添加', 'add', 3, '', '', 'exam-s.replace.add', 1, 1, 0, 1);"]
[10030802,10030800,"[0],[10030000],[10030800],","修改","评估监测/缺测替补抽取/修改","edit","MenuType.BUTTON",{"$f":"VLOOKUP(G143,枚举!A:B,2,FALSE)","v":3},null,null,null,"exam-s.replace.edit","MenuOpenType.NONE",1,"true",1,0,"CommonStatus.ENABLE",1,"            new SysMenu { Id = 10030802, Pid = 10030800, Pids = \"[0],[10030000],[10030800],\", Name = \"修改\", Code = \"edit\", MenuType = MenuType.BUTTON, Icon = \"\", Router = \"\", Component = \"\", Permission = \"exam-s.replace.edit\", OpenType = MenuOpenType.NONE, Visible = true, Sort = 0, Status = CommonStatus.ENABLE },","EXAM_S_REPLACE_EDIT","INSERT INTO sys_menu(id, pid, pids, `name`, `code`, menu_type, icon, router, permission, open_type, visible, sort, `status`) VALUES(10030802, 10030800, '[0],[10030000],[10030800],', '修改', 'edit', 3, '', '', 'exam-s.replace.edit', 1, 1, 0, 1);"]
[10030803,10030800,"[0],[10030000],[10030800],","删除","评估监测/缺测替补抽取/删除","del","MenuType.BUTTON",{"$f":"VLOOKUP(G144,枚举!A:B,2,FALSE)","v":3},null,null,null,"exam-s.replace.del","MenuOpenType.NONE",1,"true",1,0,"CommonStatus.ENABLE",1,"            new SysMenu { Id = 10030803, Pid = 10030800, Pids = \"[0],[10030000],[10030800],\", Name = \"删除\", Code = \"del\", MenuType = MenuType.BUTTON, Icon = \"\", Router = \"\", Component = \"\", Permission = \"exam-s.replace.del\", OpenType = MenuOpenType.NONE, Visible = true, Sort = 0, Status = CommonStatus.ENABLE },","EXAM_S_REPLACE_DEL","INSERT INTO sys_menu(id, pid, pids, `name`, `code`, menu_type, icon, router, permission, open_type, visible, sort, `status`) VALUES(10030803, 10030800, '[0],[10030000],[10030800],', '删除', 'del', 3, '', '', 'exam-s.replace.del', 1, 1, 0, 1);"]
[10030804,10030800,"[0],[10030000],[10030800],","提交","评估监测/缺测替补抽取/提交","submit","MenuType.BUTTON",{"$f":"VLOOKUP(G145,枚举!A:B,2,FALSE)","v":3},null,null,null,"exam-s.replace.submit","MenuOpenType.NONE",1,"true",1,0,"CommonStatus.ENABLE",1,"            new SysMenu { Id = 10030804, Pid = 10030800, Pids = \"[0],[10030000],[10030800],\", Name = \"提交\", Code = \"submit\", MenuType = MenuType.BUTTON, Icon = \"\", Router = \"\", Component = \"\", Permission = \"exam-s.replace.submit\", OpenType = MenuOpenType.NONE, Visible = true, Sort = 0, Status = CommonStatus.ENABLE },","EXAM_S_REPLACE_SUBMIT","INSERT INTO sys_menu(id, pid, pids, `name`, `code`, menu_type, icon, router, permission, open_type, visible, sort, `status`) VALUES(10030804, 10030800, '[0],[10030000],[10030800],', '提交', 'submit', 3, '', '', 'exam-s.replace.submit', 1, 1, 0, 1);"]
[10030805,10030800,"[0],[10030000],[10030800],","审核","评估监测/缺测替补抽取/审核","audit","MenuType.BUTTON",{"$f":"VLOOKUP(G146,枚举!A:B,2,FALSE)","v":3},null,null,null,"exam-s.replace.audit","MenuOpenType.NONE",1,"true",1,0,"CommonStatus.ENABLE",1,"            new SysMenu { Id = 10030805, Pid = 10030800, Pids = \"[0],[10030000],[10030800],\", Name = \"审核\", Code = \"audit\", MenuType = MenuType.BUTTON, Icon = \"\", Router = \"\", Component = \"\", Permission = \"exam-s.replace.audit\", OpenType = MenuOpenType.NONE, Visible = true, Sort = 0, Status = CommonStatus.ENABLE },","EXAM_S_REPLACE_AUDIT","INSERT INTO sys_menu(id, pid, pids, `name`, `code`, menu_type, icon, router, permission, open_type, visible, sort, `status`) VALUES(10030805, 10030800, '[0],[10030000],[10030800],', '审核', 'audit', 3, '', '', 'exam-s.replace.audit', 1, 1, 0, 1);"]
[10030806,10030800,"[0],[10030000],[10030800],","下载","评估监测/缺测替补抽取/下载","download","MenuType.BUTTON",{"$f":"VLOOKUP(G147,枚举!A:B,2,FALSE)","v":3},null,null,null,"exam-s.replace.download","MenuOpenType.NONE",1,"true",1,0,"CommonStatus.ENABLE",1,"            new SysMenu { Id = 10030806, Pid = 10030800, Pids = \"[0],[10030000],[10030800],\", Name = \"下载\", Code = \"download\", MenuType = MenuType.BUTTON, Icon = \"\", Router = \"\", Component = \"\", Permission = \"exam-s.replace.download\", OpenType = MenuOpenType.NONE, Visible = true, Sort = 0, Status = CommonStatus.ENABLE },","EXAM_S_REPLACE_DOWNLOAD","INSERT INTO sys_menu(id, pid, pids, `name`, `code`, menu_type, icon, router, permission, open_type, visible, sort, `status`) VALUES(10030806, 10030800, '[0],[10030000],[10030800],', '下载', 'download', 3, '', '', 'exam-s.replace.download', 1, 1, 0, 1);"]
[]
[]
[10700000,0,{"$f":"\"[\"&B150&\"],\"","v":"[0],"},"高中分析",{"$f":"D150","v":"高中分析"},"ncee","MenuType.FOLDER",{"$f":"VLOOKUP(G150,枚举!A:B,2,FALSE)","v":1},"box",{"$f":"\"/\"&F150","v":"/ncee"},null,null,"MenuOpenType.NONE",{"$f":"VLOOKUP(M150,枚举!D:E,2,FALSE)","v":1},"true",1,{"$f":"A150","v":10700000},"CommonStatus.ENABLE",1,{"$f":"\"            new SysMenu { Id = \"&A150&\", Pid = \"&B150&\", Pids = \"\"\"&C150&\"\"\", Name = \"\"\"&D150&\"\"\", Code = \"\"\"&F150&\"\"\", MenuType = \"&G150&\", Icon = \"\"\"&I150&\"\"\", Router = \"\"\"&J150&\"\"\", Component = \"\"\"&K150&\"\"\", Permission = \"\"\"&L150&\"\"\", OpenType = \"&M150&\", Visible = \"&O150&\", Sort = \"&Q150&\", Status = \"&R150&\" },\"","v":"            new SysMenu { Id = 10700000, Pid = 0, Pids = \"[0],\", Name = \"高中分析\", Code = \"ncee\", MenuType = MenuType.FOLDER, Icon = \"box\", Router = \"/ncee\", Component = \"\", Permission = \"\", OpenType = MenuOpenType.NONE, Visible = true, Sort = 10700000, Status = CommonStatus.ENABLE },"},{"$f":"UPPER(SUBSTITUTE(SUBSTITUTE(L150,\"-\",\"_\"),\".\",\"_\"))","v":""},{"$f":"\"INSERT INTO sys_menu(id, pid, pids, `name`, `code`, menu_type, icon, router, permission, open_type, visible, sort, `status`) VALUES(\"&A150&\", \"&B150&\", '\"&C150&\"', '\"&D150&\"', '\"&F150&\"', \"&H150&\", '\"&I150&\"', '\"&J150&\"', '\"&L150&\"', \"&N150&\", \"&P150&\", \"&Q150&\", \"&S150&\");\"","v":"INSERT INTO sys_menu(id, pid, pids, `name`, `code`, menu_type, icon, router, permission, open_type, visible, sort, `status`) VALUES(10700000, 0, '[0],', '高中分析', 'ncee', 1, 'box', '/ncee', '', 1, 1, 10700000, 1);"}]
[10700100,{"$f":"A$150","v":10700000},{"$f":"C$150&\"[\"&B151&\"],\"","v":"[0],[10700000],"},"分析计划",{"$f":"E$150&\"/\"&D151","v":"高中分析/分析计划"},"plan","MenuType.MENU",{"$f":"VLOOKUP(G151,枚举!A:B,2,FALSE)","v":2},null,{"$f":"J$150&\"/\"&F151","v":"/ncee/plan"},null,null,"MenuOpenType.COMPONENT",{"$f":"VLOOKUP(M151,枚举!D:E,2,FALSE)","v":2},"true",1,10,"CommonStatus.ENABLE",1,"            new SysMenu { Id = 10700100, Pid = 10700000, Pids = \"[0],[10700000],\", Name = \"分析计划\", Code = \"plan\", MenuType = MenuType.MENU, Icon = \"\", Router = \"/ncee/plan\", Component = \"\", Permission = \"\", OpenType = MenuOpenType.COMPONENT, Visible = true, Sort = 10, Status = CommonStatus.ENABLE },","",{"$f":"\"INSERT INTO sys_menu(id, pid, pids, `name`, `code`, menu_type, icon, router, permission, open_type, visible, sort, `status`) VALUES(\"&A151&\", \"&B151&\", '\"&C151&\"', '\"&D151&\"', '\"&F151&\"', \"&H151&\", '\"&I151&\"', '\"&J151&\"', '\"&L151&\"', \"&N151&\", \"&P151&\", \"&Q151&\", \"&S151&\");\"","v":"INSERT INTO sys_menu(id, pid, pids, `name`, `code`, menu_type, icon, router, permission, open_type, visible, sort, `status`) VALUES(10700100, 10700000, '[0],[10700000],', '分析计划', 'plan', 2, '', '/ncee/plan', '', 2, 1, 10, 1);"}]
[10700101,{"$f":"A$151","v":10700100},{"$f":"C$151&\"[\"&B152&\"],\"","v":"[0],[10700000],[10700100],"},"添加",{"$f":"E$151&\"/\"&D152","v":"高中分析/分析计划/添加"},"add","MenuType.BUTTON",3,null,null,null,{"$f":"F$150&\".\"&F$151&\".\"&F152","v":"ncee.plan.add"},"MenuOpenType.NONE",1,"true",1,0,"CommonStatus.ENABLE",1,"            new SysMenu { Id = 10700101, Pid = 10700100, Pids = \"[0],[10700000],[10700100],\", Name = \"添加\", Code = \"add\", MenuType = MenuType.BUTTON, Icon = \"\", Router = \"\", Component = \"\", Permission = \"ncee.plan.add\", OpenType = MenuOpenType.NONE, Visible = true, Sort = 0, Status = CommonStatus.ENABLE },","NCEE_PLAN_ADD",{"$f":"\"INSERT INTO sys_menu(id, pid, pids, `name`, `code`, menu_type, icon, router, permission, open_type, visible, sort, `status`) VALUES(\"&A152&\", \"&B152&\", '\"&C152&\"', '\"&D152&\"', '\"&F152&\"', \"&H152&\", '\"&I152&\"', '\"&J152&\"', '\"&L152&\"', \"&N152&\", \"&P152&\", \"&Q152&\", \"&S152&\");\"","v":"INSERT INTO sys_menu(id, pid, pids, `name`, `code`, menu_type, icon, router, permission, open_type, visible, sort, `status`) VALUES(10700101, 10700100, '[0],[10700000],[10700100],', '添加', 'add', 3, '', '', 'ncee.plan.add', 1, 1, 0, 1);"}]
[10700102,10700100,"[0],[10700000],[10700100],","修改","高中分析/分析计划/修改","edit","MenuType.BUTTON",3,null,null,null,"ncee.plan.edit","MenuOpenType.NONE",1,"true",1,0,"CommonStatus.ENABLE",1,"            new SysMenu { Id = 10700102, Pid = 10700100, Pids = \"[0],[10700000],[10700100],\", Name = \"修改\", Code = \"edit\", MenuType = MenuType.BUTTON, Icon = \"\", Router = \"\", Component = \"\", Permission = \"ncee.plan.edit\", OpenType = MenuOpenType.NONE, Visible = true, Sort = 0, Status = CommonStatus.ENABLE },","NCEE_PLAN_EDIT","INSERT INTO sys_menu(id, pid, pids, `name`, `code`, menu_type, icon, router, permission, open_type, visible, sort, `status`) VALUES(10700102, 10700100, '[0],[10700000],[10700100],', '修改', 'edit', 3, '', '', 'ncee.plan.edit', 1, 1, 0, 1);"]
[10700103,10700100,"[0],[10700000],[10700100],","删除","高中分析/分析计划/删除","del","MenuType.BUTTON",3,null,null,null,"ncee.plan.del","MenuOpenType.NONE",1,"true",1,0,"CommonStatus.ENABLE",1,"            new SysMenu { Id = 10700103, Pid = 10700100, Pids = \"[0],[10700000],[10700100],\", Name = \"删除\", Code = \"del\", MenuType = MenuType.BUTTON, Icon = \"\", Router = \"\", Component = \"\", Permission = \"ncee.plan.del\", OpenType = MenuOpenType.NONE, Visible = true, Sort = 0, Status = CommonStatus.ENABLE },","NCEE_PLAN_DEL","INSERT INTO sys_menu(id, pid, pids, `name`, `code`, menu_type, icon, router, permission, open_type, visible, sort, `status`) VALUES(10700103, 10700100, '[0],[10700000],[10700100],', '删除', 'del', 3, '', '', 'ncee.plan.del', 1, 1, 0, 1);"]
[10700104,10700100,"[0],[10700000],[10700100],","审核","高中分析/分析计划/审核","audit","MenuType.BUTTON",3,null,null,null,"ncee.plan.audit","MenuOpenType.NONE",1,"true",1,0,"CommonStatus.ENABLE",1,"            new SysMenu { Id = 10700104, Pid = 10700100, Pids = \"[0],[10700000],[10700100],\", Name = \"审核\", Code = \"audit\", MenuType = MenuType.BUTTON, Icon = \"\", Router = \"\", Component = \"\", Permission = \"ncee.plan.audit\", OpenType = MenuOpenType.NONE, Visible = true, Sort = 0, Status = CommonStatus.ENABLE },","NCEE_PLAN_AUDIT","INSERT INTO sys_menu(id, pid, pids, `name`, `code`, menu_type, icon, router, permission, open_type, visible, sort, `status`) VALUES(10700104, 10700100, '[0],[10700000],[10700100],', '审核', 'audit', 3, '', '', 'ncee.plan.audit', 1, 1, 0, 1);"]
[10700105,10700100,"[0],[10700000],[10700100],","导出","高中分析/分析计划/导出","export","MenuType.BUTTON",3,null,null,null,"ncee.plan.export","MenuOpenType.NONE",1,"true",1,0,"CommonStatus.ENABLE",1,"            new SysMenu { Id = 10700105, Pid = 10700100, Pids = \"[0],[10700000],[10700100],\", Name = \"导出\", Code = \"export\", MenuType = MenuType.BUTTON, Icon = \"\", Router = \"\", Component = \"\", Permission = \"ncee.plan.export\", OpenType = MenuOpenType.NONE, Visible = true, Sort = 0, Status = CommonStatus.ENABLE },","NCEE_PLAN_EXPORT","INSERT INTO sys_menu(id, pid, pids, `name`, `code`, menu_type, icon, router, permission, open_type, visible, sort, `status`) VALUES(10700105, 10700100, '[0],[10700000],[10700100],', '导出', 'export', 3, '', '', 'ncee.plan.export', 1, 1, 0, 1);"]
[]
[]
[10800000,0,{"$f":"\"[\"&B159&\"],\"","v":"[0],"},"基础数据",{"$f":"D159","v":"基础数据"},"bd","MenuType.FOLDER",{"$f":"VLOOKUP(G159,枚举!A:B,2,FALSE)","v":1},"form",{"$f":"\"/\"&F159","v":"/bd"},null,null,"MenuOpenType.NONE",{"$f":"VLOOKUP(M159,枚举!D:E,2,FALSE)","v":1},"true",1,{"$f":"A159","v":10800000},"CommonStatus.ENABLE",1,{"$f":"\"            new SysMenu { Id = \"&A159&\", Pid = \"&B159&\", Pids = \"\"\"&C159&\"\"\", Name = \"\"\"&D159&\"\"\", Code = \"\"\"&F159&\"\"\", MenuType = \"&G159&\", Icon = \"\"\"&I159&\"\"\", Router = \"\"\"&J159&\"\"\", Component = \"\"\"&K159&\"\"\", Permission = \"\"\"&L159&\"\"\", OpenType = \"&M159&\", Visible = \"&O159&\", Sort = \"&Q159&\", Status = \"&R159&\" },\"","v":"            new SysMenu { Id = 10800000, Pid = 0, Pids = \"[0],\", Name = \"基础数据\", Code = \"bd\", MenuType = MenuType.FOLDER, Icon = \"form\", Router = \"/bd\", Component = \"\", Permission = \"\", OpenType = MenuOpenType.NONE, Visible = true, Sort = 10800000, Status = CommonStatus.ENABLE },"},{"$f":"UPPER(SUBSTITUTE(SUBSTITUTE(L159,\"-\",\"_\"),\".\",\"_\"))","v":""},{"$f":"\"INSERT INTO sys_menu(id, pid, pids, `name`, `code`, menu_type, icon, router, permission, open_type, visible, sort, `status`) VALUES(\"&A159&\", \"&B159&\", '\"&C159&\"', '\"&D159&\"', '\"&F159&\"', \"&H159&\", '\"&I159&\"', '\"&J159&\"', '\"&L159&\"', \"&N159&\", \"&P159&\", \"&Q159&\", \"&S159&\");\"","v":"INSERT INTO sys_menu(id, pid, pids, `name`, `code`, menu_type, icon, router, permission, open_type, visible, sort, `status`) VALUES(10800000, 0, '[0],', '基础数据', 'bd', 1, 'form', '/bd', '', 1, 1, 10800000, 1);"}]
[10800100,{"$f":"A$159","v":10800000},{"$f":"C$159&\"[\"&B160&\"],\"","v":"[0],[10800000],"},"年级",{"$f":"E$159&\"/\"&D160","v":"基础数据/年级"},"grade","MenuType.MENU",{"$f":"VLOOKUP(G160,枚举!A:B,2,FALSE)","v":2},null,{"$f":"J$159&\"/\"&F160","v":"/bd/grade"},null,null,"MenuOpenType.COMPONENT",{"$f":"VLOOKUP(M160,枚举!D:E,2,FALSE)","v":2},"true",1,10,"CommonStatus.ENABLE",1,{"$f":"\"            new SysMenu { Id = \"&A160&\", Pid = \"&B160&\", Pids = \"\"\"&C160&\"\"\", Name = \"\"\"&D160&\"\"\", Code = \"\"\"&F160&\"\"\", MenuType = \"&G160&\", Icon = \"\"\"&I160&\"\"\", Router = \"\"\"&J160&\"\"\", Component = \"\"\"&K160&\"\"\", Permission = \"\"\"&L160&\"\"\", OpenType = \"&M160&\", Visible = \"&O160&\", Sort = \"&Q160&\", Status = \"&R160&\" },\"","v":"            new SysMenu { Id = 10800100, Pid = 10800000, Pids = \"[0],[10800000],\", Name = \"年级\", Code = \"grade\", MenuType = MenuType.MENU, Icon = \"\", Router = \"/bd/grade\", Component = \"\", Permission = \"\", OpenType = MenuOpenType.COMPONENT, Visible = true, Sort = 10, Status = CommonStatus.ENABLE },"},"",{"$f":"\"INSERT INTO sys_menu(id, pid, pids, `name`, `code`, menu_type, icon, router, permission, open_type, visible, sort, `status`) VALUES(\"&A160&\", \"&B160&\", '\"&C160&\"', '\"&D160&\"', '\"&F160&\"', \"&H160&\", '\"&I160&\"', '\"&J160&\"', '\"&L160&\"', \"&N160&\", \"&P160&\", \"&Q160&\", \"&S160&\");\"","v":"INSERT INTO sys_menu(id, pid, pids, `name`, `code`, menu_type, icon, router, permission, open_type, visible, sort, `status`) VALUES(10800100, 10800000, '[0],[10800000],', '年级', 'grade', 2, '', '/bd/grade', '', 2, 1, 10, 1);"}]
[10800101,{"$f":"A$160","v":10800100},{"$f":"C$160&\"[\"&B161&\"],\"","v":"[0],[10800000],[10800100],"},"添加",{"$f":"E$160&\"/\"&D161","v":"基础数据/年级/添加"},"add","MenuType.BUTTON",{"$f":"VLOOKUP(G161,枚举!A:B,2,FALSE)","v":3},null,null,null,{"$f":"F$159&\".\"&F$160&\".\"&F161","v":"bd.grade.add"},"MenuOpenType.NONE",{"$f":"VLOOKUP(M161,枚举!D:E,2,FALSE)","v":1},"true",1,0,"CommonStatus.ENABLE",1,"            new SysMenu { Id = 10800101, Pid = 10800100, Pids = \"[0],[10800000],[10800100],\", Name = \"添加\", Code = \"add\", MenuType = MenuType.BUTTON, Icon = \"\", Router = \"\", Component = \"\", Permission = \"bd.grade.add\", OpenType = MenuOpenType.NONE, Visible = true, Sort = 0, Status = CommonStatus.ENABLE },","BD_GRADE_ADD",{"$f":"\"INSERT INTO sys_menu(id, pid, pids, `name`, `code`, menu_type, icon, router, permission, open_type, visible, sort, `status`) VALUES(\"&A161&\", \"&B161&\", '\"&C161&\"', '\"&D161&\"', '\"&F161&\"', \"&H161&\", '\"&I161&\"', '\"&J161&\"', '\"&L161&\"', \"&N161&\", \"&P161&\", \"&Q161&\", \"&S161&\");\"","v":"INSERT INTO sys_menu(id, pid, pids, `name`, `code`, menu_type, icon, router, permission, open_type, visible, sort, `status`) VALUES(10800101, 10800100, '[0],[10800000],[10800100],', '添加', 'add', 3, '', '', 'bd.grade.add', 1, 1, 0, 1);"}]
[10800102,10800100,"[0],[10800000],[10800100],","修改","基础数据/年级/修改","edit","MenuType.BUTTON",{"$f":"VLOOKUP(G162,枚举!A:B,2,FALSE)","v":3},null,null,null,"bd.grade.edit","MenuOpenType.NONE",{"$f":"VLOOKUP(M162,枚举!D:E,2,FALSE)","v":1},"true",1,0,"CommonStatus.ENABLE",1,"            new SysMenu { Id = 10800102, Pid = 10800100, Pids = \"[0],[10800000],[10800100],\", Name = \"修改\", Code = \"edit\", MenuType = MenuType.BUTTON, Icon = \"\", Router = \"\", Component = \"\", Permission = \"bd.grade.edit\", OpenType = MenuOpenType.NONE, Visible = true, Sort = 0, Status = CommonStatus.ENABLE },","BD_GRADE_EDIT","INSERT INTO sys_menu(id, pid, pids, `name`, `code`, menu_type, icon, router, permission, open_type, visible, sort, `status`) VALUES(10800102, 10800100, '[0],[10800000],[10800100],', '修改', 'edit', 3, '', '', 'bd.grade.edit', 1, 1, 0, 1);"]
[10800103,10800100,"[0],[10800000],[10800100],","删除","基础数据/年级/删除","del","MenuType.BUTTON",{"$f":"VLOOKUP(G163,枚举!A:B,2,FALSE)","v":3},null,null,null,"bd.grade.del","MenuOpenType.NONE",{"$f":"VLOOKUP(M163,枚举!D:E,2,FALSE)","v":1},"true",1,0,"CommonStatus.ENABLE",1,"            new SysMenu { Id = 10800103, Pid = 10800100, Pids = \"[0],[10800000],[10800100],\", Name = \"删除\", Code = \"del\", MenuType = MenuType.BUTTON, Icon = \"\", Router = \"\", Component = \"\", Permission = \"bd.grade.del\", OpenType = MenuOpenType.NONE, Visible = true, Sort = 0, Status = CommonStatus.ENABLE },","BD_GRADE_DEL","INSERT INTO sys_menu(id, pid, pids, `name`, `code`, menu_type, icon, router, permission, open_type, visible, sort, `status`) VALUES(10800103, 10800100, '[0],[10800000],[10800100],', '删除', 'del', 3, '', '', 'bd.grade.del', 1, 1, 0, 1);"]
[10800200,{"$f":"A$159","v":10800000},{"$f":"C$159&\"[\"&B164&\"],\"","v":"[0],[10800000],"},"学科",{"$f":"E$159&\"/\"&D164","v":"基础数据/学科"},"course","MenuType.MENU",{"$f":"VLOOKUP(G164,枚举!A:B,2,FALSE)","v":2},null,{"$f":"J$159&\"/\"&F164","v":"/bd/course"},null,null,"MenuOpenType.COMPONENT",{"$f":"VLOOKUP(M164,枚举!D:E,2,FALSE)","v":2},"true",1,20,"CommonStatus.ENABLE",1,"            new SysMenu { Id = 10800200, Pid = 10800000, Pids = \"[0],[10800000],\", Name = \"学科\", Code = \"course\", MenuType = MenuType.MENU, Icon = \"\", Router = \"/bd/course\", Component = \"\", Permission = \"\", OpenType = MenuOpenType.COMPONENT, Visible = true, Sort = 20, Status = CommonStatus.ENABLE },","","INSERT INTO sys_menu(id, pid, pids, `name`, `code`, menu_type, icon, router, permission, open_type, visible, sort, `status`) VALUES(10800200, 10800000, '[0],[10800000],', '学科', 'course', 2, '', '/bd/course', '', 2, 1, 20, 1);"]
[10800201,{"$f":"A$164","v":10800200},{"$f":"C$164&\"[\"&B165&\"],\"","v":"[0],[10800000],[10800200],"},"添加",{"$f":"E$164&\"/\"&D165","v":"基础数据/学科/添加"},"add","MenuType.BUTTON",{"$f":"VLOOKUP(G165,枚举!A:B,2,FALSE)","v":3},null,null,null,{"$f":"F$159&\".\"&F$164&\".\"&F165","v":"bd.course.add"},"MenuOpenType.NONE",{"$f":"VLOOKUP(M165,枚举!D:E,2,FALSE)","v":1},"true",1,0,"CommonStatus.ENABLE",1,"            new SysMenu { Id = 10800201, Pid = 10800200, Pids = \"[0],[10800000],[10800200],\", Name = \"添加\", Code = \"add\", MenuType = MenuType.BUTTON, Icon = \"\", Router = \"\", Component = \"\", Permission = \"bd.course.add\", OpenType = MenuOpenType.NONE, Visible = true, Sort = 0, Status = CommonStatus.ENABLE },","BD_COURSE_ADD",{"$f":"\"INSERT INTO sys_menu(id, pid, pids, `name`, `code`, menu_type, icon, router, permission, open_type, visible, sort, `status`) VALUES(\"&A165&\", \"&B165&\", '\"&C165&\"', '\"&D165&\"', '\"&F165&\"', \"&H165&\", '\"&I165&\"', '\"&J165&\"', '\"&L165&\"', \"&N165&\", \"&P165&\", \"&Q165&\", \"&S165&\");\"","v":"INSERT INTO sys_menu(id, pid, pids, `name`, `code`, menu_type, icon, router, permission, open_type, visible, sort, `status`) VALUES(10800201, 10800200, '[0],[10800000],[10800200],', '添加', 'add', 3, '', '', 'bd.course.add', 1, 1, 0, 1);"}]
[10800202,{"$f":"A$164","v":10800200},{"$f":"C$164&\"[\"&B166&\"],\"","v":"[0],[10800000],[10800200],"},"修改",{"$f":"E$164&\"/\"&D166","v":"基础数据/学科/修改"},"edit","MenuType.BUTTON",{"$f":"VLOOKUP(G166,枚举!A:B,2,FALSE)","v":3},null,null,null,{"$f":"F$159&\".\"&F$164&\".\"&F166","v":"bd.course.edit"},"MenuOpenType.NONE",{"$f":"VLOOKUP(M166,枚举!D:E,2,FALSE)","v":1},"true",1,0,"CommonStatus.ENABLE",1,"            new SysMenu { Id = 10800202, Pid = 10800200, Pids = \"[0],[10800000],[10800200],\", Name = \"修改\", Code = \"edit\", MenuType = MenuType.BUTTON, Icon = \"\", Router = \"\", Component = \"\", Permission = \"bd.course.edit\", OpenType = MenuOpenType.NONE, Visible = true, Sort = 0, Status = CommonStatus.ENABLE },","BD_COURSE_EDIT","INSERT INTO sys_menu(id, pid, pids, `name`, `code`, menu_type, icon, router, permission, open_type, visible, sort, `status`) VALUES(10800202, 10800200, '[0],[10800000],[10800200],', '修改', 'edit', 3, '', '', 'bd.course.edit', 1, 1, 0, 1);"]
[10800203,{"$f":"A$164","v":10800200},{"$f":"C$164&\"[\"&B167&\"],\"","v":"[0],[10800000],[10800200],"},"删除",{"$f":"E$164&\"/\"&D167","v":"基础数据/学科/删除"},"del","MenuType.BUTTON",{"$f":"VLOOKUP(G167,枚举!A:B,2,FALSE)","v":3},null,null,null,{"$f":"F$159&\".\"&F$164&\".\"&F167","v":"bd.course.del"},"MenuOpenType.NONE",{"$f":"VLOOKUP(M167,枚举!D:E,2,FALSE)","v":1},"true",1,0,"CommonStatus.ENABLE",1,"            new SysMenu { Id = 10800203, Pid = 10800200, Pids = \"[0],[10800000],[10800200],\", Name = \"删除\", Code = \"del\", MenuType = MenuType.BUTTON, Icon = \"\", Router = \"\", Component = \"\", Permission = \"bd.course.del\", OpenType = MenuOpenType.NONE, Visible = true, Sort = 0, Status = CommonStatus.ENABLE },","BD_COURSE_DEL","INSERT INTO sys_menu(id, pid, pids, `name`, `code`, menu_type, icon, router, permission, open_type, visible, sort, `status`) VALUES(10800203, 10800200, '[0],[10800000],[10800200],', '删除', 'del', 3, '', '', 'bd.course.del', 1, 1, 0, 1);"]
[10800300,{"$f":"A$159","v":10800000},{"$f":"C$159&\"[\"&B168&\"],\"","v":"[0],[10800000],"},"高中选科组合",{"$f":"E$159&\"/\"&D168","v":"基础数据/高中选科组合"},"course-comb","MenuType.MENU",{"$f":"VLOOKUP(G168,枚举!A:B,2,FALSE)","v":2},null,{"$f":"J$159&\"/\"&F168","v":"/bd/course-comb"},null,null,"MenuOpenType.COMPONENT",{"$f":"VLOOKUP(M168,枚举!D:E,2,FALSE)","v":2},"true",1,30,"CommonStatus.ENABLE",1,"            new SysMenu { Id = 10800300, Pid = 10800000, Pids = \"[0],[10800000],\", Name = \"高中选科组合\", Code = \"course-comb\", MenuType = MenuType.MENU, Icon = \"\", Router = \"/bd/course-comb\", Component = \"\", Permission = \"\", OpenType = MenuOpenType.COMPONENT, Visible = true, Sort = 30, Status = CommonStatus.ENABLE },","","INSERT INTO sys_menu(id, pid, pids, `name`, `code`, menu_type, icon, router, permission, open_type, visible, sort, `status`) VALUES(10800300, 10800000, '[0],[10800000],', '高中选科组合', 'course-comb', 2, '', '/bd/course-comb', '', 2, 1, 30, 1);"]
[10800301,{"$f":"A$168","v":10800300},{"$f":"C$168&\"[\"&B169&\"],\"","v":"[0],[10800000],[10800300],"},"添加",{"$f":"E$168&\"/\"&D169","v":"基础数据/高中选科组合/添加"},"add","MenuType.BUTTON",{"$f":"VLOOKUP(G169,枚举!A:B,2,FALSE)","v":3},null,null,null,{"$f":"F$159&\".\"&F$168&\".\"&F169","v":"bd.course-comb.add"},"MenuOpenType.NONE",{"$f":"VLOOKUP(M169,枚举!D:E,2,FALSE)","v":1},"true",1,0,"CommonStatus.ENABLE",1,"            new SysMenu { Id = 10800301, Pid = 10800300, Pids = \"[0],[10800000],[10800300],\", Name = \"添加\", Code = \"add\", MenuType = MenuType.BUTTON, Icon = \"\", Router = \"\", Component = \"\", Permission = \"bd.course-comb.add\", OpenType = MenuOpenType.NONE, Visible = true, Sort = 0, Status = CommonStatus.ENABLE },","BD_COURSE_COMB_ADD",{"$f":"\"INSERT INTO sys_menu(id, pid, pids, `name`, `code`, menu_type, icon, router, permission, open_type, visible, sort, `status`) VALUES(\"&A169&\", \"&B169&\", '\"&C169&\"', '\"&D169&\"', '\"&F169&\"', \"&H169&\", '\"&I169&\"', '\"&J169&\"', '\"&L169&\"', \"&N169&\", \"&P169&\", \"&Q169&\", \"&S169&\");\"","v":"INSERT INTO sys_menu(id, pid, pids, `name`, `code`, menu_type, icon, router, permission, open_type, visible, sort, `status`) VALUES(10800301, 10800300, '[0],[10800000],[10800300],', '添加', 'add', 3, '', '', 'bd.course-comb.add', 1, 1, 0, 1);"}]
[10800302,{"$f":"A$168","v":10800300},{"$f":"C$168&\"[\"&B170&\"],\"","v":"[0],[10800000],[10800300],"},"修改",{"$f":"E$168&\"/\"&D170","v":"基础数据/高中选科组合/修改"},"edit","MenuType.BUTTON",{"$f":"VLOOKUP(G170,枚举!A:B,2,FALSE)","v":3},null,null,null,{"$f":"F$159&\".\"&F$168&\".\"&F170","v":"bd.course-comb.edit"},"MenuOpenType.NONE",{"$f":"VLOOKUP(M170,枚举!D:E,2,FALSE)","v":1},"true",1,0,"CommonStatus.ENABLE",1,"            new SysMenu { Id = 10800302, Pid = 10800300, Pids = \"[0],[10800000],[10800300],\", Name = \"修改\", Code = \"edit\", MenuType = MenuType.BUTTON, Icon = \"\", Router = \"\", Component = \"\", Permission = \"bd.course-comb.edit\", OpenType = MenuOpenType.NONE, Visible = true, Sort = 0, Status = CommonStatus.ENABLE },","BD_COURSE_COMB_EDIT","INSERT INTO sys_menu(id, pid, pids, `name`, `code`, menu_type, icon, router, permission, open_type, visible, sort, `status`) VALUES(10800302, 10800300, '[0],[10800000],[10800300],', '修改', 'edit', 3, '', '', 'bd.course-comb.edit', 1, 1, 0, 1);"]
[10800303,{"$f":"A$168","v":10800300},{"$f":"C$168&\"[\"&B171&\"],\"","v":"[0],[10800000],[10800300],"},"删除",{"$f":"E$168&\"/\"&D171","v":"基础数据/高中选科组合/删除"},"del","MenuType.BUTTON",{"$f":"VLOOKUP(G171,枚举!A:B,2,FALSE)","v":3},null,null,null,{"$f":"F$159&\".\"&F$168&\".\"&F171","v":"bd.course-comb.del"},"MenuOpenType.NONE",{"$f":"VLOOKUP(M171,枚举!D:E,2,FALSE)","v":1},"true",1,0,"CommonStatus.ENABLE",1,"            new SysMenu { Id = 10800303, Pid = 10800300, Pids = \"[0],[10800000],[10800300],\", Name = \"删除\", Code = \"del\", MenuType = MenuType.BUTTON, Icon = \"\", Router = \"\", Component = \"\", Permission = \"bd.course-comb.del\", OpenType = MenuOpenType.NONE, Visible = true, Sort = 0, Status = CommonStatus.ENABLE },","BD_COURSE_COMB_DEL","INSERT INTO sys_menu(id, pid, pids, `name`, `code`, menu_type, icon, router, permission, open_type, visible, sort, `status`) VALUES(10800303, 10800300, '[0],[10800000],[10800300],', '删除', 'del', 3, '', '', 'bd.course-comb.del', 1, 1, 0, 1);"]
[10800400,{"$f":"A$159","v":10800000},{"$f":"C$159&\"[\"&B172&\"],\"","v":"[0],[10800000],"},"学期",{"$f":"E$159&\"/\"&D172","v":"基础数据/学期"},"semester","MenuType.MENU",{"$f":"VLOOKUP(G172,枚举!A:B,2,FALSE)","v":2},null,{"$f":"J$159&\"/\"&F172","v":"/bd/semester"},null,null,"MenuOpenType.COMPONENT",{"$f":"VLOOKUP(M172,枚举!D:E,2,FALSE)","v":2},"true",1,40,"CommonStatus.ENABLE",1,"            new SysMenu { Id = 10800400, Pid = 10800000, Pids = \"[0],[10800000],\", Name = \"学期\", Code = \"semester\", MenuType = MenuType.MENU, Icon = \"\", Router = \"/bd/semester\", Component = \"\", Permission = \"\", OpenType = MenuOpenType.COMPONENT, Visible = true, Sort = 40, Status = CommonStatus.ENABLE },",{"$f":"UPPER(SUBSTITUTE(SUBSTITUTE(L172,\"-\",\"_\"),\".\",\"_\"))","v":""},"INSERT INTO sys_menu(id, pid, pids, `name`, `code`, menu_type, icon, router, permission, open_type, visible, sort, `status`) VALUES(10800400, 10800000, '[0],[10800000],', '学期', 'semester', 2, '', '/bd/semester', '', 2, 1, 40, 1);"]
[10800401,{"$f":"A$172","v":10800400},{"$f":"C$172&\"[\"&B173&\"],\"","v":"[0],[10800000],[10800400],"},"添加",{"$f":"E$172&\"/\"&D173","v":"基础数据/学期/添加"},"add","MenuType.BUTTON",{"$f":"VLOOKUP(G173,枚举!A:B,2,FALSE)","v":3},null,null,null,{"$f":"F$159&\".\"&F$172&\".\"&F173","v":"bd.semester.add"},"MenuOpenType.NONE",{"$f":"VLOOKUP(M173,枚举!D:E,2,FALSE)","v":1},"true",1,0,"CommonStatus.ENABLE",1,"            new SysMenu { Id = 10800401, Pid = 10800400, Pids = \"[0],[10800000],[10800400],\", Name = \"添加\", Code = \"add\", MenuType = MenuType.BUTTON, Icon = \"\", Router = \"\", Component = \"\", Permission = \"bd.semester.add\", OpenType = MenuOpenType.NONE, Visible = true, Sort = 0, Status = CommonStatus.ENABLE },","BD_SEMESTER_ADD",{"$f":"\"INSERT INTO sys_menu(id, pid, pids, `name`, `code`, menu_type, icon, router, permission, open_type, visible, sort, `status`) VALUES(\"&A173&\", \"&B173&\", '\"&C173&\"', '\"&D173&\"', '\"&F173&\"', \"&H173&\", '\"&I173&\"', '\"&J173&\"', '\"&L173&\"', \"&N173&\", \"&P173&\", \"&Q173&\", \"&S173&\");\"","v":"INSERT INTO sys_menu(id, pid, pids, `name`, `code`, menu_type, icon, router, permission, open_type, visible, sort, `status`) VALUES(10800401, 10800400, '[0],[10800000],[10800400],', '添加', 'add', 3, '', '', 'bd.semester.add', 1, 1, 0, 1);"}]
[10800402,{"$f":"A$172","v":10800400},{"$f":"C$172&\"[\"&B174&\"],\"","v":"[0],[10800000],[10800400],"},"修改",{"$f":"E$172&\"/\"&D174","v":"基础数据/学期/修改"},"edit","MenuType.BUTTON",{"$f":"VLOOKUP(G174,枚举!A:B,2,FALSE)","v":3},null,null,null,{"$f":"F$159&\".\"&F$172&\".\"&F174","v":"bd.semester.edit"},"MenuOpenType.NONE",{"$f":"VLOOKUP(M174,枚举!D:E,2,FALSE)","v":1},"true",1,0,"CommonStatus.ENABLE",1,"            new SysMenu { Id = 10800402, Pid = 10800400, Pids = \"[0],[10800000],[10800400],\", Name = \"修改\", Code = \"edit\", MenuType = MenuType.BUTTON, Icon = \"\", Router = \"\", Component = \"\", Permission = \"bd.semester.edit\", OpenType = MenuOpenType.NONE, Visible = true, Sort = 0, Status = CommonStatus.ENABLE },","BD_SEMESTER_EDIT","INSERT INTO sys_menu(id, pid, pids, `name`, `code`, menu_type, icon, router, permission, open_type, visible, sort, `status`) VALUES(10800402, 10800400, '[0],[10800000],[10800400],', '修改', 'edit', 3, '', '', 'bd.semester.edit', 1, 1, 0, 1);"]
[10800403,{"$f":"A$172","v":10800400},{"$f":"C$172&\"[\"&B175&\"],\"","v":"[0],[10800000],[10800400],"},"删除",{"$f":"E$172&\"/\"&D175","v":"基础数据/学期/删除"},"del","MenuType.BUTTON",{"$f":"VLOOKUP(G175,枚举!A:B,2,FALSE)","v":3},null,null,null,{"$f":"F$159&\".\"&F$172&\".\"&F175","v":"bd.semester.del"},"MenuOpenType.NONE",{"$f":"VLOOKUP(M175,枚举!D:E,2,FALSE)","v":1},"true",1,0,"CommonStatus.ENABLE",1,"            new SysMenu { Id = 10800403, Pid = 10800400, Pids = \"[0],[10800000],[10800400],\", Name = \"删除\", Code = \"del\", MenuType = MenuType.BUTTON, Icon = \"\", Router = \"\", Component = \"\", Permission = \"bd.semester.del\", OpenType = MenuOpenType.NONE, Visible = true, Sort = 0, Status = CommonStatus.ENABLE },","BD_SEMESTER_DEL","INSERT INTO sys_menu(id, pid, pids, `name`, `code`, menu_type, icon, router, permission, open_type, visible, sort, `status`) VALUES(10800403, 10800400, '[0],[10800000],[10800400],', '删除', 'del', 3, '', '', 'bd.semester.del', 1, 1, 0, 1);"]
[10800500,{"$f":"A$159","v":10800000},{"$f":"C$159&\"[\"&B176&\"],\"","v":"[0],[10800000],"},"基础字典",{"$f":"E$159&\"/\"&D176","v":"基础数据/基础字典"},"dict","MenuType.MENU",{"$f":"VLOOKUP(G176,枚举!A:B,2,FALSE)","v":2},null,{"$f":"J$159&\"/\"&F176","v":"/bd/dict"},null,null,"MenuOpenType.COMPONENT",{"$f":"VLOOKUP(M176,枚举!D:E,2,FALSE)","v":2},"true",1,50,"CommonStatus.ENABLE",1,"            new SysMenu { Id = 10800500, Pid = 10800000, Pids = \"[0],[10800000],\", Name = \"基础字典\", Code = \"dict\", MenuType = MenuType.MENU, Icon = \"\", Router = \"/bd/dict\", Component = \"\", Permission = \"\", OpenType = MenuOpenType.COMPONENT, Visible = true, Sort = 50, Status = CommonStatus.ENABLE },","","INSERT INTO sys_menu(id, pid, pids, `name`, `code`, menu_type, icon, router, permission, open_type, visible, sort, `status`) VALUES(10800500, 10800000, '[0],[10800000],', '基础字典', 'dict', 2, '', '/bd/dict', '', 2, 1, 50, 1);"]
[]
[]
[10900000,0,{"$f":"\"[\"&B179&\"],\"","v":"[0],"},"系统管理",{"$f":"D179","v":"系统管理"},"sys","MenuType.FOLDER",{"$f":"VLOOKUP(G179,枚举!A:B,2,FALSE)","v":1},"system",{"$f":"\"/\"&F179","v":"/sys"},null,null,"MenuOpenType.NONE",{"$f":"VLOOKUP(M179,枚举!D:E,2,FALSE)","v":1},"true",1,{"$f":"A179","v":10900000},"CommonStatus.ENABLE",1,{"$f":"\"            new SysMenu { Id = \"&A179&\", Pid = \"&B179&\", Pids = \"\"\"&C179&\"\"\", Name = \"\"\"&D179&\"\"\", Code = \"\"\"&F179&\"\"\", MenuType = \"&G179&\", Icon = \"\"\"&I179&\"\"\", Router = \"\"\"&J179&\"\"\", Component = \"\"\"&K179&\"\"\", Permission = \"\"\"&L179&\"\"\", OpenType = \"&M179&\", Visible = \"&O179&\", Sort = \"&Q179&\", Status = \"&R179&\" },\"","v":"            new SysMenu { Id = 10900000, Pid = 0, Pids = \"[0],\", Name = \"系统管理\", Code = \"sys\", MenuType = MenuType.FOLDER, Icon = \"system\", Router = \"/sys\", Component = \"\", Permission = \"\", OpenType = MenuOpenType.NONE, Visible = true, Sort = 10900000, Status = CommonStatus.ENABLE },"},{"$f":"UPPER(SUBSTITUTE(SUBSTITUTE(L179,\"-\",\"_\"),\".\",\"_\"))","v":""},{"$f":"\"INSERT INTO sys_menu(id, pid, pids, `name`, `code`, menu_type, icon, router, permission, open_type, visible, sort, `status`) VALUES(\"&A179&\", \"&B179&\", '\"&C179&\"', '\"&D179&\"', '\"&F179&\"', \"&H179&\", '\"&I179&\"', '\"&J179&\"', '\"&L179&\"', \"&N179&\", \"&P179&\", \"&Q179&\", \"&S179&\");\"","v":"INSERT INTO sys_menu(id, pid, pids, `name`, `code`, menu_type, icon, router, permission, open_type, visible, sort, `status`) VALUES(10900000, 0, '[0],', '系统管理', 'sys', 1, 'system', '/sys', '', 1, 1, 10900000, 1);"}]
[10900100,{"$f":"A$179","v":10900000},{"$f":"C$179&\"[\"&B180&\"],\"","v":"[0],[10900000],"},"组织机构",{"$f":"E$179&\"/\"&D180","v":"系统管理/组织机构"},"org","MenuType.MENU",{"$f":"VLOOKUP(G180,枚举!A:B,2,FALSE)","v":2},null,{"$f":"J$179&\"/\"&F180","v":"/sys/org"},null,null,"MenuOpenType.COMPONENT",{"$f":"VLOOKUP(M180,枚举!D:E,2,FALSE)","v":2},"true",1,10,"CommonStatus.ENABLE",1,{"$f":"\"            new SysMenu { Id = \"&A180&\", Pid = \"&B180&\", Pids = \"\"\"&C180&\"\"\", Name = \"\"\"&D180&\"\"\", Code = \"\"\"&F180&\"\"\", MenuType = \"&G180&\", Icon = \"\"\"&I180&\"\"\", Router = \"\"\"&J180&\"\"\", Component = \"\"\"&K180&\"\"\", Permission = \"\"\"&L180&\"\"\", OpenType = \"&M180&\", Visible = \"&O180&\", Sort = \"&Q180&\", Status = \"&R180&\" },\"","v":"            new SysMenu { Id = 10900100, Pid = 10900000, Pids = \"[0],[10900000],\", Name = \"组织机构\", Code = \"org\", MenuType = MenuType.MENU, Icon = \"\", Router = \"/sys/org\", Component = \"\", Permission = \"\", OpenType = MenuOpenType.COMPONENT, Visible = true, Sort = 10, Status = CommonStatus.ENABLE },"},"",{"$f":"\"INSERT INTO sys_menu(id, pid, pids, `name`, `code`, menu_type, icon, router, permission, open_type, visible, sort, `status`) VALUES(\"&A180&\", \"&B180&\", '\"&C180&\"', '\"&D180&\"', '\"&F180&\"', \"&H180&\", '\"&I180&\"', '\"&J180&\"', '\"&L180&\"', \"&N180&\", \"&P180&\", \"&Q180&\", \"&S180&\");\"","v":"INSERT INTO sys_menu(id, pid, pids, `name`, `code`, menu_type, icon, router, permission, open_type, visible, sort, `status`) VALUES(10900100, 10900000, '[0],[10900000],', '组织机构', 'org', 2, '', '/sys/org', '', 2, 1, 10, 1);"}]
[10900101,{"$f":"A$180","v":10900100},{"$f":"C$180&\"[\"&B181&\"],\"","v":"[0],[10900000],[10900100],"},"添加",{"$f":"E$180&\"/\"&D181","v":"系统管理/组织机构/添加"},"add","MenuType.BUTTON",{"$f":"VLOOKUP(G181,枚举!A:B,2,FALSE)","v":3},null,null,null,{"$f":"F$179&\".\"&F$180&\".\"&F181","v":"sys.org.add"},"MenuOpenType.NONE",{"$f":"VLOOKUP(M181,枚举!D:E,2,FALSE)","v":1},"true",1,0,"CommonStatus.ENABLE",1,"            new SysMenu { Id = 10900101, Pid = 10900100, Pids = \"[0],[10900000],[10900100],\", Name = \"添加\", Code = \"add\", MenuType = MenuType.BUTTON, Icon = \"\", Router = \"\", Component = \"\", Permission = \"sys.org.add\", OpenType = MenuOpenType.NONE, Visible = true, Sort = 0, Status = CommonStatus.ENABLE },","SYS_ORG_ADD",{"$f":"\"INSERT INTO sys_menu(id, pid, pids, `name`, `code`, menu_type, icon, router, permission, open_type, visible, sort, `status`) VALUES(\"&A181&\", \"&B181&\", '\"&C181&\"', '\"&D181&\"', '\"&F181&\"', \"&H181&\", '\"&I181&\"', '\"&J181&\"', '\"&L181&\"', \"&N181&\", \"&P181&\", \"&Q181&\", \"&S181&\");\"","v":"INSERT INTO sys_menu(id, pid, pids, `name`, `code`, menu_type, icon, router, permission, open_type, visible, sort, `status`) VALUES(10900101, 10900100, '[0],[10900000],[10900100],', '添加', 'add', 3, '', '', 'sys.org.add', 1, 1, 0, 1);"}]
[10900102,{"$f":"A$180","v":10900100},{"$f":"C$180&\"[\"&B182&\"],\"","v":"[0],[10900000],[10900100],"},"修改",{"$f":"E$180&\"/\"&D182","v":"系统管理/组织机构/修改"},"edit","MenuType.BUTTON",{"$f":"VLOOKUP(G182,枚举!A:B,2,FALSE)","v":3},null,null,null,{"$f":"F$179&\".\"&F$180&\".\"&F182","v":"sys.org.edit"},"MenuOpenType.NONE",{"$f":"VLOOKUP(M182,枚举!D:E,2,FALSE)","v":1},"true",1,0,"CommonStatus.ENABLE",1,"            new SysMenu { Id = 10900102, Pid = 10900100, Pids = \"[0],[10900000],[10900100],\", Name = \"修改\", Code = \"edit\", MenuType = MenuType.BUTTON, Icon = \"\", Router = \"\", Component = \"\", Permission = \"sys.org.edit\", OpenType = MenuOpenType.NONE, Visible = true, Sort = 0, Status = CommonStatus.ENABLE },","SYS_ORG_EDIT","INSERT INTO sys_menu(id, pid, pids, `name`, `code`, menu_type, icon, router, permission, open_type, visible, sort, `status`) VALUES(10900102, 10900100, '[0],[10900000],[10900100],', '修改', 'edit', 3, '', '', 'sys.org.edit', 1, 1, 0, 1);"]
[10900103,{"$f":"A$180","v":10900100},{"$f":"C$180&\"[\"&B183&\"],\"","v":"[0],[10900000],[10900100],"},"删除",{"$f":"E$180&\"/\"&D183","v":"系统管理/组织机构/删除"},"del","MenuType.BUTTON",{"$f":"VLOOKUP(G183,枚举!A:B,2,FALSE)","v":3},null,null,null,{"$f":"F$179&\".\"&F$180&\".\"&F183","v":"sys.org.del"},"MenuOpenType.NONE",{"$f":"VLOOKUP(M183,枚举!D:E,2,FALSE)","v":1},"true",1,0,"CommonStatus.ENABLE",1,"            new SysMenu { Id = 10900103, Pid = 10900100, Pids = \"[0],[10900000],[10900100],\", Name = \"删除\", Code = \"del\", MenuType = MenuType.BUTTON, Icon = \"\", Router = \"\", Component = \"\", Permission = \"sys.org.del\", OpenType = MenuOpenType.NONE, Visible = true, Sort = 0, Status = CommonStatus.ENABLE },","SYS_ORG_DEL","INSERT INTO sys_menu(id, pid, pids, `name`, `code`, menu_type, icon, router, permission, open_type, visible, sort, `status`) VALUES(10900103, 10900100, '[0],[10900000],[10900100],', '删除', 'del', 3, '', '', 'sys.org.del', 1, 1, 0, 1);"]
[10900200,{"$f":"A$179","v":10900000},{"$f":"C$179&\"[\"&B184&\"],\"","v":"[0],[10900000],"},"用户管理",{"$f":"E$179&\"/\"&D184","v":"系统管理/用户管理"},"user","MenuType.MENU",{"$f":"VLOOKUP(G184,枚举!A:B,2,FALSE)","v":2},null,{"$f":"J$179&\"/\"&F184","v":"/sys/user"},null,null,"MenuOpenType.COMPONENT",{"$f":"VLOOKUP(M184,枚举!D:E,2,FALSE)","v":2},"true",1,20,"CommonStatus.ENABLE",1,"            new SysMenu { Id = 10900200, Pid = 10900000, Pids = \"[0],[10900000],\", Name = \"用户管理\", Code = \"user\", MenuType = MenuType.MENU, Icon = \"\", Router = \"/sys/user\", Component = \"\", Permission = \"\", OpenType = MenuOpenType.COMPONENT, Visible = true, Sort = 20, Status = CommonStatus.ENABLE },","","INSERT INTO sys_menu(id, pid, pids, `name`, `code`, menu_type, icon, router, permission, open_type, visible, sort, `status`) VALUES(10900200, 10900000, '[0],[10900000],', '用户管理', 'user', 2, '', '/sys/user', '', 2, 1, 20, 1);"]
[10900201,{"$f":"A$184","v":10900200},{"$f":"C$184&\"[\"&B185&\"],\"","v":"[0],[10900000],[10900200],"},"添加",{"$f":"E$184&\"/\"&D185","v":"系统管理/用户管理/添加"},"add","MenuType.BUTTON",{"$f":"VLOOKUP(G185,枚举!A:B,2,FALSE)","v":3},null,null,null,{"$f":"F$179&\".\"&F$184&\".\"&F185","v":"sys.user.add"},"MenuOpenType.NONE",{"$f":"VLOOKUP(M185,枚举!D:E,2,FALSE)","v":1},"true",1,0,"CommonStatus.ENABLE",1,"            new SysMenu { Id = 10900201, Pid = 10900200, Pids = \"[0],[10900000],[10900200],\", Name = \"添加\", Code = \"add\", MenuType = MenuType.BUTTON, Icon = \"\", Router = \"\", Component = \"\", Permission = \"sys.user.add\", OpenType = MenuOpenType.NONE, Visible = true, Sort = 0, Status = CommonStatus.ENABLE },","SYS_USER_ADD",{"$f":"\"INSERT INTO sys_menu(id, pid, pids, `name`, `code`, menu_type, icon, router, permission, open_type, visible, sort, `status`) VALUES(\"&A185&\", \"&B185&\", '\"&C185&\"', '\"&D185&\"', '\"&F185&\"', \"&H185&\", '\"&I185&\"', '\"&J185&\"', '\"&L185&\"', \"&N185&\", \"&P185&\", \"&Q185&\", \"&S185&\");\"","v":"INSERT INTO sys_menu(id, pid, pids, `name`, `code`, menu_type, icon, router, permission, open_type, visible, sort, `status`) VALUES(10900201, 10900200, '[0],[10900000],[10900200],', '添加', 'add', 3, '', '', 'sys.user.add', 1, 1, 0, 1);"}]
[10900202,10900200,{"$f":"C$184&\"[\"&B186&\"],\"","v":"[0],[10900000],[10900200],"},"修改","系统管理/用户管理/修改","edit","MenuType.BUTTON",{"$f":"VLOOKUP(G186,枚举!A:B,2,FALSE)","v":3},null,null,null,"sys.user.edit","MenuOpenType.NONE",{"$f":"VLOOKUP(M186,枚举!D:E,2,FALSE)","v":1},"true",1,0,"CommonStatus.ENABLE",1,"            new SysMenu { Id = 10900202, Pid = 10900200, Pids = \"[0],[10900000],[10900200],\", Name = \"修改\", Code = \"edit\", MenuType = MenuType.BUTTON, Icon = \"\", Router = \"\", Component = \"\", Permission = \"sys.user.edit\", OpenType = MenuOpenType.NONE, Visible = true, Sort = 0, Status = CommonStatus.ENABLE },","SYS_USER_EDIT","INSERT INTO sys_menu(id, pid, pids, `name`, `code`, menu_type, icon, router, permission, open_type, visible, sort, `status`) VALUES(10900202, 10900200, '[0],[10900000],[10900200],', '修改', 'edit', 3, '', '', 'sys.user.edit', 1, 1, 0, 1);"]
[10900203,10900200,{"$f":"C$184&\"[\"&B187&\"],\"","v":"[0],[10900000],[10900200],"},"删除","系统管理/用户管理/删除","del","MenuType.BUTTON",{"$f":"VLOOKUP(G187,枚举!A:B,2,FALSE)","v":3},null,null,null,"sys.user.del","MenuOpenType.NONE",{"$f":"VLOOKUP(M187,枚举!D:E,2,FALSE)","v":1},"true",1,0,"CommonStatus.ENABLE",1,"            new SysMenu { Id = 10900203, Pid = 10900200, Pids = \"[0],[10900000],[10900200],\", Name = \"删除\", Code = \"del\", MenuType = MenuType.BUTTON, Icon = \"\", Router = \"\", Component = \"\", Permission = \"sys.user.del\", OpenType = MenuOpenType.NONE, Visible = true, Sort = 0, Status = CommonStatus.ENABLE },","SYS_USER_DEL","INSERT INTO sys_menu(id, pid, pids, `name`, `code`, menu_type, icon, router, permission, open_type, visible, sort, `status`) VALUES(10900203, 10900200, '[0],[10900000],[10900200],', '删除', 'del', 3, '', '', 'sys.user.del', 1, 1, 0, 1);"]
[10900300,{"$f":"A$179","v":10900000},{"$f":"C$179&\"[\"&B188&\"],\"","v":"[0],[10900000],"},"角色权限",{"$f":"E$179&\"/\"&D188","v":"系统管理/角色权限"},"role","MenuType.MENU",{"$f":"VLOOKUP(G188,枚举!A:B,2,FALSE)","v":2},null,{"$f":"J$179&\"/\"&F188","v":"/sys/role"},null,null,"MenuOpenType.COMPONENT",{"$f":"VLOOKUP(M188,枚举!D:E,2,FALSE)","v":2},"true",1,30,"CommonStatus.ENABLE",1,"            new SysMenu { Id = 10900300, Pid = 10900000, Pids = \"[0],[10900000],\", Name = \"角色权限\", Code = \"role\", MenuType = MenuType.MENU, Icon = \"\", Router = \"/sys/role\", Component = \"\", Permission = \"\", OpenType = MenuOpenType.COMPONENT, Visible = true, Sort = 30, Status = CommonStatus.ENABLE },","","INSERT INTO sys_menu(id, pid, pids, `name`, `code`, menu_type, icon, router, permission, open_type, visible, sort, `status`) VALUES(10900300, 10900000, '[0],[10900000],', '角色权限', 'role', 2, '', '/sys/role', '', 2, 1, 30, 1);"]
[10900301,{"$f":"A$188","v":10900300},{"$f":"C$188&\"[\"&B189&\"],\"","v":"[0],[10900000],[10900300],"},"添加",{"$f":"E$188&\"/\"&D189","v":"系统管理/角色权限/添加"},"add","MenuType.BUTTON",{"$f":"VLOOKUP(G189,枚举!A:B,2,FALSE)","v":3},null,null,null,{"$f":"F$179&\".\"&F$188&\".\"&F189","v":"sys.role.add"},"MenuOpenType.NONE",{"$f":"VLOOKUP(M189,枚举!D:E,2,FALSE)","v":1},"true",1,0,"CommonStatus.ENABLE",1,"            new SysMenu { Id = 10900301, Pid = 10900300, Pids = \"[0],[10900000],[10900300],\", Name = \"添加\", Code = \"add\", MenuType = MenuType.BUTTON, Icon = \"\", Router = \"\", Component = \"\", Permission = \"sys.role.add\", OpenType = MenuOpenType.NONE, Visible = true, Sort = 0, Status = CommonStatus.ENABLE },","SYS_ROLE_ADD",{"$f":"\"INSERT INTO sys_menu(id, pid, pids, `name`, `code`, menu_type, icon, router, permission, open_type, visible, sort, `status`) VALUES(\"&A189&\", \"&B189&\", '\"&C189&\"', '\"&D189&\"', '\"&F189&\"', \"&H189&\", '\"&I189&\"', '\"&J189&\"', '\"&L189&\"', \"&N189&\", \"&P189&\", \"&Q189&\", \"&S189&\");\"","v":"INSERT INTO sys_menu(id, pid, pids, `name`, `code`, menu_type, icon, router, permission, open_type, visible, sort, `status`) VALUES(10900301, 10900300, '[0],[10900000],[10900300],', '添加', 'add', 3, '', '', 'sys.role.add', 1, 1, 0, 1);"}]
[10900302,10900300,{"$f":"C$188&\"[\"&B190&\"],\"","v":"[0],[10900000],[10900300],"},"修改",{"$f":"E$188&\"/\"&D190","v":"系统管理/角色权限/修改"},"edit","MenuType.BUTTON",{"$f":"VLOOKUP(G190,枚举!A:B,2,FALSE)","v":3},null,null,null,{"$f":"F$179&\".\"&F$188&\".\"&F190","v":"sys.role.edit"},"MenuOpenType.NONE",{"$f":"VLOOKUP(M190,枚举!D:E,2,FALSE)","v":1},"true",1,0,"CommonStatus.ENABLE",1,"            new SysMenu { Id = 10900302, Pid = 10900300, Pids = \"[0],[10900000],[10900300],\", Name = \"修改\", Code = \"edit\", MenuType = MenuType.BUTTON, Icon = \"\", Router = \"\", Component = \"\", Permission = \"sys.role.edit\", OpenType = MenuOpenType.NONE, Visible = true, Sort = 0, Status = CommonStatus.ENABLE },","SYS_ROLE_EDIT","INSERT INTO sys_menu(id, pid, pids, `name`, `code`, menu_type, icon, router, permission, open_type, visible, sort, `status`) VALUES(10900302, 10900300, '[0],[10900000],[10900300],', '修改', 'edit', 3, '', '', 'sys.role.edit', 1, 1, 0, 1);"]
[10900303,10900300,{"$f":"C$188&\"[\"&B191&\"],\"","v":"[0],[10900000],[10900300],"},"删除",{"$f":"E$188&\"/\"&D191","v":"系统管理/角色权限/删除"},"del","MenuType.BUTTON",{"$f":"VLOOKUP(G191,枚举!A:B,2,FALSE)","v":3},null,null,null,{"$f":"F$179&\".\"&F$188&\".\"&F191","v":"sys.role.del"},"MenuOpenType.NONE",{"$f":"VLOOKUP(M191,枚举!D:E,2,FALSE)","v":1},"true",1,0,"CommonStatus.ENABLE",1,"            new SysMenu { Id = 10900303, Pid = 10900300, Pids = \"[0],[10900000],[10900300],\", Name = \"删除\", Code = \"del\", MenuType = MenuType.BUTTON, Icon = \"\", Router = \"\", Component = \"\", Permission = \"sys.role.del\", OpenType = MenuOpenType.NONE, Visible = true, Sort = 0, Status = CommonStatus.ENABLE },","SYS_ROLE_DEL","INSERT INTO sys_menu(id, pid, pids, `name`, `code`, menu_type, icon, router, permission, open_type, visible, sort, `status`) VALUES(10900303, 10900300, '[0],[10900000],[10900300],', '删除', 'del', 3, '', '', 'sys.role.del', 1, 1, 0, 1);"]
[10900304,10900300,{"$f":"C$188&\"[\"&B192&\"],\"","v":"[0],[10900000],[10900300],"},"授权",{"$f":"E$188&\"/\"&D192","v":"系统管理/角色权限/授权"},"grant","MenuType.BUTTON",{"$f":"VLOOKUP(G192,枚举!A:B,2,FALSE)","v":3},null,null,null,{"$f":"F$179&\".\"&F$188&\".\"&F192","v":"sys.role.grant"},"MenuOpenType.NONE",{"$f":"VLOOKUP(M192,枚举!D:E,2,FALSE)","v":1},"true",1,0,"CommonStatus.ENABLE",1,"            new SysMenu { Id = 10900304, Pid = 10900300, Pids = \"[0],[10900000],[10900300],\", Name = \"授权\", Code = \"grant\", MenuType = MenuType.BUTTON, Icon = \"\", Router = \"\", Component = \"\", Permission = \"sys.role.grant\", OpenType = MenuOpenType.NONE, Visible = true, Sort = 0, Status = CommonStatus.ENABLE },","SYS_ROLE_GRANT","INSERT INTO sys_menu(id, pid, pids, `name`, `code`, menu_type, icon, router, permission, open_type, visible, sort, `status`) VALUES(10900304, 10900300, '[0],[10900000],[10900300],', '授权', 'grant', 3, '', '', 'sys.role.grant', 1, 1, 0, 1);"]
[10900400,{"$f":"A$179","v":10900000},{"$f":"C$179&\"[\"&B193&\"],\"","v":"[0],[10900000],"},"功能管理",{"$f":"E$179&\"/\"&D193","v":"系统管理/功能管理"},"menu","MenuType.MENU",{"$f":"VLOOKUP(G193,枚举!A:B,2,FALSE)","v":2},null,{"$f":"J$179&\"/\"&F193","v":"/sys/menu"},null,null,"MenuOpenType.COMPONENT",{"$f":"VLOOKUP(M193,枚举!D:E,2,FALSE)","v":2},"true",1,40,"CommonStatus.ENABLE",1,"            new SysMenu { Id = 10900400, Pid = 10900000, Pids = \"[0],[10900000],\", Name = \"功能管理\", Code = \"menu\", MenuType = MenuType.MENU, Icon = \"\", Router = \"/sys/menu\", Component = \"\", Permission = \"\", OpenType = MenuOpenType.COMPONENT, Visible = true, Sort = 40, Status = CommonStatus.ENABLE },","","INSERT INTO sys_menu(id, pid, pids, `name`, `code`, menu_type, icon, router, permission, open_type, visible, sort, `status`) VALUES(10900400, 10900000, '[0],[10900000],', '功能管理', 'menu', 2, '', '/sys/menu', '', 2, 1, 40, 1);"]
[10900401,{"$f":"A$193","v":10900400},{"$f":"C$193&\"[\"&B194&\"],\"","v":"[0],[10900000],[10900400],"},"添加",{"$f":"E$193&\"/\"&D194","v":"系统管理/功能管理/添加"},"add","MenuType.BUTTON",{"$f":"VLOOKUP(G194,枚举!A:B,2,FALSE)","v":3},null,null,null,{"$f":"F$179&\".\"&F$193&\".\"&F194","v":"sys.menu.add"},"MenuOpenType.NONE",{"$f":"VLOOKUP(M194,枚举!D:E,2,FALSE)","v":1},"true",1,0,"CommonStatus.ENABLE",1,"            new SysMenu { Id = 10900401, Pid = 10900400, Pids = \"[0],[10900000],[10900400],\", Name = \"添加\", Code = \"add\", MenuType = MenuType.BUTTON, Icon = \"\", Router = \"\", Component = \"\", Permission = \"sys.menu.add\", OpenType = MenuOpenType.NONE, Visible = true, Sort = 0, Status = CommonStatus.ENABLE },","SYS_MENU_ADD",{"$f":"\"INSERT INTO sys_menu(id, pid, pids, `name`, `code`, menu_type, icon, router, permission, open_type, visible, sort, `status`) VALUES(\"&A194&\", \"&B194&\", '\"&C194&\"', '\"&D194&\"', '\"&F194&\"', \"&H194&\", '\"&I194&\"', '\"&J194&\"', '\"&L194&\"', \"&N194&\", \"&P194&\", \"&Q194&\", \"&S194&\");\"","v":"INSERT INTO sys_menu(id, pid, pids, `name`, `code`, menu_type, icon, router, permission, open_type, visible, sort, `status`) VALUES(10900401, 10900400, '[0],[10900000],[10900400],', '添加', 'add', 3, '', '', 'sys.menu.add', 1, 1, 0, 1);"}]
[10900402,{"$f":"A$193","v":10900400},{"$f":"C$193&\"[\"&B195&\"],\"","v":"[0],[10900000],[10900400],"},"修改",{"$f":"E$193&\"/\"&D195","v":"系统管理/功能管理/修改"},"edit","MenuType.BUTTON",{"$f":"VLOOKUP(G195,枚举!A:B,2,FALSE)","v":3},null,null,null,{"$f":"F$179&\".\"&F$193&\".\"&F195","v":"sys.menu.edit"},"MenuOpenType.NONE",{"$f":"VLOOKUP(M195,枚举!D:E,2,FALSE)","v":1},"true",1,0,"CommonStatus.ENABLE",1,"            new SysMenu { Id = 10900402, Pid = 10900400, Pids = \"[0],[10900000],[10900400],\", Name = \"修改\", Code = \"edit\", MenuType = MenuType.BUTTON, Icon = \"\", Router = \"\", Component = \"\", Permission = \"sys.menu.edit\", OpenType = MenuOpenType.NONE, Visible = true, Sort = 0, Status = CommonStatus.ENABLE },","SYS_MENU_EDIT","INSERT INTO sys_menu(id, pid, pids, `name`, `code`, menu_type, icon, router, permission, open_type, visible, sort, `status`) VALUES(10900402, 10900400, '[0],[10900000],[10900400],', '修改', 'edit', 3, '', '', 'sys.menu.edit', 1, 1, 0, 1);"]
[10900403,{"$f":"A$193","v":10900400},{"$f":"C$193&\"[\"&B196&\"],\"","v":"[0],[10900000],[10900400],"},"删除",{"$f":"E$193&\"/\"&D196","v":"系统管理/功能管理/删除"},"del","MenuType.BUTTON",{"$f":"VLOOKUP(G196,枚举!A:B,2,FALSE)","v":3},null,null,null,{"$f":"F$179&\".\"&F$193&\".\"&F196","v":"sys.menu.del"},"MenuOpenType.NONE",{"$f":"VLOOKUP(M196,枚举!D:E,2,FALSE)","v":1},"true",1,0,"CommonStatus.ENABLE",1,"            new SysMenu { Id = 10900403, Pid = 10900400, Pids = \"[0],[10900000],[10900400],\", Name = \"删除\", Code = \"del\", MenuType = MenuType.BUTTON, Icon = \"\", Router = \"\", Component = \"\", Permission = \"sys.menu.del\", OpenType = MenuOpenType.NONE, Visible = true, Sort = 0, Status = CommonStatus.ENABLE },","SYS_MENU_DEL","INSERT INTO sys_menu(id, pid, pids, `name`, `code`, menu_type, icon, router, permission, open_type, visible, sort, `status`) VALUES(10900403, 10900400, '[0],[10900000],[10900400],', '删除', 'del', 3, '', '', 'sys.menu.del', 1, 1, 0, 1);"]
[10900500,{"$f":"A$179","v":10900000},{"$f":"C$179&\"[\"&B197&\"],\"","v":"[0],[10900000],"},"日志管理",{"$f":"E$179&\"/\"&D197","v":"系统管理/日志管理"},"log","MenuType.FOLDER",{"$f":"VLOOKUP(G197,枚举!A:B,2,FALSE)","v":1},null,{"$f":"J$179&\"/\"&F197","v":"/sys/log"},null,null,"MenuOpenType.NONE",{"$f":"VLOOKUP(M197,枚举!D:E,2,FALSE)","v":1},"true",1,50,"CommonStatus.ENABLE",1,"            new SysMenu { Id = 10900500, Pid = 10900000, Pids = \"[0],[10900000],\", Name = \"日志管理\", Code = \"log\", MenuType = MenuType.FOLDER, Icon = \"\", Router = \"/sys/log\", Component = \"\", Permission = \"\", OpenType = MenuOpenType.NONE, Visible = true, Sort = 50, Status = CommonStatus.ENABLE },",{"$f":"UPPER(SUBSTITUTE(SUBSTITUTE(L197,\"-\",\"_\"),\".\",\"_\"))","v":""},"INSERT INTO sys_menu(id, pid, pids, `name`, `code`, menu_type, icon, router, permission, open_type, visible, sort, `status`) VALUES(10900500, 10900000, '[0],[10900000],', '日志管理', 'log', 1, '', '/sys/log', '', 1, 1, 50, 1);"]
[10900501,{"$f":"A$197","v":10900500},{"$f":"C$197&\"[\"&B198&\"],\"","v":"[0],[10900000],[10900500],"},"异常日志",{"$f":"E$197&\"/\"&D198","v":"系统管理/日志管理/异常日志"},"ex","MenuType.MENU",{"$f":"VLOOKUP(G198,枚举!A:B,2,FALSE)","v":2},null,{"$f":"J$197&\"/\"&F198","v":"/sys/log/ex"},null,null,"MenuOpenType.COMPONENT",{"$f":"VLOOKUP(M198,枚举!D:E,2,FALSE)","v":2},"true",1,10,"CommonStatus.ENABLE",1,"            new SysMenu { Id = 10900501, Pid = 10900500, Pids = \"[0],[10900000],[10900500],\", Name = \"异常日志\", Code = \"ex\", MenuType = MenuType.MENU, Icon = \"\", Router = \"/sys/log/ex\", Component = \"\", Permission = \"\", OpenType = MenuOpenType.COMPONENT, Visible = true, Sort = 10, Status = CommonStatus.ENABLE },","","INSERT INTO sys_menu(id, pid, pids, `name`, `code`, menu_type, icon, router, permission, open_type, visible, sort, `status`) VALUES(10900501, 10900500, '[0],[10900000],[10900500],', '异常日志', 'ex', 2, '', '/sys/log/ex', '', 2, 1, 10, 1);"]
[10900502,{"$f":"A$198","v":10900501},{"$f":"C$198&\"[\"&B199&\"],\"","v":"[0],[10900000],[10900500],[10900501],"},"清除日志",{"$f":"E$198&\"/\"&D199","v":"系统管理/日志管理/异常日志/清除日志"},"clear","MenuType.BUTTON",{"$f":"VLOOKUP(G199,枚举!A:B,2,FALSE)","v":3},null,null,null,{"$f":"F$179&\".\"&F$197&\".\"&F$198&\".\"&F199","v":"sys.log.ex.clear"},"MenuOpenType.NONE",{"$f":"VLOOKUP(M199,枚举!D:E,2,FALSE)","v":1},"true",1,0,"CommonStatus.ENABLE",1,"            new SysMenu { Id = 10900502, Pid = 10900501, Pids = \"[0],[10900000],[10900500],[10900501],\", Name = \"清除日志\", Code = \"clear\", MenuType = MenuType.BUTTON, Icon = \"\", Router = \"\", Component = \"\", Permission = \"sys.log.ex.clear\", OpenType = MenuOpenType.NONE, Visible = true, Sort = 0, Status = CommonStatus.ENABLE },","SYS_LOG_EX_CLEAR",{"$f":"\"INSERT INTO sys_menu(id, pid, pids, `name`, `code`, menu_type, icon, router, permission, open_type, visible, sort, `status`) VALUES(\"&A199&\", \"&B199&\", '\"&C199&\"', '\"&D199&\"', '\"&F199&\"', \"&H199&\", '\"&I199&\"', '\"&J199&\"', '\"&L199&\"', \"&N199&\", \"&P199&\", \"&Q199&\", \"&S199&\");\"","v":"INSERT INTO sys_menu(id, pid, pids, `name`, `code`, menu_type, icon, router, permission, open_type, visible, sort, `status`) VALUES(10900502, 10900501, '[0],[10900000],[10900500],[10900501],', '清除日志', 'clear', 3, '', '', 'sys.log.ex.clear', 1, 1, 0, 1);"}]
[10900503,{"$f":"A$197","v":10900500},{"$f":"C$197&\"[\"&B200&\"],\"","v":"[0],[10900000],[10900500],"},"访问日志","系统管理/日志管理/访问日志","vis","MenuType.MENU",{"$f":"VLOOKUP(G200,枚举!A:B,2,FALSE)","v":2},null,"/sys/log/vis",null,null,"MenuOpenType.COMPONENT",{"$f":"VLOOKUP(M200,枚举!D:E,2,FALSE)","v":2},"true",1,20,"CommonStatus.ENABLE",1,"            new SysMenu { Id = 10900503, Pid = 10900500, Pids = \"[0],[10900000],[10900500],\", Name = \"访问日志\", Code = \"vis\", MenuType = MenuType.MENU, Icon = \"\", Router = \"/sys/log/vis\", Component = \"\", Permission = \"\", OpenType = MenuOpenType.COMPONENT, Visible = true, Sort = 20, Status = CommonStatus.ENABLE },","","INSERT INTO sys_menu(id, pid, pids, `name`, `code`, menu_type, icon, router, permission, open_type, visible, sort, `status`) VALUES(10900503, 10900500, '[0],[10900000],[10900500],', '访问日志', 'vis', 2, '', '/sys/log/vis', '', 2, 1, 20, 1);"]
[10900504,{"$f":"A$200","v":10900503},{"$f":"C$200&\"[\"&B201&\"],\"","v":"[0],[10900000],[10900500],[10900503],"},"清除日志",{"$f":"E$200&\"/\"&D201","v":"系统管理/日志管理/访问日志/清除日志"},"clear","MenuType.BUTTON",{"$f":"VLOOKUP(G201,枚举!A:B,2,FALSE)","v":3},null,null,null,{"$f":"F$179&\".\"&F$197&\".\"&F$200&\".\"&F201","v":"sys.log.vis.clear"},"MenuOpenType.NONE",{"$f":"VLOOKUP(M201,枚举!D:E,2,FALSE)","v":1},"true",1,0,"CommonStatus.ENABLE",1,"            new SysMenu { Id = 10900504, Pid = 10900503, Pids = \"[0],[10900000],[10900500],[10900503],\", Name = \"清除日志\", Code = \"clear\", MenuType = MenuType.BUTTON, Icon = \"\", Router = \"\", Component = \"\", Permission = \"sys.log.vis.clear\", OpenType = MenuOpenType.NONE, Visible = true, Sort = 0, Status = CommonStatus.ENABLE },","SYS_LOG_VIS_CLEAR","INSERT INTO sys_menu(id, pid, pids, `name`, `code`, menu_type, icon, router, permission, open_type, visible, sort, `status`) VALUES(10900504, 10900503, '[0],[10900000],[10900500],[10900503],', '清除日志', 'clear', 3, '', '', 'sys.log.vis.clear', 1, 1, 0, 1);"]
[10900505,{"$f":"A$197","v":10900500},{"$f":"C$197&\"[\"&B202&\"],\"","v":"[0],[10900000],[10900500],"},"操作日志","系统管理/日志管理/操作日志","op","MenuType.MENU",{"$f":"VLOOKUP(G202,枚举!A:B,2,FALSE)","v":2},null,"/sys/log/op",null,null,"MenuOpenType.COMPONENT",{"$f":"VLOOKUP(M202,枚举!D:E,2,FALSE)","v":2},"true",1,30,"CommonStatus.ENABLE",1,"            new SysMenu { Id = 10900505, Pid = 10900500, Pids = \"[0],[10900000],[10900500],\", Name = \"操作日志\", Code = \"op\", MenuType = MenuType.MENU, Icon = \"\", Router = \"/sys/log/op\", Component = \"\", Permission = \"\", OpenType = MenuOpenType.COMPONENT, Visible = true, Sort = 30, Status = CommonStatus.ENABLE },","","INSERT INTO sys_menu(id, pid, pids, `name`, `code`, menu_type, icon, router, permission, open_type, visible, sort, `status`) VALUES(10900505, 10900500, '[0],[10900000],[10900500],', '操作日志', 'op', 2, '', '/sys/log/op', '', 2, 1, 30, 1);"]
[10900506,{"$f":"A$202","v":10900505},{"$f":"C$200&\"[\"&B203&\"],\"","v":"[0],[10900000],[10900500],[10900505],"},"清除日志",{"$f":"E$202&\"/\"&D203","v":"系统管理/日志管理/操作日志/清除日志"},"clear","MenuType.BUTTON",{"$f":"VLOOKUP(G203,枚举!A:B,2,FALSE)","v":3},null,null,null,{"$f":"F$179&\".\"&F$197&\".\"&F$202&\".\"&F203","v":"sys.log.op.clear"},"MenuOpenType.NONE",{"$f":"VLOOKUP(M203,枚举!D:E,2,FALSE)","v":1},"true",1,0,"CommonStatus.ENABLE",1,"            new SysMenu { Id = 10900506, Pid = 10900505, Pids = \"[0],[10900000],[10900500],[10900505],\", Name = \"清除日志\", Code = \"clear\", MenuType = MenuType.BUTTON, Icon = \"\", Router = \"\", Component = \"\", Permission = \"sys.log.op.clear\", OpenType = MenuOpenType.NONE, Visible = true, Sort = 0, Status = CommonStatus.ENABLE },","SYS_LOG_OP_CLEAR","INSERT INTO sys_menu(id, pid, pids, `name`, `code`, menu_type, icon, router, permission, open_type, visible, sort, `status`) VALUES(10900506, 10900505, '[0],[10900000],[10900500],[10900505],', '清除日志', 'clear', 3, '', '', 'sys.log.op.clear', 1, 1, 0, 1);"]

{"sheet":"缩略词","index":1,"n_rows":22,"n_cols":3,"rows_kept":22,"cut":false,"hidden":false,"merged":[]}
["名词","名称","缩写"]
[null,"purchase","pur"]
[null,"manufacture","mf"]
[null,"quality","qa"]
[null,"warehouse","wh"]
[null,"warehouse place","wh-p"]
[null,"warehouse place group","wh-pg"]
[null,"customer","cust"]
[null,"supplier","sup"]
[null,"unit group","ug"]
[null,"work type","wt"]
[null,"k3 dept","kdept"]
[null,"k3 sync","ksync"]
[null,"workbench","wb"]
[null,"transfer check","tcheck"]
[null,"stock in","stk-in"]
[null,"stock out","stk-out"]
[null,"inventory","inv"]
[null,"allocation","alloc"]
[null,"material","mat"]
["生产领料","production material requisition","pmr"]
["委外","subcontract","scont"]

{"sheet":"学校角色","index":2,"n_rows":123,"n_cols":4,"rows_kept":123,"cut":false,"hidden":false,"merged":[]}
["sys_role_id","sys_menu_id","sys_menu_name","/* 学校管理员角色菜单权限 */"]
[6,{"$f":"菜单!A2","v":10000000},{"$f":"菜单!E2","v":"工作台"},{"$f":"\"INSERT INTO sys_role_menu(sys_role_id, sys_menu_id, data_scope_type) VALUES(\"&A2&\", \"&B2&\", 0);\"","v":"INSERT INTO sys_role_menu(sys_role_id, sys_menu_id, data_scope_type) VALUES(6, 10000000, 0);"}]
[6,{"$f":"菜单!A5","v":10010000},{"$f":"菜单!E5","v":"基础资料"},{"$f":"\"INSERT INTO sys_role_menu(sys_role_id, sys_menu_id, data_scope_type) VALUES(\"&A3&\", \"&B3&\", 0);\"","v":"INSERT INTO sys_role_menu(sys_role_id, sys_menu_id, data_scope_type) VALUES(6, 10010000, 0);"}]
[6,{"$f":"菜单!A6","v":10010100},{"$f":"菜单!E6","v":"基础资料/班级信息"},"INSERT INTO sys_role_menu(sys_role_id, sys_menu_id, data_scope_type) VALUES(6, 10010100, 0);"]
[6,{"$f":"菜单!A7","v":10010101},{"$f":"菜单!E7","v":"基础资料/班级信息/添加"},"INSERT INTO sys_role_menu(sys_role_id, sys_menu_id, data_scope_type) VALUES(6, 10010101, 0);"]
[6,{"$f":"菜单!A8","v":10010102},{"$f":"菜单!E8","v":"基础资料/班级信息/修改"},"INSERT INTO sys_role_menu(sys_role_id, sys_menu_id, data_scope_type) VALUES(6, 10010102, 0);"]
[6,{"$f":"菜单!A9","v":10010103},{"$f":"菜单!E9","v":"基础资料/班级信息/删除"},"INSERT INTO sys_role_menu(sys_role_id, sys_menu_id, data_scope_type) VALUES(6, 10010103, 0);"]
[6,{"$f":"菜单!A10","v":10010200},{"$f":"菜单!E10","v":"基础资料/学生信息"},"INSERT INTO sys_role_menu(sys_role_id, sys_menu_id, data_scope_type) VALUES(6, 10010200, 0);"]
[6,{"$f":"菜单!A11","v":10010201},{"$f":"菜单!E11","v":"基础资料/学生信息/添加"},"INSERT INTO sys_role_menu(sys_role_id, sys_menu_id, data_scope_type) VALUES(6, 10010201, 0);"]
[6,{"$f":"菜单!A12","v":10010202},{"$f":"菜单!E12","v":"基础资料/学生信息/修改"},"INSERT INTO sys_role_menu(sys_role_id, sys_menu_id, data_scope_type) VALUES(6, 10010202, 0);"]
[6,{"$f":"菜单!A13","v":10010203},{"$f":"菜单!E13","v":"基础资料/学生信息/删除"},"INSERT INTO sys_role_menu(sys_role_id, sys_menu_id, data_scope_type) VALUES(6, 10010203, 0);"]
[6,{"$f":"菜单!A14","v":10010300},{"$f":"菜单!E14","v":"基础资料/教师信息"},"INSERT INTO sys_role_menu(sys_role_id, sys_menu_id, data_scope_type) VALUES(6, 10010300, 0);"]
[6,{"$f":"菜单!A15","v":10010301},{"$f":"菜单!E15","v":"基础资料/教师信息/添加"},"INSERT INTO sys_role_menu(sys_role_id, sys_menu_id, data_scope_type) VALUES(6, 10010301, 0);"]
[6,{"$f":"菜单!A16","v":10010302},{"$f":"菜单!E16","v":"基础资料/教师信息/修改"},"INSERT INTO sys_role_menu(sys_role_id, sys_menu_id, data_scope_type) VALUES(6, 10010302, 0);"]
[6,{"$f":"菜单!A17","v":10010303},{"$f":"菜单!E17","v":"基础资料/教师信息/删除"},"INSERT INTO sys_role_menu(sys_role_id, sys_menu_id, data_scope_type) VALUES(6, 10010303, 0);"]
[6,{"$f":"菜单!A18","v":10010400},{"$f":"菜单!E18","v":"基础资料/特殊学生管理"},"INSERT INTO sys_role_menu(sys_role_id, sys_menu_id, data_scope_type) VALUES(6, 10010400, 0);"]
[6,{"$f":"菜单!A19","v":10010401},{"$f":"菜单!E19","v":"基础资料/特殊学生管理/添加"},"INSERT INTO sys_role_menu(sys_role_id, sys_menu_id, data_scope_type) VALUES(6, 10010401, 0);"]
[6,{"$f":"菜单!A20","v":10010402},{"$f":"菜单!E20","v":"基础资料/特殊学生管理/修改"},"INSERT INTO sys_role_menu(sys_role_id, sys_menu_id, data_scope_type) VALUES(6, 10010402, 0);"]
[6,{"$f":"菜单!A21","v":10010403},{"$f":"菜单!E21","v":"基础资料/特殊学生管理/删除"},"INSERT INTO sys_role_menu(sys_role_id, sys_menu_id, data_scope_type) VALUES(6, 10010403, 0);"]
[6,{"$f":"菜单!A97","v":10030000},{"$f":"菜单!E97","v":"评估监测"},"INSERT INTO sys_role_menu(sys_role_id, sys_menu_id, data_scope_type) VALUES(6, 10030000, 0);"]
[6,{"$f":"菜单!A98","v":10030100},{"$f":"菜单!E98","v":"评估监测/评估监测计划"},"INSERT INTO sys_role_menu(sys_role_id, sys_menu_id, data_scope_type) VALUES(6, 10030100, 0);"]
[6,{"$f":"菜单!A99","v":10030200},{"$f":"菜单!E99","v":"评估监测/学生信息上报"},"INSERT INTO sys_role_menu(sys_role_id, sys_menu_id, data_scope_type) VALUES(6, 10030200, 0);"]
[6,{"$f":"菜单!A100","v":10030201},{"$f":"菜单!E100","v":"评估监测/学生信息上报/添加"},"INSERT INTO sys_role_menu(sys_role_id, sys_menu_id, data_scope_type) VALUES(6, 10030201, 0);"]
[6,{"$f":"菜单!A101","v":10030202},{"$f":"菜单!E101","v":"评估监测/学生信息上报/修改"},"INSERT INTO sys_role_menu(sys_role_id, sys_menu_id, data_scope_type) VALUES(6, 10030202, 0);"]
[6,{"$f":"菜单!A102","v":10030203},{"$f":"菜单!E102","v":"评估监测/学生信息上报/删除"},"INSERT INTO sys_role_menu(sys_role_id, sys_menu_id, data_scope_type) VALUES(6, 10030203, 0);"]
[6,{"$f":"菜单!A103","v":10030204},{"$f":"菜单!E103","v":"评估监测/学生信息上报/提交"},"INSERT INTO sys_role_menu(sys_role_id, sys_menu_id, data_scope_type) VALUES(6, 10030204, 0);"]
[6,{"$f":"菜单!A104","v":10030205},{"$f":"菜单!E104","v":"评估监测/学生信息上报/审核"},"INSERT INTO sys_role_menu(sys_role_id, sys_menu_id, data_scope_type) VALUES(6, 10030205, 0);"]
[6,{"$f":"菜单!A105","v":10030206},{"$f":"菜单!E105","v":"评估监测/学生信息上报/下载"},"INSERT INTO sys_role_menu(sys_role_id, sys_menu_id, data_scope_type) VALUES(6, 10030206, 0);"]
[6,{"$f":"菜单!A106","v":10030300},{"$f":"菜单!E106","v":"评估监测/特殊学生上报"},"INSERT INTO sys_role_menu(sys_role_id, sys_menu_id, data_scope_type) VALUES(6, 10030300, 0);"]
[6,{"$f":"菜单!A107","v":10030301},{"$f":"菜单!E107","v":"评估监测/特殊学生上报/添加"},"INSERT INTO sys_role_menu(sys_role_id, sys_menu_id, data_scope_type) VALUES(6, 10030301, 0);"]
[6,{"$f":"菜单!A108","v":10030302},{"$f":"菜单!E108","v":"评估监测/特殊学生上报/修改"},"INSERT INTO sys_role_menu(sys_role_id, sys_menu_id, data_scope_type) VALUES(6, 10030302, 0);"]
[6,{"$f":"菜单!A109","v":10030303},{"$f":"菜单!E109","v":"评估监测/特殊学生上报/删除"},"INSERT INTO sys_role_menu(sys_role_id, sys_menu_id, data_scope_type) VALUES(6, 10030303, 0);"]
[6,{"$f":"菜单!A110","v":10030304},{"$f":"菜单!E110","v":"评估监测/特殊学生上报/提交"},"INSERT INTO sys_role_menu(sys_role_id, sys_menu_id, data_scope_type) VALUES(6, 10030304, 0);"]
[6,{"$f":"菜单!A111","v":10030305},{"$f":"菜单!E111","v":"评估监测/特殊学生上报/审核"},"INSERT INTO sys_role_menu(sys_role_id, sys_menu_id, data_scope_type) VALUES(6, 10030305, 0);"]
[6,{"$f":"菜单!A112","v":10030306},{"$f":"菜单!E112","v":"评估监测/特殊学生上报/下载"},"INSERT INTO sys_role_menu(sys_role_id, sys_menu_id, data_scope_type) VALUES(6, 10030306, 0);"]
[6,{"$f":"菜单!A113","v":10030400},{"$f":"菜单!E113","v":"评估监测/教师信息上报"},"INSERT INTO sys_role_menu(sys_role_id, sys_menu_id, data_scope_type) VALUES(6, 10030400, 0);"]
[6,{"$f":"菜单!A114","v":10030401},{"$f":"菜单!E114","v":"评估监测/教师信息上报/添加"},"INSERT INTO sys_role_menu(sys_role_id, sys_menu_id, data_scope_type) VALUES(6, 10030401, 0);"]
[6,{"$f":"菜单!A115","v":10030402},{"$f":"菜单!E115","v":"评估监测/教师信息上报/修改"},"INSERT INTO sys_role_menu(sys_role_id, sys_menu_id, data_scope_type) VALUES(6, 10030402, 0);"]
[6,{"$f":"菜单!A116","v":10030403},{"$f":"菜单!E116","v":"评估监测/教师信息上报/删除"},"INSERT INTO sys_role_menu(sys_role_id, sys_menu_id, data_scope_type) VALUES(6, 10030403, 0);"]
[6,{"$f":"菜单!A117","v":10030404},{"$f":"菜单!E117","v":"评估监测/教师信息上报/提交"},"INSERT INTO sys_role_menu(sys_role_id, sys_menu_id, data_scope_type) VALUES(6, 10030404, 0);"]
[6,{"$f":"菜单!A118","v":10030405},{"$f":"菜单!E118","v":"评估监测/教师信息上报/审核"},"INSERT INTO sys_role_menu(sys_role_id, sys_menu_id, data_scope_type) VALUES(6, 10030405, 0);"]
[6,{"$f":"菜单!A119","v":10030406},{"$f":"菜单!E119","v":"评估监测/教师信息上报/下载"},"INSERT INTO sys_role_menu(sys_role_id, sys_menu_id, data_scope_type) VALUES(6, 10030406, 0);"]
[6,{"$f":"菜单!A120","v":10030500},{"$f":"菜单!E120","v":"评估监测/教师学科上报"},"INSERT INTO sys_role_menu(sys_role_id, sys_menu_id, data_scope_type) VALUES(6, 10030500, 0);"]
[6,{"$f":"菜单!A121","v":10030501},{"$f":"菜单!E121","v":"评估监测/教师学科上报/添加"},"INSERT INTO sys_role_menu(sys_role_id, sys_menu_id, data_scope_type) VALUES(6, 10030501, 0);"]
[6,{"$f":"菜单!A122","v":10030502},{"$f":"菜单!E122","v":"评估监测/教师学科上报/修改"},"INSERT INTO sys_role_menu(sys_role_id, sys_menu_id, data_scope_type) VALUES(6, 10030502, 0);"]
[6,{"$f":"菜单!A123","v":10030503},{"$f":"菜单!E123","v":"评估监测/教师学科上报/删除"},"INSERT INTO sys_role_menu(sys_role_id, sys_menu_id, data_scope_type) VALUES(6, 10030503, 0);"]
[6,{"$f":"菜单!A124","v":10030504},{"$f":"菜单!E124","v":"评估监测/教师学科上报/提交"},"INSERT INTO sys_role_menu(sys_role_id, sys_menu_id, data_scope_type) VALUES(6, 10030504, 0);"]
[6,{"$f":"菜单!A125","v":10030505},{"$f":"菜单!E125","v":"评估监测/教师学科上报/审核"},"INSERT INTO sys_role_menu(sys_role_id, sys_menu_id, data_scope_type) VALUES(6, 10030505, 0);"]
[6,{"$f":"菜单!A126","v":10030506},{"$f":"菜单!E126","v":"评估监测/教师学科上报/下载"},"INSERT INTO sys_role_menu(sys_role_id, sys_menu_id, data_scope_type) VALUES(6, 10030506, 0);"]
[6,{"$f":"菜单!A127","v":10030600},{"$f":"菜单!E127","v":"评估监测/缺测替补上报"},{"$f":"\"INSERT INTO sys_role_menu(sys_role_id, sys_menu_id, data_scope_type) VALUES(\"&A50&\", \"&B50&\", 0);\"","v":"INSERT INTO sys_role_menu(sys_role_id, sys_menu_id, data_scope_type) VALUES(6, 10030600, 0);"}]
[6,{"$f":"菜单!A128","v":10030601},{"$f":"菜单!E128","v":"评估监测/缺测替补上报/添加"},"INSERT INTO sys_role_menu(sys_role_id, sys_menu_id, data_scope_type) VALUES(6, 10030601, 0);"]
[6,{"$f":"菜单!A129","v":10030602},{"$f":"菜单!E129","v":"评估监测/缺测替补上报/修改"},"INSERT INTO sys_role_menu(sys_role_id, sys_menu_id, data_scope_type) VALUES(6, 10030602, 0);"]
[6,{"$f":"菜单!A130","v":10030603},{"$f":"菜单!E130","v":"评估监测/缺测替补上报/删除"},"INSERT INTO sys_role_menu(sys_role_id, sys_menu_id, data_scope_type) VALUES(6, 10030603, 0);"]
[6,{"$f":"菜单!A131","v":10030604},{"$f":"菜单!E131","v":"评估监测/缺测替补上报/提交"},"INSERT INTO sys_role_menu(sys_role_id, sys_menu_id, data_scope_type) VALUES(6, 10030604, 0);"]
[6,{"$f":"菜单!A132","v":10030605},{"$f":"菜单!E132","v":"评估监测/缺测替补上报/审核"},"INSERT INTO sys_role_menu(sys_role_id, sys_menu_id, data_scope_type) VALUES(6, 10030605, 0);"]
[6,{"$f":"菜单!A133","v":10030606},{"$f":"菜单!E133","v":"评估监测/缺测替补上报/下载"},"INSERT INTO sys_role_menu(sys_role_id, sys_menu_id, data_scope_type) VALUES(6, 10030606, 0);"]
[6,{"$f":"菜单!A134","v":10030700},{"$f":"菜单!E134","v":"评估监测/校考成绩上报"},"INSERT INTO sys_role_menu(sys_role_id, sys_menu_id, data_scope_type) VALUES(6, 10030700, 0);"]
[6,{"$f":"菜单!A135","v":10030701},{"$f":"菜单!E135","v":"评估监测/校考成绩上报/添加"},"INSERT INTO sys_role_menu(sys_role_id, sys_menu_id, data_scope_type) VALUES(6, 10030701, 0);"]
[6,{"$f":"菜单!A136","v":10030702},{"$f":"菜单!E136","v":"评估监测/校考成绩上报/修改"},"INSERT INTO sys_role_menu(sys_role_id, sys_menu_id, data_scope_type) VALUES(6, 10030702, 0);"]
[6,{"$f":"菜单!A137","v":10030703},{"$f":"菜单!E137","v":"评估监测/校考成绩上报/删除"},"INSERT INTO sys_role_menu(sys_role_id, sys_menu_id, data_scope_type) VALUES(6, 10030703, 0);"]
[6,{"$f":"菜单!A138","v":10030704},{"$f":"菜单!E138","v":"评估监测/校考成绩上报/提交"},"INSERT INTO sys_role_menu(sys_role_id, sys_menu_id, data_scope_type) VALUES(6, 10030704, 0);"]
[6,{"$f":"菜单!A139","v":10030705},{"$f":"菜单!E139","v":"评估监测/校考成绩上报/审核"},"INSERT INTO sys_role_menu(sys_role_id, sys_menu_id, data_scope_type) VALUES(6, 10030705, 0);"]
[6,{"$f":"菜单!A140","v":10030706},{"$f":"菜单!E140","v":"评估监测/校考成绩上报/下载"},"INSERT INTO sys_role_menu(sys_role_id, sys_menu_id, data_scope_type) VALUES(6, 10030706, 0);"]
[6,{"$f":"菜单!A141","v":10030800},{"$f":"菜单!E141","v":"评估监测/缺测替补抽取"},"INSERT INTO sys_role_menu(sys_role_id, sys_menu_id, data_scope_type) VALUES(6, 10030800, 0);"]
[6,{"$f":"菜单!A142","v":10030801},{"$f":"菜单!E142","v":"评估监测/缺测替补抽取/添加"},"INSERT INTO sys_role_menu(sys_role_id, sys_menu_id, data_scope_type) VALUES(6, 10030801, 0);"]
[6,{"$f":"菜单!A143","v":10030802},{"$f":"菜单!E143","v":"评估监测/缺测替补抽取/修改"},"INSERT INTO sys_role_menu(sys_role_id, sys_menu_id, data_scope_type) VALUES(6, 10030802, 0);"]
[6,{"$f":"菜单!A144","v":10030803},{"$f":"菜单!E144","v":"评估监测/缺测替补抽取/删除"},"INSERT INTO sys_role_menu(sys_role_id, sys_menu_id, data_scope_type) VALUES(6, 10030803, 0);"]
[6,{"$f":"菜单!A145","v":10030804},{"$f":"菜单!E145","v":"评估监测/缺测替补抽取/提交"},"INSERT INTO sys_role_menu(sys_role_id, sys_menu_id, data_scope_type) VALUES(6, 10030804, 0);"]
[6,{"$f":"菜单!A146","v":10030805},{"$f":"菜单!E146","v":"评估监测/缺测替补抽取/审核"},"INSERT INTO sys_role_menu(sys_role_id, sys_menu_id, data_scope_type) VALUES(6, 10030805, 0);"]
[6,{"$f":"菜单!A147","v":10030806},{"$f":"菜单!E147","v":"评估监测/缺测替补抽取/下载"},"INSERT INTO sys_role_menu(sys_role_id, sys_menu_id, data_scope_type) VALUES(6, 10030806, 0);"]
[null,null,null,"/* 学校数据填报员角色菜单权限 */"]
[7,{"$f":"菜单!A2","v":10000000},{"$f":"菜单!E2","v":"工作台"},{"$f":"\"INSERT INTO sys_role_menu(sys_role_id, sys_menu_id, data_scope_type) VALUES(\"&A72&\", \"&B72&\", 0);\"","v":"INSERT INTO sys_role_menu(sys_role_id, sys_menu_id, data_scope_type) VALUES(7, 10000000, 0);"}]
[7,{"$f":"菜单!A97","v":10030000},{"$f":"菜单!E97","v":"评估监测"},{"$f":"\"INSERT INTO sys_role_menu(sys_role_id, sys_menu_id, data_scope_type) VALUES(\"&A73&\", \"&B73&\", 0);\"","v":"INSERT INTO sys_role_menu(sys_role_id, sys_menu_id, data_scope_type) VALUES(7, 10030000, 0);"}]
[7,{"$f":"菜单!A98","v":10030100},{"$f":"菜单!E98","v":"评估监测/评估监测计划"},"INSERT INTO sys_role_menu(sys_role_id, sys_menu_id, data_scope_type) VALUES(7, 10030100, 0);"]
[7,{"$f":"菜单!A99","v":10030200},{"$f":"菜单!E99","v":"评估监测/学生信息上报"},"INSERT INTO sys_role_menu(sys_role_id, sys_menu_id, data_scope_type) VALUES(7, 10030200, 0);"]
[7,{"$f":"菜单!A100","v":10030201},{"$f":"菜单!E100","v":"评估监测/学生信息上报/添加"},"INSERT INTO sys_role_menu(sys_role_id, sys_menu_id, data_scope_type) VALUES(7, 10030201, 0);"]
[7,{"$f":"菜单!A101","v":10030202},{"$f":"菜单!E101","v":"评估监测/学生信息上报/修改"},"INSERT INTO sys_role_menu(sys_role_id, sys_menu_id, data_scope_type) VALUES(7, 10030202, 0);"]
[7,{"$f":"菜单!A102","v":10030203},{"$f":"菜单!E102","v":"评估监测/学生信息上报/删除"},"INSERT INTO sys_role_menu(sys_role_id, sys_menu_id, data_scope_type) VALUES(7, 10030203, 0);"]
[7,{"$f":"菜单!A103","v":10030204},{"$f":"菜单!E103","v":"评估监测/学生信息上报/提交"},"INSERT INTO sys_role_menu(sys_role_id, sys_menu_id, data_scope_type) VALUES(7, 10030204, 0);"]
[7,{"$f":"菜单!A104","v":10030205},{"$f":"菜单!E104","v":"评估监测/学生信息上报/审核"},"INSERT INTO sys_role_menu(sys_role_id, sys_menu_id, data_scope_type) VALUES(7, 10030205, 0);"]
[7,{"$f":"菜单!A105","v":10030206},{"$f":"菜单!E105","v":"评估监测/学生信息上报/下载"},"INSERT INTO sys_role_menu(sys_role_id, sys_menu_id, data_scope_type) VALUES(7, 10030206, 0);"]
[7,{"$f":"菜单!A106","v":10030300},{"$f":"菜单!E106","v":"评估监测/特殊学生上报"},"INSERT INTO sys_role_menu(sys_role_id, sys_menu_id, data_scope_type) VALUES(7, 10030300, 0);"]
[7,{"$f":"菜单!A107","v":10030301},{"$f":"菜单!E107","v":"评估监测/特殊学生上报/添加"},"INSERT INTO sys_role_menu(sys_role_id, sys_menu_id, data_scope_type) VALUES(7, 10030301, 0);"]
[7,{"$f":"菜单!A108","v":10030302},{"$f":"菜单!E108","v":"评估监测/特殊学生上报/修改"},"INSERT INTO sys_role_menu(sys_role_id, sys_menu_id, data_scope_type) VALUES(7, 10030302, 0);"]
[7,{"$f":"菜单!A109","v":10030303},{"$f":"菜单!E109","v":"评估监测/特殊学生上报/删除"},"INSERT INTO sys_role_menu(sys_role_id, sys_menu_id, data_scope_type) VALUES(7, 10030303, 0);"]
[7,{"$f":"菜单!A110","v":10030304},{"$f":"菜单!E110","v":"评估监测/特殊学生上报/提交"},"INSERT INTO sys_role_menu(sys_role_id, sys_menu_id, data_scope_type) VALUES(7, 10030304, 0);"]
[7,{"$f":"菜单!A111","v":10030305},{"$f":"菜单!E111","v":"评估监测/特殊学生上报/审核"},"INSERT INTO sys_role_menu(sys_role_id, sys_menu_id, data_scope_type) VALUES(7, 10030305, 0);"]
[7,{"$f":"菜单!A112","v":10030306},{"$f":"菜单!E112","v":"评估监测/特殊学生上报/下载"},"INSERT INTO sys_role_menu(sys_role_id, sys_menu_id, data_scope_type) VALUES(7, 10030306, 0);"]
[7,{"$f":"菜单!A113","v":10030400},{"$f":"菜单!E113","v":"评估监测/教师信息上报"},"INSERT INTO sys_role_menu(sys_role_id, sys_menu_id, data_scope_type) VALUES(7, 10030400, 0);"]
[7,{"$f":"菜单!A114","v":10030401},{"$f":"菜单!E114","v":"评估监测/教师信息上报/添加"},"INSERT INTO sys_role_menu(sys_role_id, sys_menu_id, data_scope_type) VALUES(7, 10030401, 0);"]
[7,{"$f":"菜单!A115","v":10030402},{"$f":"菜单!E115","v":"评估监测/教师信息上报/修改"},"INSERT INTO sys_role_menu(sys_role_id, sys_menu_id, data_scope_type) VALUES(7, 10030402, 0);"]
[7,{"$f":"菜单!A116","v":10030403},{"$f":"菜单!E116","v":"评估监测/教师信息上报/删除"},"INSERT INTO sys_role_menu(sys_role_id, sys_menu_id, data_scope_type) VALUES(7, 10030403, 0);"]
[7,{"$f":"菜单!A117","v":10030404},{"$f":"菜单!E117","v":"评估监测/教师信息上报/提交"},"INSERT INTO sys_role_menu(sys_role_id, sys_menu_id, data_scope_type) VALUES(7, 10030404, 0);"]
[7,{"$f":"菜单!A118","v":10030405},{"$f":"菜单!E118","v":"评估监测/教师信息上报/审核"},"INSERT INTO sys_role_menu(sys_role_id, sys_menu_id, data_scope_type) VALUES(7, 10030405, 0);"]
[7,{"$f":"菜单!A119","v":10030406},{"$f":"菜单!E119","v":"评估监测/教师信息上报/下载"},"INSERT INTO sys_role_menu(sys_role_id, sys_menu_id, data_scope_type) VALUES(7, 10030406, 0);"]
[7,{"$f":"菜单!A120","v":10030500},{"$f":"菜单!E120","v":"评估监测/教师学科上报"},"INSERT INTO sys_role_menu(sys_role_id, sys_menu_id, data_scope_type) VALUES(7, 10030500, 0);"]
[7,{"$f":"菜单!A121","v":10030501},{"$f":"菜单!E121","v":"评估监测/教师学科上报/添加"},"INSERT INTO sys_role_menu(sys_role_id, sys_menu_id, data_scope_type) VALUES(7, 10030501, 0);"]
[7,{"$f":"菜单!A122","v":10030502},{"$f":"菜单!E122","v":"评估监测/教师学科上报/修改"},"INSERT INTO sys_role_menu(sys_role_id, sys_menu_id, data_scope_type) VALUES(7, 10030502, 0);"]
[7,{"$f":"菜单!A123","v":10030503},{"$f":"菜单!E123","v":"评估监测/教师学科上报/删除"},"INSERT INTO sys_role_menu(sys_role_id, sys_menu_id, data_scope_type) VALUES(7, 10030503, 0);"]
[7,{"$f":"菜单!A124","v":10030504},{"$f":"菜单!E124","v":"评估监测/教师学科上报/提交"},"INSERT INTO sys_role_menu(sys_role_id, sys_menu_id, data_scope_type) VALUES(7, 10030504, 0);"]
[7,{"$f":"菜单!A125","v":10030505},{"$f":"菜单!E125","v":"评估监测/教师学科上报/审核"},"INSERT INTO sys_role_menu(sys_role_id, sys_menu_id, data_scope_type) VALUES(7, 10030505, 0);"]
[7,{"$f":"菜单!A126","v":10030506},{"$f":"菜单!E126","v":"评估监测/教师学科上报/下载"},"INSERT INTO sys_role_menu(sys_role_id, sys_menu_id, data_scope_type) VALUES(7, 10030506, 0);"]
[7,{"$f":"菜单!A127","v":10030600},{"$f":"菜单!E127","v":"评估监测/缺测替补上报"},"INSERT INTO sys_role_menu(sys_role_id, sys_menu_id, data_scope_type) VALUES(7, 10030600, 0);"]
[7,{"$f":"菜单!A128","v":10030601},{"$f":"菜单!E128","v":"评估监测/缺测替补上报/添加"},"INSERT INTO sys_role_menu(sys_role_id, sys_menu_id, data_scope_type) VALUES(7, 10030601, 0);"]
[7,{"$f":"菜单!A129","v":10030602},{"$f":"菜单!E129","v":"评估监测/缺测替补上报/修改"},"INSERT INTO sys_role_menu(sys_role_id, sys_menu_id, data_scope_type) VALUES(7, 10030602, 0);"]
[7,{"$f":"菜单!A130","v":10030603},{"$f":"菜单!E130","v":"评估监测/缺测替补上报/删除"},"INSERT INTO sys_role_menu(sys_role_id, sys_menu_id, data_scope_type) VALUES(7, 10030603, 0);"]
[7,{"$f":"菜单!A131","v":10030604},{"$f":"菜单!E131","v":"评估监测/缺测替补上报/提交"},"INSERT INTO sys_role_menu(sys_role_id, sys_menu_id, data_scope_type) VALUES(7, 10030604, 0);"]
[7,{"$f":"菜单!A132","v":10030605},{"$f":"菜单!E132","v":"评估监测/缺测替补上报/审核"},"INSERT INTO sys_role_menu(sys_role_id, sys_menu_id, data_scope_type) VALUES(7, 10030605, 0);"]
[7,{"$f":"菜单!A133","v":10030606},{"$f":"菜单!E133","v":"评估监测/缺测替补上报/下载"},"INSERT INTO sys_role_menu(sys_role_id, sys_menu_id, data_scope_type) VALUES(7, 10030606, 0);"]
[7,{"$f":"菜单!A134","v":10030700},{"$f":"菜单!E134","v":"评估监测/校考成绩上报"},"INSERT INTO sys_role_menu(sys_role_id, sys_menu_id, data_scope_type) VALUES(7, 10030700, 0);"]
[7,{"$f":"菜单!A135","v":10030701},{"$f":"菜单!E135","v":"评估监测/校考成绩上报/添加"},"INSERT INTO sys_role_menu(sys_role_id, sys_menu_id, data_scope_type) VALUES(7, 10030701, 0);"]
[7,{"$f":"菜单!A136","v":10030702},{"$f":"菜单!E136","v":"评估监测/校考成绩上报/修改"},"INSERT INTO sys_role_menu(sys_role_id, sys_menu_id, data_scope_type) VALUES(7, 10030702, 0);"]
[7,{"$f":"菜单!A137","v":10030703},{"$f":"菜单!E137","v":"评估监测/校考成绩上报/删除"},"INSERT INTO sys_role_menu(sys_role_id, sys_menu_id, data_scope_type) VALUES(7, 10030703, 0);"]
[7,{"$f":"菜单!A138","v":10030704},{"$f":"菜单!E138","v":"评估监测/校考成绩上报/提交"},"INSERT INTO sys_role_menu(sys_role_id, sys_menu_id, data_scope_type) VALUES(7, 10030704, 0);"]
[7,{"$f":"菜单!A139","v":10030705},{"$f":"菜单!E139","v":"评估监测/校考成绩上报/审核"},"INSERT INTO sys_role_menu(sys_role_id, sys_menu_id, data_scope_type) VALUES(7, 10030705, 0);"]
[7,{"$f":"菜单!A140","v":10030706},{"$f":"菜单!E140","v":"评估监测/校考成绩上报/下载"},"INSERT INTO sys_role_menu(sys_role_id, sys_menu_id, data_scope_type) VALUES(7, 10030706, 0);"]
[7,{"$f":"菜单!A141","v":10030800},{"$f":"菜单!E141","v":"评估监测/缺测替补抽取"},"INSERT INTO sys_role_menu(sys_role_id, sys_menu_id, data_scope_type) VALUES(7, 10030800, 0);"]
[7,{"$f":"菜单!A142","v":10030801},{"$f":"菜单!E142","v":"评估监测/缺测替补抽取/添加"},"INSERT INTO sys_role_menu(sys_role_id, sys_menu_id, data_scope_type) VALUES(7, 10030801, 0);"]
[7,{"$f":"菜单!A143","v":10030802},{"$f":"菜单!E143","v":"评估监测/缺测替补抽取/修改"},"INSERT INTO sys_role_menu(sys_role_id, sys_menu_id, data_scope_type) VALUES(7, 10030802, 0);"]
[7,{"$f":"菜单!A144","v":10030803},{"$f":"菜单!E144","v":"评估监测/缺测替补抽取/删除"},"INSERT INTO sys_role_menu(sys_role_id, sys_menu_id, data_scope_type) VALUES(7, 10030803, 0);"]
[7,{"$f":"菜单!A145","v":10030804},{"$f":"菜单!E145","v":"评估监测/缺测替补抽取/提交"},"INSERT INTO sys_role_menu(sys_role_id, sys_menu_id, data_scope_type) VALUES(7, 10030804, 0);"]
[7,{"$f":"菜单!A146","v":10030805},{"$f":"菜单!E146","v":"评估监测/缺测替补抽取/审核"},"INSERT INTO sys_role_menu(sys_role_id, sys_menu_id, data_scope_type) VALUES(7, 10030805, 0);"]
[7,{"$f":"菜单!A147","v":10030806},{"$f":"菜单!E147","v":"评估监测/缺测替补抽取/下载"},"INSERT INTO sys_role_menu(sys_role_id, sys_menu_id, data_scope_type) VALUES(7, 10030806, 0);"]

{"sheet":"审核角色","index":3,"n_rows":42,"n_cols":4,"rows_kept":42,"cut":false,"hidden":false,"merged":[]}
["sys_role_id","sys_menu_id","sys_menu_name"]
[null,null,null,"/* 小学特殊学生审核角色菜单权限 */"]
[3,{"$f":"菜单!A2","v":10000000},{"$f":"菜单!E2","v":"工作台"},{"$f":"\"INSERT INTO sys_role_menu(sys_role_id, sys_menu_id, data_scope_type) VALUES(\"&A3&\", \"&B3&\", 0);\"","v":"INSERT INTO sys_role_menu(sys_role_id, sys_menu_id, data_scope_type) VALUES(3, 10000000, 0);"}]
[3,{"$f":"菜单!A24","v":10020000},{"$f":"菜单!E24","v":"监测管理"},{"$f":"\"INSERT INTO sys_role_menu(sys_role_id, sys_menu_id, data_scope_type) VALUES(\"&A4&\", \"&B4&\", 0);\"","v":"INSERT INTO sys_role_menu(sys_role_id, sys_menu_id, data_scope_type) VALUES(3, 10020000, 0);"}]
[3,{"$f":"菜单!A51","v":10020600},{"$f":"菜单!E51","v":"监测管理/特殊学生申报审核"},{"$f":"\"INSERT INTO sys_role_menu(sys_role_id, sys_menu_id, data_scope_type) VALUES(\"&A5&\", \"&B5&\", 0);\"","v":"INSERT INTO sys_role_menu(sys_role_id, sys_menu_id, data_scope_type) VALUES(3, 10020600, 0);"}]
[3,{"$f":"菜单!A52","v":10020601},{"$f":"菜单!E52","v":"监测管理/特殊学生申报审核/添加"},"INSERT INTO sys_role_menu(sys_role_id, sys_menu_id, data_scope_type) VALUES(3, 10020601, 0);"]
[3,{"$f":"菜单!A53","v":10020602},{"$f":"菜单!E53","v":"监测管理/特殊学生申报审核/修改"},"INSERT INTO sys_role_menu(sys_role_id, sys_menu_id, data_scope_type) VALUES(3, 10020602, 0);"]
[3,{"$f":"菜单!A54","v":10020603},{"$f":"菜单!E54","v":"监测管理/特殊学生申报审核/删除"},"INSERT INTO sys_role_menu(sys_role_id, sys_menu_id, data_scope_type) VALUES(3, 10020603, 0);"]
[3,{"$f":"菜单!A55","v":10020604},{"$f":"菜单!E55","v":"监测管理/特殊学生申报审核/提交"},"INSERT INTO sys_role_menu(sys_role_id, sys_menu_id, data_scope_type) VALUES(3, 10020604, 0);"]
[3,{"$f":"菜单!A56","v":10020605},{"$f":"菜单!E56","v":"监测管理/特殊学生申报审核/审核"},"INSERT INTO sys_role_menu(sys_role_id, sys_menu_id, data_scope_type) VALUES(3, 10020605, 0);"]
[3,{"$f":"菜单!A57","v":10020606},{"$f":"菜单!E57","v":"监测管理/特殊学生申报审核/下载"},"INSERT INTO sys_role_menu(sys_role_id, sys_menu_id, data_scope_type) VALUES(3, 10020606, 0);"]
[null,null,null,"/* 小学缺测替补审核角色菜单权限 */"]
[4,{"$f":"菜单!A2","v":10000000},{"$f":"菜单!E2","v":"工作台"},{"$f":"\"INSERT INTO sys_role_menu(sys_role_id, sys_menu_id, data_scope_type) VALUES(\"&A13&\", \"&B13&\", 0);\"","v":"INSERT INTO sys_role_menu(sys_role_id, sys_menu_id, data_scope_type) VALUES(4, 10000000, 0);"}]
[4,{"$f":"菜单!A24","v":10020000},{"$f":"菜单!E24","v":"监测管理"},{"$f":"\"INSERT INTO sys_role_menu(sys_role_id, sys_menu_id, data_scope_type) VALUES(\"&A14&\", \"&B14&\", 0);\"","v":"INSERT INTO sys_role_menu(sys_role_id, sys_menu_id, data_scope_type) VALUES(4, 10020000, 0);"}]
[4,{"$f":"菜单!A58","v":10020700},{"$f":"菜单!E58","v":"监测管理/缺测替补学生审核"},{"$f":"\"INSERT INTO sys_role_menu(sys_role_id, sys_menu_id, data_scope_type) VALUES(\"&A15&\", \"&B15&\", 0);\"","v":"INSERT INTO sys_role_menu(sys_role_id, sys_menu_id, data_scope_type) VALUES(4, 10020700, 0);"}]
[4,{"$f":"菜单!A59","v":10020701},{"$f":"菜单!E59","v":"监测管理/缺测替补学生审核/添加"},"INSERT INTO sys_role_menu(sys_role_id, sys_menu_id, data_scope_type) VALUES(4, 10020701, 0);"]
[4,{"$f":"菜单!A60","v":10020702},{"$f":"菜单!E60","v":"监测管理/缺测替补学生审核/修改"},"INSERT INTO sys_role_menu(sys_role_id, sys_menu_id, data_scope_type) VALUES(4, 10020702, 0);"]
[4,{"$f":"菜单!A61","v":10020703},{"$f":"菜单!E61","v":"监测管理/缺测替补学生审核/删除"},"INSERT INTO sys_role_menu(sys_role_id, sys_menu_id, data_scope_type) VALUES(4, 10020703, 0);"]
[4,{"$f":"菜单!A62","v":10020704},{"$f":"菜单!E62","v":"监测管理/缺测替补学生审核/提交"},"INSERT INTO sys_role_menu(sys_role_id, sys_menu_id, data_scope_type) VALUES(4, 10020704, 0);"]
[4,{"$f":"菜单!A63","v":10020705},{"$f":"菜单!E63","v":"监测管理/缺测替补学生审核/审核"},"INSERT INTO sys_role_menu(sys_role_id, sys_menu_id, data_scope_type) VALUES(4, 10020705, 0);"]
[4,{"$f":"菜单!A64","v":10020706},{"$f":"菜单!E64","v":"监测管理/缺测替补学生审核/下载"},"INSERT INTO sys_role_menu(sys_role_id, sys_menu_id, data_scope_type) VALUES(4, 10020706, 0);"]
[]
[null,null,null,"/* 初中特殊学生审核角色菜单权限 */"]
[9,{"$f":"菜单!A2","v":10000000},{"$f":"菜单!E2","v":"工作台"},{"$f":"\"INSERT INTO sys_role_menu(sys_role_id, sys_menu_id, data_scope_type) VALUES(\"&A24&\", \"&B24&\", 0);\"","v":"INSERT INTO sys_role_menu(sys_role_id, sys_menu_id, data_scope_type) VALUES(9, 10000000, 0);"}]
[9,{"$f":"菜单!A24","v":10020000},{"$f":"菜单!E24","v":"监测管理"},{"$f":"\"INSERT INTO sys_role_menu(sys_role_id, sys_menu_id, data_scope_type) VALUES(\"&A25&\", \"&B25&\", 0);\"","v":"INSERT INTO sys_role_menu(sys_role_id, sys_menu_id, data_scope_type) VALUES(9, 10020000, 0);"}]
[9,{"$f":"菜单!A51","v":10020600},{"$f":"菜单!E51","v":"监测管理/特殊学生申报审核"},{"$f":"\"INSERT INTO sys_role_menu(sys_role_id, sys_menu_id, data_scope_type) VALUES(\"&A26&\", \"&B26&\", 0);\"","v":"INSERT INTO sys_role_menu(sys_role_id, sys_menu_id, data_scope_type) VALUES(9, 10020600, 0);"}]
[9,{"$f":"菜单!A52","v":10020601},{"$f":"菜单!E52","v":"监测管理/特殊学生申报审核/添加"},{"$f":"\"INSERT INTO sys_role_menu(sys_role_id, sys_menu_id, data_scope_type) VALUES(\"&A27&\", \"&B27&\", 0);\"","v":"INSERT INTO sys_role_menu(sys_role_id, sys_menu_id, data_scope_type) VALUES(9, 10020601, 0);"}]
[9,{"$f":"菜单!A53","v":10020602},{"$f":"菜单!E53","v":"监测管理/特殊学生申报审核/修改"},"INSERT INTO sys_role_menu(sys_role_id, sys_menu_id, data_scope_type) VALUES(9, 10020602, 0);"]
[9,{"$f":"菜单!A54","v":10020603},{"$f":"菜单!E54","v":"监测管理/特殊学生申报审核/删除"},"INSERT INTO sys_role_menu(sys_role_id, sys_menu_id, data_scope_type) VALUES(9, 10020603, 0);"]
[9,{"$f":"菜单!A55","v":10020604},{"$f":"菜单!E55","v":"监测管理/特殊学生申报审核/提交"},"INSERT INTO sys_role_menu(sys_role_id, sys_menu_id, data_scope_type) VALUES(9, 10020604, 0);"]
[9,{"$f":"菜单!A56","v":10020605},{"$f":"菜单!E56","v":"监测管理/特殊学生申报审核/审核"},"INSERT INTO sys_role_menu(sys_role_id, sys_menu_id, data_scope_type) VALUES(9, 10020605, 0);"]
[9,{"$f":"菜单!A57","v":10020606},{"$f":"菜单!E57","v":"监测管理/特殊学生申报审核/下载"},"INSERT INTO sys_role_menu(sys_role_id, sys_menu_id, data_scope_type) VALUES(9, 10020606, 0);"]
[null,null,null,"/* 初中缺测替补审核角色菜单权限 */"]
[10,{"$f":"菜单!A2","v":10000000},{"$f":"菜单!E2","v":"工作台"},{"$f":"\"INSERT INTO sys_role_menu(sys_role_id, sys_menu_id, data_scope_type) VALUES(\"&A34&\", \"&B34&\", 0);\"","v":"INSERT INTO sys_role_menu(sys_role_id, sys_menu_id, data_scope_type) VALUES(10, 10000000, 0);"}]
[10,{"$f":"菜单!A24","v":10020000},{"$f":"菜单!E24","v":"监测管理"},{"$f":"\"INSERT INTO sys_role_menu(sys_role_id, sys_menu_id, data_scope_type) VALUES(\"&A35&\", \"&B35&\", 0);\"","v":"INSERT INTO sys_role_menu(sys_role_id, sys_menu_id, data_scope_type) VALUES(10, 10020000, 0);"}]
[10,{"$f":"菜单!A58","v":10020700},{"$f":"菜单!E58","v":"监测管理/缺测替补学生审核"},{"$f":"\"INSERT INTO sys_role_menu(sys_role_id, sys_menu_id, data_scope_type) VALUES(\"&A36&\", \"&B36&\", 0);\"","v":"INSERT INTO sys_role_menu(sys_role_id, sys_menu_id, data_scope_type) VALUES(10, 10020700, 0);"}]
[10,{"$f":"菜单!A59","v":10020701},{"$f":"菜单!E59","v":"监测管理/缺测替补学生审核/添加"},"INSERT INTO sys_role_menu(sys_role_id, sys_menu_id, data_scope_type) VALUES(10, 10020701, 0);"]
[10,{"$f":"菜单!A60","v":10020702},{"$f":"菜单!E60","v":"监测管理/缺测替补学生审核/修改"},"INSERT INTO sys_role_menu(sys_role_id, sys_menu_id, data_scope_type) VALUES(10, 10020702, 0);"]
[10,{"$f":"菜单!A61","v":10020703},{"$f":"菜单!E61","v":"监测管理/缺测替补学生审核/删除"},"INSERT INTO sys_role_menu(sys_role_id, sys_menu_id, data_scope_type) VALUES(10, 10020703, 0);"]
[10,{"$f":"菜单!A62","v":10020704},{"$f":"菜单!E62","v":"监测管理/缺测替补学生审核/提交"},"INSERT INTO sys_role_menu(sys_role_id, sys_menu_id, data_scope_type) VALUES(10, 10020704, 0);"]
[10,{"$f":"菜单!A63","v":10020705},{"$f":"菜单!E63","v":"监测管理/缺测替补学生审核/审核"},"INSERT INTO sys_role_menu(sys_role_id, sys_menu_id, data_scope_type) VALUES(10, 10020705, 0);"]
[10,{"$f":"菜单!A64","v":10020706},{"$f":"菜单!E64","v":"监测管理/缺测替补学生审核/下载"},"INSERT INTO sys_role_menu(sys_role_id, sys_menu_id, data_scope_type) VALUES(10, 10020706, 0);"]

{"sheet":"双向细目表角色","index":4,"n_rows":18,"n_cols":4,"rows_kept":18,"cut":false,"hidden":false,"merged":[]}
["sys_role_id","sys_menu_id","sys_menu_name"]
[11,{"$f":"菜单!A2","v":10000000},{"$f":"菜单!E2","v":"工作台"},{"$f":"\"INSERT INTO sys_role_menu(sys_role_id, sys_menu_id, data_scope_type) VALUES(\"&A2&\", \"&B2&\", 0);\"","v":"INSERT INTO sys_role_menu(sys_role_id, sys_menu_id, data_scope_type) VALUES(11, 10000000, 0);"}]
[11,{"$f":"菜单!A24","v":10020000},{"$f":"菜单!E24","v":"监测管理"},{"$f":"\"INSERT INTO sys_role_menu(sys_role_id, sys_menu_id, data_scope_type) VALUES(\"&A3&\", \"&B3&\", 0);\"","v":"INSERT INTO sys_role_menu(sys_role_id, sys_menu_id, data_scope_type) VALUES(11, 10020000, 0);"}]
[11,{"$f":"菜单!A83","v":10025000},{"$f":"菜单!E83","v":"监测管理/双向细目表编制"},{"$f":"\"INSERT INTO sys_role_menu(sys_role_id, sys_menu_id, data_scope_type) VALUES(\"&A4&\", \"&B4&\", 0);\"","v":"INSERT INTO sys_role_menu(sys_role_id, sys_menu_id, data_scope_type) VALUES(11, 10025000, 0);"}]
[11,{"$f":"菜单!A84","v":10025001},{"$f":"菜单!E84","v":"监测管理/双向细目表编制/添加"},{"$f":"\"INSERT INTO sys_role_menu(sys_role_id, sys_menu_id, data_scope_type) VALUES(\"&A5&\", \"&B5&\", 0);\"","v":"INSERT INTO sys_role_menu(sys_role_id, sys_menu_id, data_scope_type) VALUES(11, 10025001, 0);"}]
[11,{"$f":"菜单!A85","v":10025002},{"$f":"菜单!E85","v":"监测管理/双向细目表编制/修改"},{"$f":"\"INSERT INTO sys_role_menu(sys_role_id, sys_menu_id, data_scope_type) VALUES(\"&A6&\", \"&B6&\", 0);\"","v":"INSERT INTO sys_role_menu(sys_role_id, sys_menu_id, data_scope_type) VALUES(11, 10025002, 0);"}]
[11,{"$f":"菜单!A86","v":10025003},{"$f":"菜单!E86","v":"监测管理/双向细目表编制/删除"},{"$f":"\"INSERT INTO sys_role_menu(sys_role_id, sys_menu_id, data_scope_type) VALUES(\"&A7&\", \"&B7&\", 0);\"","v":"INSERT INTO sys_role_menu(sys_role_id, sys_menu_id, data_scope_type) VALUES(11, 10025003, 0);"}]
[11,{"$f":"菜单!A87","v":10025004},{"$f":"菜单!E87","v":"监测管理/双向细目表编制/审核"},"INSERT INTO sys_role_menu(sys_role_id, sys_menu_id, data_scope_type) VALUES(11, 10025004, 0);"]
[11,{"$f":"菜单!A88","v":10025005},{"$f":"菜单!E88","v":"监测管理/双向细目表编制/导出"},"INSERT INTO sys_role_menu(sys_role_id, sys_menu_id, data_scope_type) VALUES(11, 10025005, 0);"]
[]
[12,{"$f":"菜单!A2","v":10000000},{"$f":"菜单!E2","v":"工作台"},"INSERT INTO sys_role_menu(sys_role_id, sys_menu_id, data_scope_type) VALUES(12, 10000000, 0);"]
[12,{"$f":"菜单!A24","v":10020000},{"$f":"菜单!E24","v":"监测管理"},"INSERT INTO sys_role_menu(sys_role_id, sys_menu_id, data_scope_type) VALUES(12, 10020000, 0);"]
[12,{"$f":"菜单!A89","v":10025100},{"$f":"菜单!E89","v":"监测管理/学科问题建议撰写"},{"$f":"\"INSERT INTO sys_role_menu(sys_role_id, sys_menu_id, data_scope_type) VALUES(\"&A13&\", \"&B13&\", 0);\"","v":"INSERT INTO sys_role_menu(sys_role_id, sys_menu_id, data_scope_type) VALUES(12, 10025100, 0);"}]
[12,{"$f":"菜单!A90","v":10025101},{"$f":"菜单!E90","v":"监测管理/学科问题建议撰写/添加"},"INSERT INTO sys_role_menu(sys_role_id, sys_menu_id, data_scope_type) VALUES(12, 10025101, 0);"]
[12,{"$f":"菜单!A91","v":10025102},{"$f":"菜单!E91","v":"监测管理/学科问题建议撰写/修改"},"INSERT INTO sys_role_menu(sys_role_id, sys_menu_id, data_scope_type) VALUES(12, 10025102, 0);"]
[12,{"$f":"菜单!A92","v":10025103},{"$f":"菜单!E92","v":"监测管理/学科问题建议撰写/删除"},"INSERT INTO sys_role_menu(sys_role_id, sys_menu_id, data_scope_type) VALUES(12, 10025103, 0);"]
[12,{"$f":"菜单!A93","v":10025104},{"$f":"菜单!E93","v":"监测管理/学科问题建议撰写/审核"},"INSERT INTO sys_role_menu(sys_role_id, sys_menu_id, data_scope_type) VALUES(12, 10025104, 0);"]
[12,{"$f":"菜单!A94","v":10025105},{"$f":"菜单!E94","v":"监测管理/学科问题建议撰写/导出"},"INSERT INTO sys_role_menu(sys_role_id, sys_menu_id, data_scope_type) VALUES(12, 10025105, 0);"]

{"sheet":"枚举","index":5,"n_rows":4,"n_cols":5,"rows_kept":4,"cut":false,"hidden":false,"merged":[]}
["MenuType.FOLDER",1,null,"MenuOpenType.NONE",1]
["MenuType.MENU",2,null,"MenuOpenType.COMPONENT",2]
["MenuType.BUTTON",3,null,"MenuOpenType.INNER",3]
[null,null,null,"MenuOpenType.OUTER",4]