{"text_format":"2","workbook":"xlsx","n_sheets":5,"sheets":["智学网学校名称","区测系统学校名称","Sheet3","Sheet1","Sheet2"],"not_rendered":{"charts":0,"images":0,"macros":0,"external_links":0,"defined_names":0,"comments":0,"pivot_tables":0},"unopened":[],"bounds":{"document_bytes":16777216,"sheet_cells":100000,"run_cost":"one","rows_first":2000,"rows_last":500,"rows_between":2000,"halvings":0,"cell_chars":16384,"cell_head_chars":4096},"cells_cut":0,"cells_raw":0,"read":"whole","date_system":"1900"}

{"sheet":"智学网学校名称","index":0,"n_rows":98,"n_cols":7,"rows_kept":98,"cut":false,"hidden":false,"merged":[]}
["学段","名称","CC_ID","CC_代码","CC_名称","CC_全称"]
["初中","两江中学",{"$f":"VLOOKUP($B2,Sheet3!$A:$I,2,FALSE)","v":1518},{"$f":"VLOOKUP($B2,Sheet3!$A:$I,6,FALSE)","v":"128"},{"$f":"VLOOKUP($B2,Sheet3!$A:$I,4,FALSE)","v":"两江中学（初中）"},{"$f":"VLOOKUP($B2,Sheet3!$A:$I,5,FALSE)","v":"重庆市两江中学校（初中）"},{"$f":"\"{ \"\"\"&B2&\"\"\", new(){ Id = \"&C2&\", Code = \"\"\"&D2&\"\"\", Name = \"\"\"&E2&\"\"\", FullName = \"\"\"&F2&\"\"\" } },\"","v":"{ \"两江中学\", new(){ Id = 1518, Code = \"128\", Name = \"两江中学（初中）\", FullName = \"重庆市两江中学校（初中）\" } },"}]
["初中","仁睦中学",{"$f":"VLOOKUP($B3,Sheet3!$A:$I,2,FALSE)","v":1512},{"$f":"VLOOKUP($B3,Sheet3!$A:$I,6,FALSE)","v":"119"},{"$f":"VLOOKUP(B3,Sheet3!A:I,4,FALSE)","v":"仁睦中学"},{"$f":"VLOOKUP($B3,Sheet3!$A:$I,5,FALSE)","v":"重庆市渝北区仁睦初级中学校"},{"$f":"\"{ \"\"\"&B3&\"\"\", new(){ Id = \"&C3&\", Code = \"\"\"&D3&\"\"\", Name = \"\"\"&E3&\"\"\", FullName = \"\"\"&F3&\"\"\" } },\"","v":"{ \"仁睦中学\", new(){ Id = 1512, Code = \"119\", Name = \"仁睦中学\", FullName = \"重庆市渝北区仁睦初级中学校\" } },"}]
["初中","大湾中学",{"$f":"VLOOKUP($B4,Sheet3!$A:$I,2,FALSE)","v":1519},{"$f":"VLOOKUP($B4,Sheet3!$A:$I,6,FALSE)","v":"129"},{"$f":"VLOOKUP(B4,Sheet3!A:I,4,FALSE)","v":"大湾中学"},{"$f":"VLOOKUP($B4,Sheet3!$A:$I,5,FALSE)","v":"重庆市渝北区大湾初级中学校"},"{ \"大湾中学\", new(){ Id = 1519, Code = \"129\", Name = \"大湾中学\", FullName = \"重庆市渝北区大湾初级中学校\" } },"]
["初中","大盛中学",{"$f":"VLOOKUP($B5,Sheet3!$A:$I,2,FALSE)","v":1526},{"$f":"VLOOKUP($B5,Sheet3!$A:$I,6,FALSE)","v":"152"},{"$f":"VLOOKUP(B5,Sheet3!A:I,4,FALSE)","v":"大盛学校（初中）"},{"$f":"VLOOKUP($B5,Sheet3!$A:$I,5,FALSE)","v":"重庆市渝北区大盛学校（初中）"},"{ \"大盛中学\", new(){ Id = 1526, Code = \"152\", Name = \"大盛学校（初中）\", FullName = \"重庆市渝北区大盛学校（初中）\" } },"]
["初中","实验二中",{"$f":"VLOOKUP($B6,Sheet3!$A:$I,2,FALSE)","v":1511},{"$f":"VLOOKUP($B6,Sheet3!$A:$I,6,FALSE)","v":"118"},{"$f":"VLOOKUP(B6,Sheet3!A:I,4,FALSE)","v":"实验二中"},{"$f":"VLOOKUP($B6,Sheet3!$A:$I,5,FALSE)","v":"重庆市渝北区第二实验中学校"},"{ \"实验二中\", new(){ Id = 1511, Code = \"118\", Name = \"实验二中\", FullName = \"重庆市渝北区第二实验中学校\" } },"]
["初中","悦来中学",{"$f":"VLOOKUP($B7,Sheet3!$A:$I,2,FALSE)","v":1510},{"$f":"VLOOKUP($B7,Sheet3!$A:$I,6,FALSE)","v":"117"},{"$f":"VLOOKUP(B7,Sheet3!A:I,4,FALSE)","v":"悦来中学"},{"$f":"VLOOKUP($B7,Sheet3!$A:$I,5,FALSE)","v":"重庆市渝北区悦来初级中学校"},"{ \"悦来中学\", new(){ Id = 1510, Code = \"117\", Name = \"悦来中学\", FullName = \"重庆市渝北区悦来初级中学校\" } },"]
["初中","悦港中学初中",{"$f":"VLOOKUP($B8,Sheet3!$A:$I,2,FALSE)","v":1527},{"$f":"VLOOKUP($B8,Sheet3!$A:$I,6,FALSE)","v":"155"},{"$f":"VLOOKUP(B8,Sheet3!A:I,4,FALSE)","v":"悦港中学"},{"$f":"VLOOKUP($B8,Sheet3!$A:$I,5,FALSE)","v":"重庆市渝北区悦港初级中学校"},"{ \"悦港中学初中\", new(){ Id = 1527, Code = \"155\", Name = \"悦港中学\", FullName = \"重庆市渝北区悦港初级中学校\" } },"]
["初中","暨华中学高中",{"$f":"VLOOKUP($B9,Sheet3!$A:$I,2,FALSE)","v":1515},{"$f":"VLOOKUP($B9,Sheet3!$A:$I,6,FALSE)","v":"124"},{"$f":"VLOOKUP(B9,Sheet3!A:I,4,FALSE)","v":"暨华中学（初中）"},{"$f":"VLOOKUP($B9,Sheet3!$A:$I,5,FALSE)","v":"重庆市暨华中学校（初中）"},"{ \"暨华中学高中\", new(){ Id = 1515, Code = \"124\", Name = \"暨华中学（初中）\", FullName = \"重庆市暨华中学校（初中）\" } },"]
["初中","洛碛中学",{"$f":"VLOOKUP($B10,Sheet3!$A:$I,2,FALSE)","v":1523},{"$f":"VLOOKUP($B10,Sheet3!$A:$I,6,FALSE)","v":"143"},{"$f":"VLOOKUP(B10,Sheet3!A:I,4,FALSE)","v":"洛碛中学"},{"$f":"VLOOKUP($B10,Sheet3!$A:$I,5,FALSE)","v":"重庆市渝北区洛碛初级中学校"},"{ \"洛碛中学\", new(){ Id = 1523, Code = \"143\", Name = \"洛碛中学\", FullName = \"重庆市渝北区洛碛初级中学校\" } },"]
["初中","渝汉中学",{"$f":"VLOOKUP($B11,Sheet3!$A:$I,2,FALSE)","v":1506},{"$f":"VLOOKUP($B11,Sheet3!$A:$I,6,FALSE)","v":"110"},{"$f":"VLOOKUP(B11,Sheet3!A:I,4,FALSE)","v":"渝汉中学"},{"$f":"VLOOKUP($B11,Sheet3!$A:$I,5,FALSE)","v":"重庆市渝北区渝汉初级中学校"},"{ \"渝汉中学\", new(){ Id = 1506, Code = \"110\", Name = \"渝汉中学\", FullName = \"重庆市渝北区渝汉初级中学校\" } },"]
["初中","玉峰山中学",{"$f":"VLOOKUP($B12,Sheet3!$A:$I,2,FALSE)","v":1520},{"$f":"VLOOKUP($B12,Sheet3!$A:$I,6,FALSE)","v":"134"},{"$f":"VLOOKUP(B12,Sheet3!A:I,4,FALSE)","v":"玉峰山中学"},{"$f":"VLOOKUP($B12,Sheet3!$A:$I,5,FALSE)","v":"重庆市渝北区玉峰山初级中学校"},"{ \"玉峰山中学\", new(){ Id = 1520, Code = \"134\", Name = \"玉峰山中学\", FullName = \"重庆市渝北区玉峰山初级中学校\" } },"]
["初中","王家学校",{"$f":"VLOOKUP($B13,Sheet3!$A:$I,2,FALSE)","v":1521},{"$f":"VLOOKUP($B13,Sheet3!$A:$I,6,FALSE)","v":"135"},{"$f":"VLOOKUP(B13,Sheet3!A:I,4,FALSE)","v":"王家学校（初中）"},{"$f":"VLOOKUP($B13,Sheet3!$A:$I,5,FALSE)","v":"重庆市渝北区王家学校（初中）"},"{ \"王家学校\", new(){ Id = 1521, Code = \"135\", Name = \"王家学校（初中）\", FullName = \"重庆市渝北区王家学校（初中）\" } },"]
["初中","统景中学",{"$f":"VLOOKUP($B14,Sheet3!$A:$I,2,FALSE)","v":1525},{"$f":"VLOOKUP($B14,Sheet3!$A:$I,6,FALSE)","v":"149"},{"$f":"VLOOKUP(B14,Sheet3!A:I,4,FALSE)","v":"统景中学"},{"$f":"VLOOKUP($B14,Sheet3!$A:$I,5,FALSE)","v":"重庆市渝北区统景初级中学校"},"{ \"统景中学\", new(){ Id = 1525, Code = \"149\", Name = \"统景中学\", FullName = \"重庆市渝北区统景初级中学校\" } },"]
["初中","重庆市华蓥中学校",{"$f":"VLOOKUP($B15,Sheet3!$A:$I,2,FALSE)","v":1503},{"$f":"VLOOKUP($B15,Sheet3!$A:$I,6,FALSE)","v":"106"},{"$f":"VLOOKUP(B15,Sheet3!A:I,4,FALSE)","v":"华蓥中学（初中）"},{"$f":"VLOOKUP($B15,Sheet3!$A:$I,5,FALSE)","v":"重庆市华蓥中学校（初中）"},"{ \"重庆市华蓥中学校\", new(){ Id = 1503, Code = \"106\", Name = \"华蓥中学（初中）\", FullName = \"重庆市华蓥中学校（初中）\" } },"]
["初中","重庆市南华中学校",{"$f":"VLOOKUP($B16,Sheet3!$A:$I,2,FALSE)","v":1516},{"$f":"VLOOKUP($B16,Sheet3!$A:$I,6,FALSE)","v":"125"},{"$f":"VLOOKUP(B16,Sheet3!A:I,4,FALSE)","v":"南华中学（初中）"},{"$f":"VLOOKUP($B16,Sheet3!$A:$I,5,FALSE)","v":"重庆市南华中学校（初中）"},"{ \"重庆市南华中学校\", new(){ Id = 1516, Code = \"125\", Name = \"南华中学（初中）\", FullName = \"重庆市南华中学校（初中）\" } },"]
["初中","重庆市松树桥中学校",{"$f":"VLOOKUP($B17,Sheet3!$A:$I,2,FALSE)","v":1514},{"$f":"VLOOKUP($B17,Sheet3!$A:$I,6,FALSE)","v":"123"},{"$f":"VLOOKUP(B17,Sheet3!A:I,4,FALSE)","v":"松树桥中学（初中）"},{"$f":"VLOOKUP($B17,Sheet3!$A:$I,5,FALSE)","v":"重庆市松树桥中学校（初中）"},"{ \"重庆市松树桥中学校\", new(){ Id = 1514, Code = \"123\", Name = \"松树桥中学（初中）\", FullName = \"重庆市松树桥中学校（初中）\" } },"]
["初中","重庆市渝北中学校",{"$f":"VLOOKUP($B18,Sheet3!$A:$I,2,FALSE)","v":1517},{"$f":"VLOOKUP($B18,Sheet3!$A:$I,6,FALSE)","v":"126"},{"$f":"VLOOKUP(B18,Sheet3!A:I,4,FALSE)","v":"渝北中学（初中）"},{"$f":"VLOOKUP($B18,Sheet3!$A:$I,5,FALSE)","v":"重庆市渝北中学校（初中）"},"{ \"重庆市渝北中学校\", new(){ Id = 1517, Code = \"126\", Name = \"渝北中学（初中）\", FullName = \"重庆市渝北中学校（初中）\" } },"]
["初中","重庆市渝北区古路学校",{"$f":"VLOOKUP($B19,Sheet3!$A:$I,2,FALSE)","v":1522},{"$f":"VLOOKUP($B19,Sheet3!$A:$I,6,FALSE)","v":"137"},{"$f":"VLOOKUP(B19,Sheet3!A:I,4,FALSE)","v":"古路学校（初中）"},{"$f":"VLOOKUP($B19,Sheet3!$A:$I,5,FALSE)","v":"重庆市渝北区古路学校（初中）"},"{ \"重庆市渝北区古路学校\", new(){ Id = 1522, Code = \"137\", Name = \"古路学校（初中）\", FullName = \"重庆市渝北区古路学校（初中）\" } },"]
["初中","重庆市渝北区实验中学校",{"$f":"VLOOKUP($B20,Sheet3!$A:$I,2,FALSE)","v":1504},{"$f":"VLOOKUP($B20,Sheet3!$A:$I,6,FALSE)","v":"108"},{"$f":"VLOOKUP(B20,Sheet3!A:I,4,FALSE)","v":"实验中学"},{"$f":"VLOOKUP($B20,Sheet3!$A:$I,5,FALSE)","v":"重庆市渝北区实验中学校"},"{ \"重庆市渝北区实验中学校\", new(){ Id = 1504, Code = \"108\", Name = \"实验中学\", FullName = \"重庆市渝北区实验中学校\" } },"]
["初中","重庆市渝北区御临初级中学校",{"$f":"VLOOKUP($B21,Sheet3!$A:$I,2,FALSE)","v":1524},{"$f":"VLOOKUP($B21,Sheet3!$A:$I,6,FALSE)","v":"148"},{"$f":"VLOOKUP(B21,Sheet3!A:I,4,FALSE)","v":"御临中学"},{"$f":"VLOOKUP($B21,Sheet3!$A:$I,5,FALSE)","v":"重庆市渝北区御临初级中学校"},"{ \"重庆市渝北区御临初级中学校\", new(){ Id = 1524, Code = \"148\", Name = \"御临中学\", FullName = \"重庆市渝北区御临初级中学校\" } },"]
["初中","重庆市渝北区渝石初级中学校",{"$f":"VLOOKUP($B22,Sheet3!$A:$I,2,FALSE)","v":1507},{"$f":"VLOOKUP($B22,Sheet3!$A:$I,6,FALSE)","v":"111"},{"$f":"VLOOKUP(B22,Sheet3!A:I,4,FALSE)","v":"渝石中学"},{"$f":"VLOOKUP($B22,Sheet3!$A:$I,5,FALSE)","v":"重庆市渝北区渝石初级中学校"},"{ \"重庆市渝北区渝石初级中学校\", new(){ Id = 1507, Code = \"111\", Name = \"渝石中学\", FullName = \"重庆市渝北区渝石初级中学校\" } },"]
["初中","重庆市渝北区石鞋学校",{"$f":"VLOOKUP($B23,Sheet3!$A:$I,2,FALSE)","v":1513},{"$f":"VLOOKUP($B23,Sheet3!$A:$I,6,FALSE)","v":"121"},{"$f":"VLOOKUP(B23,Sheet3!A:I,4,FALSE)","v":"石鞋学校（初中）"},{"$f":"VLOOKUP($B23,Sheet3!$A:$I,5,FALSE)","v":"重庆市渝北区石鞋学校（初中）"},"{ \"重庆市渝北区石鞋学校\", new(){ Id = 1513, Code = \"121\", Name = \"石鞋学校（初中）\", FullName = \"重庆市渝北区石鞋学校（初中）\" } },"]
["初中","重庆市渝北区空港实验中学校",{"$f":"VLOOKUP($B24,Sheet3!$A:$I,2,FALSE)","v":1532},{"$f":"VLOOKUP($B24,Sheet3!$A:$I,6,FALSE)","v":"176"},{"$f":"VLOOKUP(B24,Sheet3!A:I,4,FALSE)","v":"空港实验中学"},{"$f":"VLOOKUP($B24,Sheet3!$A:$I,5,FALSE)","v":"重庆市渝北区空港实验中学校"},"{ \"重庆市渝北区空港实验中学校\", new(){ Id = 1532, Code = \"176\", Name = \"空港实验中学\", FullName = \"重庆市渝北区空港实验中学校\" } },"]
["初中","重庆市育仁中学校",{"$f":"VLOOKUP($B25,Sheet3!$A:$I,2,FALSE)","v":1502},{"$f":"VLOOKUP($B25,Sheet3!$A:$I,6,FALSE)","v":"105"},{"$f":"VLOOKUP(B25,Sheet3!A:I,4,FALSE)","v":"育仁中学（初中）"},{"$f":"VLOOKUP($B25,Sheet3!$A:$I,5,FALSE)","v":"重庆市育仁中学校（初中）"},"{ \"重庆市育仁中学校\", new(){ Id = 1502, Code = \"105\", Name = \"育仁中学（初中）\", FullName = \"重庆市育仁中学校（初中）\" } },"]
["初中","锦华学校初中",{"$f":"VLOOKUP($B26,Sheet3!$A:$I,2,FALSE)","v":1505},{"$f":"VLOOKUP($B26,Sheet3!$A:$I,6,FALSE)","v":"109"},{"$f":"VLOOKUP(B26,Sheet3!A:I,4,FALSE)","v":"锦华学校（初中）"},{"$f":"VLOOKUP($B26,Sheet3!$A:$I,5,FALSE)","v":"重庆市渝北区锦华学校（初中）"},"{ \"锦华学校初中\", new(){ Id = 1505, Code = \"109\", Name = \"锦华学校（初中）\", FullName = \"重庆市渝北区锦华学校（初中）\" } },"]
["初中","高嘴学校",{"$f":"VLOOKUP($B27,Sheet3!$A:$I,2,FALSE)","v":1501},{"$f":"VLOOKUP($B27,Sheet3!$A:$I,6,FALSE)","v":"104"},{"$f":"VLOOKUP(B27,Sheet3!A:I,4,FALSE)","v":"高嘴学校（初中）"},{"$f":"VLOOKUP($B27,Sheet3!$A:$I,5,FALSE)","v":"重庆市渝北区高嘴学校（初中）"},"{ \"高嘴学校\", new(){ Id = 1501, Code = \"104\", Name = \"高嘴学校（初中）\", FullName = \"重庆市渝北区高嘴学校（初中）\" } },"]
["初中","龙塔学校",{"$f":"VLOOKUP($B28,Sheet3!$A:$I,2,FALSE)","v":1508},{"$f":"VLOOKUP($B28,Sheet3!$A:$I,6,FALSE)","v":"112"},{"$f":"VLOOKUP(B28,Sheet3!A:I,4,FALSE)","v":"龙塔实验学校（初中）"},{"$f":"VLOOKUP($B28,Sheet3!$A:$I,5,FALSE)","v":"重庆市渝北区龙塔实验学校（初中）"},"{ \"龙塔学校\", new(){ Id = 1508, Code = \"112\", Name = \"龙塔实验学校（初中）\", FullName = \"重庆市渝北区龙塔实验学校（初中）\" } },"]
[]
[]
[]
[]
["小学","渝北区古路中心小学校",{"$f":"VLOOKUP($B33,Sheet1!$A:$J,2,FALSE)","v":1034},{"$f":"VLOOKUP($B33,Sheet1!$A:$J,7,FALSE)","v":"037"},{"$f":"VLOOKUP($B33,Sheet1!$A:$J,4,FALSE)","v":"古路学校（小学）"},{"$f":"VLOOKUP($B33,Sheet1!$A:$J,5,FALSE)","v":"重庆市渝北区古路学校（小学）"},{"$f":"\"{ \"\"\"&B33&\"\"\", new(){ Id = \"&C33&\", Code = \"\"\"&D33&\"\"\", Name = \"\"\"&E33&\"\"\", FullName = \"\"\"&F33&\"\"\" } },\"","v":"{ \"渝北区古路中心小学校\", new(){ Id = 1034, Code = \"037\", Name = \"古路学校（小学）\", FullName = \"重庆市渝北区古路学校（小学）\" } },"}]
["小学","渝北区大盛中心小学校",{"$f":"VLOOKUP($B34,Sheet1!$A:$J,2,FALSE)","v":1048},{"$f":"VLOOKUP($B34,Sheet1!$A:$J,7,FALSE)","v":"052"},{"$f":"VLOOKUP($B34,Sheet1!$A:$J,4,FALSE)","v":"大盛学校（小学）"},{"$f":"VLOOKUP($B34,Sheet1!$A:$J,5,FALSE)","v":"重庆市渝北区大盛学校（小学）"},{"$f":"\"{ \"\"\"&B34&\"\"\", new(){ Id = \"&C34&\", Code = \"\"\"&D34&\"\"\", Name = \"\"\"&E34&\"\"\", FullName = \"\"\"&F34&\"\"\" } },\"","v":"{ \"渝北区大盛中心小学校\", new(){ Id = 1048, Code = \"052\", Name = \"大盛学校（小学）\", FullName = \"重庆市渝北区大盛学校（小学）\" } },"}]
["小学","渝北区石鞋小学校",{"$f":"VLOOKUP($B35,Sheet1!$A:$J,2,FALSE)","v":1020},{"$f":"VLOOKUP($B35,Sheet1!$A:$J,7,FALSE)","v":"021"},{"$f":"VLOOKUP($B35,Sheet1!$A:$J,4,FALSE)","v":"石鞋学校（小学）"},{"$f":"VLOOKUP($B35,Sheet1!$A:$J,5,FALSE)","v":"重庆市渝北区石鞋学校（小学）"},"{ \"渝北区石鞋小学校\", new(){ Id = 1020, Code = \"021\", Name = \"石鞋学校（小学）\", FullName = \"重庆市渝北区石鞋学校（小学）\" } },"]
["小学","渝北区金港小学",{"$f":"VLOOKUP($B36,Sheet1!$A:$J,2,FALSE)","v":1030},{"$f":"VLOOKUP($B36,Sheet1!$A:$J,7,FALSE)","v":"032"},{"$f":"VLOOKUP($B36,Sheet1!$A:$J,4,FALSE)","v":"金港国际小学"},{"$f":"VLOOKUP($B36,Sheet1!$A:$J,5,FALSE)","v":"重庆市渝北金港国际实验小学校"},"{ \"渝北区金港小学\", new(){ Id = 1030, Code = \"032\", Name = \"金港国际小学\", FullName = \"重庆市渝北金港国际实验小学校\" } },"]
["小学","渝北实验小学校",{"$f":"VLOOKUP($B37,Sheet1!$A:$J,2,FALSE)","v":1031},{"$f":"VLOOKUP($B37,Sheet1!$A:$J,7,FALSE)","v":"033"},{"$f":"VLOOKUP($B37,Sheet1!$A:$J,4,FALSE)","v":"渝北实验小学"},{"$f":"VLOOKUP($B37,Sheet1!$A:$J,5,FALSE)","v":"重庆市渝北实验小学校"},"{ \"渝北实验小学校\", new(){ Id = 1031, Code = \"033\", Name = \"渝北实验小学\", FullName = \"重庆市渝北实验小学校\" } },"]
["小学","重庆市渝北区东原香山实验小学校",{"$f":"VLOOKUP($B38,Sheet1!$A:$J,2,FALSE)","v":1002},{"$f":"VLOOKUP($B38,Sheet1!$A:$J,7,FALSE)","v":"002"},{"$f":"VLOOKUP($B38,Sheet1!$A:$J,4,FALSE)","v":"东原香山实验小学"},{"$f":"VLOOKUP($B38,Sheet1!$A:$J,5,FALSE)","v":"重庆市渝北东原香山实验小学校"},"{ \"重庆市渝北区东原香山实验小学校\", new(){ Id = 1002, Code = \"002\", Name = \"东原香山实验小学\", FullName = \"重庆市渝北东原香山实验小学校\" } },"]
["小学","重庆市渝北区东和春天实验学校",{"$f":"VLOOKUP($B39,Sheet1!$A:$J,2,FALSE)","v":1017},{"$f":"VLOOKUP($B39,Sheet1!$A:$J,7,FALSE)","v":"018"},{"$f":"VLOOKUP($B39,Sheet1!$A:$J,4,FALSE)","v":"东和春天实验学校"},{"$f":"VLOOKUP($B39,Sheet1!$A:$J,5,FALSE)","v":"重庆市渝北区东和春天实验学校"},"{ \"重庆市渝北区东和春天实验学校\", new(){ Id = 1017, Code = \"018\", Name = \"东和春天实验学校\", FullName = \"重庆市渝北区东和春天实验学校\" } },"]
["小学","重庆市渝北区两江小学校",{"$f":"VLOOKUP($B40,Sheet1!$A:$J,2,FALSE)","v":1028},{"$f":"VLOOKUP($B40,Sheet1!$A:$J,7,FALSE)","v":"030"},{"$f":"VLOOKUP($B40,Sheet1!$A:$J,4,FALSE)","v":"两江小学"},{"$f":"VLOOKUP($B40,Sheet1!$A:$J,5,FALSE)","v":"重庆市渝北区两江小学校"},"{ \"重庆市渝北区两江小学校\", new(){ Id = 1028, Code = \"030\", Name = \"两江小学\", FullName = \"重庆市渝北区两江小学校\" } },"]
["小学","重庆市渝北区中央公园小学校",{"$f":"VLOOKUP($B41,Sheet1!$A:$J,2,FALSE)","v":1041},{"$f":"VLOOKUP($B41,Sheet1!$A:$J,7,FALSE)","v":"044"},{"$f":"VLOOKUP($B41,Sheet1!$A:$J,4,FALSE)","v":"中央公园小学"},{"$f":"VLOOKUP($B41,Sheet1!$A:$J,5,FALSE)","v":"重庆市渝北区中央公园小学校"},"{ \"重庆市渝北区中央公园小学校\", new(){ Id = 1041, Code = \"044\", Name = \"中央公园小学\", FullName = \"重庆市渝北区中央公园小学校\" } },"]
["小学","重庆市渝北区五星路小学校",{"$f":"VLOOKUP($B42,Sheet1!$A:$J,2,FALSE)","v":1036},{"$f":"VLOOKUP($B42,Sheet1!$A:$J,7,FALSE)","v":"039"},{"$f":"VLOOKUP($B42,Sheet1!$A:$J,4,FALSE)","v":"五星路小学"},{"$f":"VLOOKUP($B42,Sheet1!$A:$J,5,FALSE)","v":"重庆市渝北区五星路小学校"},"{ \"重庆市渝北区五星路小学校\", new(){ Id = 1036, Code = \"039\", Name = \"五星路小学\", FullName = \"重庆市渝北区五星路小学校\" } },"]
["小学","重庆市渝北区仁睦完全小学校",{"$f":"VLOOKUP($B43,Sheet1!$A:$J,2,FALSE)","v":1023},{"$f":"VLOOKUP($B43,Sheet1!$A:$J,7,FALSE)","v":"025"},{"$f":"VLOOKUP($B43,Sheet1!$A:$J,4,FALSE)","v":"仁睦完小"},{"$f":"VLOOKUP($B43,Sheet1!$A:$J,5,FALSE)","v":"重庆市渝北区仁睦完全小学校"},"{ \"重庆市渝北区仁睦完全小学校\", new(){ Id = 1023, Code = \"025\", Name = \"仁睦完小\", FullName = \"重庆市渝北区仁睦完全小学校\" } },"]
["小学","重庆市渝北区兴隆中心小学校",{"$f":"VLOOKUP($B44,Sheet1!$A:$J,2,FALSE)","v":1061},{"$f":"VLOOKUP($B44,Sheet1!$A:$J,7,FALSE)","v":"069"},{"$f":"VLOOKUP($B44,Sheet1!$A:$J,4,FALSE)","v":"兴隆小学"},{"$f":"VLOOKUP($B44,Sheet1!$A:$J,5,FALSE)","v":"重庆市渝北区兴隆中心小学校"},"{ \"重庆市渝北区兴隆中心小学校\", new(){ Id = 1061, Code = \"069\", Name = \"兴隆小学\", FullName = \"重庆市渝北区兴隆中心小学校\" } },"]
["小学","重庆市渝北区华秦小学校",{"$f":"VLOOKUP($B45,Sheet1!$A:$J,2,FALSE)","v":1053},{"$f":"VLOOKUP($B45,Sheet1!$A:$J,7,FALSE)","v":"059"},{"$f":"VLOOKUP($B45,Sheet1!$A:$J,4,FALSE)","v":"华秦小学"},{"$f":"VLOOKUP($B45,Sheet1!$A:$J,5,FALSE)","v":"重庆市渝北区华秦小学校"},"{ \"重庆市渝北区华秦小学校\", new(){ Id = 1053, Code = \"059\", Name = \"华秦小学\", FullName = \"重庆市渝北区华秦小学校\" } },"]
["小学","重庆市渝北区华蓥山学校",{"$f":"VLOOKUP($B46,Sheet1!$A:$J,2,FALSE)","v":1054},{"$f":"VLOOKUP($B46,Sheet1!$A:$J,7,FALSE)","v":"060"},{"$f":"VLOOKUP($B46,Sheet1!$A:$J,4,FALSE)","v":"华蓥山学校（小学）"},{"$f":"VLOOKUP($B46,Sheet1!$A:$J,5,FALSE)","v":"重庆市渝北区华蓥山学校（小学）"},"{ \"重庆市渝北区华蓥山学校\", new(){ Id = 1054, Code = \"060\", Name = \"华蓥山学校（小学）\", FullName = \"重庆市渝北区华蓥山学校（小学）\" } },"]
["小学","重庆市渝北区南方玫瑰城实验小学校",{"$f":"VLOOKUP($B47,Sheet1!$A:$J,2,FALSE)","v":1006},{"$f":"VLOOKUP($B47,Sheet1!$A:$J,7,FALSE)","v":"006"},{"$f":"VLOOKUP($B47,Sheet1!$A:$J,4,FALSE)","v":"南方玫瑰城实验小学"},{"$f":"VLOOKUP($B47,Sheet1!$A:$J,5,FALSE)","v":"重庆市渝北区南方玫瑰城实验小学校"},"{ \"重庆市渝北区南方玫瑰城实验小学校\", new(){ Id = 1006, Code = \"006\", Name = \"南方玫瑰城实验小学\", FullName = \"重庆市渝北区南方玫瑰城实验小学校\" } },"]
["小学","重庆市渝北区双湖小学校",{"$f":"VLOOKUP($B48,Sheet1!$A:$J,2,FALSE)","v":1008},{"$f":"VLOOKUP($B48,Sheet1!$A:$J,7,FALSE)","v":"008"},{"$f":"VLOOKUP($B48,Sheet1!$A:$J,4,FALSE)","v":"双湖小学"},{"$f":"VLOOKUP($B48,Sheet1!$A:$J,5,FALSE)","v":"重庆市渝北区双湖小学校"},"{ \"重庆市渝北区双湖小学校\", new(){ Id = 1008, Code = \"008\", Name = \"双湖小学\", FullName = \"重庆市渝北区双湖小学校\" } },"]
["小学","重庆市渝北区和合家园小学校",{"$f":"VLOOKUP($B49,Sheet1!$A:$J,2,FALSE)","v":1046},{"$f":"VLOOKUP($B49,Sheet1!$A:$J,7,FALSE)","v":"050"},{"$f":"VLOOKUP($B49,Sheet1!$A:$J,4,FALSE)","v":"和合家园小学"},{"$f":"VLOOKUP($B49,Sheet1!$A:$J,5,FALSE)","v":"重庆市渝北区和合家园小学校"},"{ \"重庆市渝北区和合家园小学校\", new(){ Id = 1046, Code = \"050\", Name = \"和合家园小学\", FullName = \"重庆市渝北区和合家园小学校\" } },"]
["小学","重庆市渝北区回兴小学校",{"$f":"VLOOKUP($B50,Sheet1!$A:$J,2,FALSE)","v":1005},{"$f":"VLOOKUP($B50,Sheet1!$A:$J,7,FALSE)","v":"005"},{"$f":"VLOOKUP($B50,Sheet1!$A:$J,4,FALSE)","v":"回兴小学"},{"$f":"VLOOKUP($B50,Sheet1!$A:$J,5,FALSE)","v":"重庆市渝北区回兴中心小学校"},"{ \"重庆市渝北区回兴小学校\", new(){ Id = 1005, Code = \"005\", Name = \"回兴小学\", FullName = \"重庆市渝北区回兴中心小学校\" } },"]
["小学","重庆市渝北区大湾镇明德小学",{"$f":"VLOOKUP($B51,Sheet1!$A:$J,2,FALSE)","v":1055},{"$f":"VLOOKUP($B51,Sheet1!$A:$J,7,FALSE)","v":"062"},{"$f":"VLOOKUP($B51,Sheet1!$A:$J,4,FALSE)","v":"大湾镇明德小学"},{"$f":"VLOOKUP($B51,Sheet1!$A:$J,5,FALSE)","v":"重庆市渝北区大湾镇明德小学校"},"{ \"重庆市渝北区大湾镇明德小学\", new(){ Id = 1055, Code = \"062\", Name = \"大湾镇明德小学\", FullName = \"重庆市渝北区大湾镇明德小学校\" } },"]
["小学","重庆市渝北区天一新城小学校",{"$f":"VLOOKUP($B52,Sheet1!$A:$J,2,FALSE)","v":1022},{"$f":"VLOOKUP($B52,Sheet1!$A:$J,7,FALSE)","v":"023"},{"$f":"VLOOKUP($B52,Sheet1!$A:$J,4,FALSE)","v":"天一新城小学"},{"$f":"VLOOKUP($B52,Sheet1!$A:$J,5,FALSE)","v":"重庆市渝北区天一新城小学校"},"{ \"重庆市渝北区天一新城小学校\", new(){ Id = 1022, Code = \"023\", Name = \"天一新城小学\", FullName = \"重庆市渝北区天一新城小学校\" } },"]
["小学","重庆市渝北区天堡寨小学校",{"$f":"VLOOKUP($B53,Sheet1!$A:$J,2,FALSE)","v":1049},{"$f":"VLOOKUP($B53,Sheet1!$A:$J,7,FALSE)","v":"053"},{"$f":"VLOOKUP($B53,Sheet1!$A:$J,4,FALSE)","v":"天堡寨小学"},{"$f":"VLOOKUP($B53,Sheet1!$A:$J,5,FALSE)","v":"重庆市渝北区天堡寨小学校"},"{ \"重庆市渝北区天堡寨小学校\", new(){ Id = 1049, Code = \"053\", Name = \"天堡寨小学\", FullName = \"重庆市渝北区天堡寨小学校\" } },"]
["小学","重庆市渝北区宝圣湖小学校",{"$f":"VLOOKUP($B54,Sheet1!$A:$J,2,FALSE)","v":1001},{"$f":"VLOOKUP($B54,Sheet1!$A:$J,7,FALSE)","v":"001"},{"$f":"VLOOKUP($B54,Sheet1!$A:$J,4,FALSE)","v":"宝圣湖小学"},{"$f":"VLOOKUP($B54,Sheet1!$A:$J,5,FALSE)","v":"重庆市渝北区宝圣湖小学校"},"{ \"重庆市渝北区宝圣湖小学校\", new(){ Id = 1001, Code = \"001\", Name = \"宝圣湖小学\", FullName = \"重庆市渝北区宝圣湖小学校\" } },"]
["小学","重庆市渝北区悦来中心小学校",{"$f":"VLOOKUP($B55,Sheet1!$A:$J,2,FALSE)","v":1063},{"$f":"VLOOKUP($B55,Sheet1!$A:$J,7,FALSE)","v":"072"},{"$f":"VLOOKUP($B55,Sheet1!$A:$J,4,FALSE)","v":"悦来小学"},{"$f":"VLOOKUP($B55,Sheet1!$A:$J,5,FALSE)","v":"重庆市渝北区悦来中心小学校"},"{ \"重庆市渝北区悦来中心小学校\", new(){ Id = 1063, Code = \"072\", Name = \"悦来小学\", FullName = \"重庆市渝北区悦来中心小学校\" } },"]
["小学","重庆市渝北区新牌坊小学校",{"$f":"VLOOKUP($B56,Sheet1!$A:$J,2,FALSE)","v":1015},{"$f":"VLOOKUP($B56,Sheet1!$A:$J,7,FALSE)","v":"016"},{"$f":"VLOOKUP($B56,Sheet1!$A:$J,4,FALSE)","v":"新牌坊小学"},{"$f":"VLOOKUP($B56,Sheet1!$A:$J,5,FALSE)","v":"重庆市渝北区新牌坊小学校"},"{ \"重庆市渝北区新牌坊小学校\", new(){ Id = 1015, Code = \"016\", Name = \"新牌坊小学\", FullName = \"重庆市渝北区新牌坊小学校\" } },"]
["小学","重庆市渝北区旭辉小学校",{"$f":"VLOOKUP($B57,Sheet1!$A:$J,2,FALSE)","v":1010},{"$f":"VLOOKUP($B57,Sheet1!$A:$J,7,FALSE)","v":"010"},{"$f":"VLOOKUP($B57,Sheet1!$A:$J,4,FALSE)","v":"旭辉小学"},{"$f":"VLOOKUP($B57,Sheet1!$A:$J,5,FALSE)","v":"重庆市渝北区旭辉小学校"},"{ \"重庆市渝北区旭辉小学校\", new(){ Id = 1010, Code = \"010\", Name = \"旭辉小学\", FullName = \"重庆市渝北区旭辉小学校\" } },"]
["小学","重庆市渝北区木耳中心小学校",{"$f":"VLOOKUP($B58,Sheet1!$A:$J,2,FALSE)","v":1058},{"$f":"VLOOKUP($B58,Sheet1!$A:$J,7,FALSE)","v":"065"},{"$f":"VLOOKUP($B58,Sheet1!$A:$J,4,FALSE)","v":"木耳小学"},{"$f":"VLOOKUP($B58,Sheet1!$A:$J,5,FALSE)","v":"重庆市渝北区木耳中心小学校"},"{ \"重庆市渝北区木耳中心小学校\", new(){ Id = 1058, Code = \"065\", Name = \"木耳小学\", FullName = \"重庆市渝北区木耳中心小学校\" } },"]
["小学","重庆市渝北区汉渝路小学校",{"$f":"VLOOKUP($B59,Sheet1!$A:$J,2,FALSE)","v":1029},{"$f":"VLOOKUP($B59,Sheet1!$A:$J,7,FALSE)","v":"031"},{"$f":"VLOOKUP($B59,Sheet1!$A:$J,4,FALSE)","v":"汉渝路小学"},{"$f":"VLOOKUP($B59,Sheet1!$A:$J,5,FALSE)","v":"重庆市渝北区汉渝路小学校"},"{ \"重庆市渝北区汉渝路小学校\", new(){ Id = 1029, Code = \"031\", Name = \"汉渝路小学\", FullName = \"重庆市渝北区汉渝路小学校\" } },"]
["小学","重庆市渝北区洛碛中心小学校",{"$f":"VLOOKUP($B60,Sheet1!$A:$J,2,FALSE)","v":1056},{"$f":"VLOOKUP($B60,Sheet1!$A:$J,7,FALSE)","v":"063"},{"$f":"VLOOKUP($B60,Sheet1!$A:$J,4,FALSE)","v":"洛碛小学"},{"$f":"VLOOKUP($B60,Sheet1!$A:$J,5,FALSE)","v":"重庆市渝北区洛碛中心小学校"},"{ \"重庆市渝北区洛碛中心小学校\", new(){ Id = 1056, Code = \"063\", Name = \"洛碛小学\", FullName = \"重庆市渝北区洛碛中心小学校\" } },"]
["小学","重庆市渝北区渝开学校",{"$f":"VLOOKUP($B61,Sheet1!$A:$J,2,FALSE)","v":1021},{"$f":"VLOOKUP($B61,Sheet1!$A:$J,7,FALSE)","v":"022"},{"$f":"VLOOKUP($B61,Sheet1!$A:$J,4,FALSE)","v":"渝开学校（小学）"},{"$f":"VLOOKUP($B61,Sheet1!$A:$J,5,FALSE)","v":"重庆市渝北区渝开学校（小学）"},"{ \"重庆市渝北区渝开学校\", new(){ Id = 1021, Code = \"022\", Name = \"渝开学校（小学）\", FullName = \"重庆市渝北区渝开学校（小学）\" } },"]
["小学","重庆市渝北区玉峰山小学校",{"$f":"VLOOKUP($B62,Sheet1!$A:$J,2,FALSE)","v":1062},{"$f":"VLOOKUP($B62,Sheet1!$A:$J,7,FALSE)","v":"071"},{"$f":"VLOOKUP($B62,Sheet1!$A:$J,4,FALSE)","v":"玉峰山小学"},{"$f":"VLOOKUP($B62,Sheet1!$A:$J,5,FALSE)","v":"重庆市渝北区玉峰山中心小学校"},"{ \"重庆市渝北区玉峰山小学校\", new(){ Id = 1062, Code = \"071\", Name = \"玉峰山小学\", FullName = \"重庆市渝北区玉峰山中心小学校\" } },"]
["小学","重庆市渝北区王家学校",{"$f":"VLOOKUP($B63,Sheet1!$A:$J,2,FALSE)","v":1033},{"$f":"VLOOKUP($B63,Sheet1!$A:$J,7,FALSE)","v":"035"},{"$f":"VLOOKUP($B63,Sheet1!$A:$J,4,FALSE)","v":"王家学校（小学）"},{"$f":"VLOOKUP($B63,Sheet1!$A:$J,5,FALSE)","v":"重庆市渝北区王家学校（小学）"},"{ \"重庆市渝北区王家学校\", new(){ Id = 1033, Code = \"035\", Name = \"王家学校（小学）\", FullName = \"重庆市渝北区王家学校（小学）\" } },"]
["小学","重庆市渝北区环雅小学校",{"$f":"VLOOKUP($B64,Sheet1!$A:$J,2,FALSE)","v":1025},{"$f":"VLOOKUP($B64,Sheet1!$A:$J,7,FALSE)","v":"027"},{"$f":"VLOOKUP($B64,Sheet1!$A:$J,4,FALSE)","v":"环雅小学"},{"$f":"VLOOKUP($B64,Sheet1!$A:$J,5,FALSE)","v":"重庆市渝北区环雅小学校"},"{ \"重庆市渝北区环雅小学校\", new(){ Id = 1025, Code = \"027\", Name = \"环雅小学\", FullName = \"重庆市渝北区环雅小学校\" } },"]
["小学","重庆市渝北区盛景天下小学校",{"$f":"VLOOKUP($B65,Sheet1!$A:$J,2,FALSE)","v":1040},{"$f":"VLOOKUP($B65,Sheet1!$A:$J,7,FALSE)","v":"043"},{"$f":"VLOOKUP($B65,Sheet1!$A:$J,4,FALSE)","v":"盛景天下小学"},{"$f":"VLOOKUP($B65,Sheet1!$A:$J,5,FALSE)","v":"重庆市渝北区盛景天下小学校"},"{ \"重庆市渝北区盛景天下小学校\", new(){ Id = 1040, Code = \"043\", Name = \"盛景天下小学\", FullName = \"重庆市渝北区盛景天下小学校\" } },"]
["小学","重庆市渝北区石船中心小学校",{"$f":"VLOOKUP($B66,Sheet1!$A:$J,2,FALSE)","v":1059},{"$f":"VLOOKUP($B66,Sheet1!$A:$J,7,FALSE)","v":"066"},{"$f":"VLOOKUP($B66,Sheet1!$A:$J,4,FALSE)","v":"石船小学"},{"$f":"VLOOKUP($B66,Sheet1!$A:$J,5,FALSE)","v":"重庆市渝北区石船中心小学校"},{"$f":"\"{ \"\"\"&B66&\"\"\", new(){ Id = \"&C66&\", Code = \"\"\"&D66&\"\"\", Name = \"\"\"&E66&\"\"\", FullName = \"\"\"&F66&\"\"\" } },\"","v":"{ \"重庆市渝北区石船中心小学校\", new(){ Id = 1059, Code = \"066\", Name = \"石船小学\", FullName = \"重庆市渝北区石船中心小学校\" } },"}]
["小学","重庆市渝北区空港佳园小学校",{"$f":"VLOOKUP($B67,Sheet1!$A:$J,2,FALSE)","v":1044},{"$f":"VLOOKUP($B67,Sheet1!$A:$J,7,FALSE)","v":"047"},{"$f":"VLOOKUP($B67,Sheet1!$A:$J,4,FALSE)","v":"空港佳园小学"},{"$f":"VLOOKUP($B67,Sheet1!$A:$J,5,FALSE)","v":"重庆市渝北区空港佳园小学校"},"{ \"重庆市渝北区空港佳园小学校\", new(){ Id = 1044, Code = \"047\", Name = \"空港佳园小学\", FullName = \"重庆市渝北区空港佳园小学校\" } },"]
["小学","重庆市渝北区空港实验小学校",{"$f":"VLOOKUP($B68,Sheet1!$A:$J,2,FALSE)","v":1027},{"$f":"VLOOKUP($B68,Sheet1!$A:$J,7,FALSE)","v":"029"},{"$f":"VLOOKUP($B68,Sheet1!$A:$J,4,FALSE)","v":"空港实验小学"},{"$f":"VLOOKUP($B68,Sheet1!$A:$J,5,FALSE)","v":"重庆市渝北区空港实验小学校"},"{ \"重庆市渝北区空港实验小学校\", new(){ Id = 1027, Code = \"029\", Name = \"空港实验小学\", FullName = \"重庆市渝北区空港实验小学校\" } },"]
["小学","重庆市渝北区空港新城人和街小学校",{"$f":"VLOOKUP($B69,Sheet1!$A:$J,2,FALSE)","v":1038},{"$f":"VLOOKUP($B69,Sheet1!$A:$J,7,FALSE)","v":"041"},{"$f":"VLOOKUP($B69,Sheet1!$A:$J,4,FALSE)","v":"空港新城人和街小学"},{"$f":"VLOOKUP($B69,Sheet1!$A:$J,5,FALSE)","v":"重庆市渝北区空港新城人和街小学校"},"{ \"重庆市渝北区空港新城人和街小学校\", new(){ Id = 1038, Code = \"041\", Name = \"空港新城人和街小学\", FullName = \"重庆市渝北区空港新城人和街小学校\" } },"]
["小学","重庆市渝北区空港新城小学校",{"$f":"VLOOKUP($B70,Sheet1!$A:$J,2,FALSE)","v":1039},{"$f":"VLOOKUP($B70,Sheet1!$A:$J,7,FALSE)","v":"042"},{"$f":"VLOOKUP($B70,Sheet1!$A:$J,4,FALSE)","v":"空港新城小学"},{"$f":"VLOOKUP($B70,Sheet1!$A:$J,5,FALSE)","v":"重庆市渝北区空港新城小学校"},"{ \"重庆市渝北区空港新城小学校\", new(){ Id = 1039, Code = \"042\", Name = \"空港新城小学\", FullName = \"重庆市渝北区空港新城小学校\" } },"]
["小学","重庆市渝北区立人小学校",{"$f":"VLOOKUP($B71,Sheet1!$A:$J,2,FALSE)","v":1057},{"$f":"VLOOKUP($B71,Sheet1!$A:$J,7,FALSE)","v":"064"},{"$f":"VLOOKUP($B71,Sheet1!$A:$J,4,FALSE)","v":"立人小学"},{"$f":"VLOOKUP($B71,Sheet1!$A:$J,5,FALSE)","v":"重庆市渝北区立人小学校"},"{ \"重庆市渝北区立人小学校\", new(){ Id = 1057, Code = \"064\", Name = \"立人小学\", FullName = \"重庆市渝北区立人小学校\" } },"]
["小学","重庆市渝北区笃信实验学校",{"$f":"VLOOKUP($B72,Sheet1!$A:$J,2,FALSE)","v":1032},{"$f":"VLOOKUP($B72,Sheet1!$A:$J,7,FALSE)","v":"034"},{"$f":"VLOOKUP($B72,Sheet1!$A:$J,4,FALSE)","v":"笃信实验学校"},{"$f":"VLOOKUP($B72,Sheet1!$A:$J,5,FALSE)","v":"重庆市渝北区笃信实验学校"},"{ \"重庆市渝北区笃信实验学校\", new(){ Id = 1032, Code = \"034\", Name = \"笃信实验学校\", FullName = \"重庆市渝北区笃信实验学校\" } },"]
["小学","重庆市渝北区第三实验小学校",{"$f":"VLOOKUP($B73,Sheet1!$A:$J,2,FALSE)","v":1007},{"$f":"VLOOKUP($B73,Sheet1!$A:$J,7,FALSE)","v":"007"},{"$f":"VLOOKUP($B73,Sheet1!$A:$J,4,FALSE)","v":"实验三小"},{"$f":"VLOOKUP($B73,Sheet1!$A:$J,5,FALSE)","v":"重庆市渝北区第三实验小学校"},"{ \"重庆市渝北区第三实验小学校\", new(){ Id = 1007, Code = \"007\", Name = \"实验三小\", FullName = \"重庆市渝北区第三实验小学校\" } },"]
["小学","重庆市渝北区统景中心小学校",{"$f":"VLOOKUP($B74,Sheet1!$A:$J,2,FALSE)","v":1060},{"$f":"VLOOKUP($B74,Sheet1!$A:$J,7,FALSE)","v":"068"},{"$f":"VLOOKUP($B74,Sheet1!$A:$J,4,FALSE)","v":"统景小学"},{"$f":"VLOOKUP($B74,Sheet1!$A:$J,5,FALSE)","v":"重庆市渝北区统景中心小学校"},"{ \"重庆市渝北区统景中心小学校\", new(){ Id = 1060, Code = \"068\", Name = \"统景小学\", FullName = \"重庆市渝北区统景中心小学校\" } },"]
["小学","重庆市渝北区花园小学校",{"$f":"VLOOKUP($B75,Sheet1!$A:$J,2,FALSE)","v":1018},{"$f":"VLOOKUP($B75,Sheet1!$A:$J,7,FALSE)","v":"019"},{"$f":"VLOOKUP($B75,Sheet1!$A:$J,4,FALSE)","v":"花园小学"},{"$f":"VLOOKUP($B75,Sheet1!$A:$J,5,FALSE)","v":"重庆市渝北区花园小学校"},"{ \"重庆市渝北区花园小学校\", new(){ Id = 1018, Code = \"019\", Name = \"花园小学\", FullName = \"重庆市渝北区花园小学校\" } },"]
["小学","重庆市渝北区茨竹中心小学校",{"$f":"VLOOKUP($B76,Sheet1!$A:$J,2,FALSE)","v":1052},{"$f":"VLOOKUP($B76,Sheet1!$A:$J,7,FALSE)","v":"058"},{"$f":"VLOOKUP($B76,Sheet1!$A:$J,4,FALSE)","v":"茨竹小学"},{"$f":"VLOOKUP($B76,Sheet1!$A:$J,5,FALSE)","v":"重庆市渝北区茨竹中心小学校"},"{ \"重庆市渝北区茨竹中心小学校\", new(){ Id = 1052, Code = \"058\", Name = \"茨竹小学\", FullName = \"重庆市渝北区茨竹中心小学校\" } },"]
["小学","重庆市渝北区观月小学校",{"$f":"VLOOKUP($B77,Sheet1!$A:$J,2,FALSE)","v":1026},{"$f":"VLOOKUP($B77,Sheet1!$A:$J,7,FALSE)","v":"028"},{"$f":"VLOOKUP($B77,Sheet1!$A:$J,4,FALSE)","v":"观月小学"},{"$f":"VLOOKUP($B77,Sheet1!$A:$J,5,FALSE)","v":"重庆市渝北区观月小学校"},"{ \"重庆市渝北区观月小学校\", new(){ Id = 1026, Code = \"028\", Name = \"观月小学\", FullName = \"重庆市渝北区观月小学校\" } },"]
["小学","重庆市渝北区金鹏实验小学校",{"$f":"VLOOKUP($B78,Sheet1!$A:$J,2,FALSE)","v":1003},{"$f":"VLOOKUP($B78,Sheet1!$A:$J,7,FALSE)","v":"003"},{"$f":"VLOOKUP($B78,Sheet1!$A:$J,4,FALSE)","v":"金鹏小学"},{"$f":"VLOOKUP($B78,Sheet1!$A:$J,5,FALSE)","v":"重庆市渝北区金鹏小学校"},"{ \"重庆市渝北区金鹏实验小学校\", new(){ Id = 1003, Code = \"003\", Name = \"金鹏小学\", FullName = \"重庆市渝北区金鹏小学校\" } },"]
["小学","重庆市渝北区锦华学校",{"$f":"VLOOKUP($B79,Sheet1!$A:$J,2,FALSE)","v":1009},{"$f":"VLOOKUP($B79,Sheet1!$A:$J,7,FALSE)","v":"009"},{"$f":"VLOOKUP($B79,Sheet1!$A:$J,4,FALSE)","v":"锦华学校（小学）"},{"$f":"VLOOKUP($B79,Sheet1!$A:$J,5,FALSE)","v":"重庆市渝北区锦华学校（小学）"},"{ \"重庆市渝北区锦华学校\", new(){ Id = 1009, Code = \"009\", Name = \"锦华学校（小学）\", FullName = \"重庆市渝北区锦华学校（小学）\" } },"]
["小学","重庆市渝北区长安锦尚小学校",{"$f":"VLOOKUP($B80,Sheet1!$A:$J,2,FALSE)","v":1024},{"$f":"VLOOKUP($B80,Sheet1!$A:$J,7,FALSE)","v":"026"},{"$f":"VLOOKUP($B80,Sheet1!$A:$J,4,FALSE)","v":"长安锦尚小学"},{"$f":"VLOOKUP($B80,Sheet1!$A:$J,5,FALSE)","v":"重庆市渝北区长安锦尚小学校"},"{ \"重庆市渝北区长安锦尚小学校\", new(){ Id = 1024, Code = \"026\", Name = \"长安锦尚小学\", FullName = \"重庆市渝北区长安锦尚小学校\" } },"]
["小学","重庆市渝北区长安锦绣实验小学校",{"$f":"VLOOKUP($B81,Sheet1!$A:$J,2,FALSE)","v":1016},{"$f":"VLOOKUP($B81,Sheet1!$A:$J,7,FALSE)","v":"017"},{"$f":"VLOOKUP($B81,Sheet1!$A:$J,4,FALSE)","v":"长安锦绣实验小学"},{"$f":"VLOOKUP($B81,Sheet1!$A:$J,5,FALSE)","v":"重庆市渝北区长安锦绣实验小学校"},"{ \"重庆市渝北区长安锦绣实验小学校\", new(){ Id = 1016, Code = \"017\", Name = \"长安锦绣实验小学\", FullName = \"重庆市渝北区长安锦绣实验小学校\" } },"]
["小学","重庆市渝北区高嘴学校",{"$f":"VLOOKUP($B82,Sheet1!$A:$J,2,FALSE)","v":1004},{"$f":"VLOOKUP($B82,Sheet1!$A:$J,7,FALSE)","v":"004"},{"$f":"VLOOKUP($B82,Sheet1!$A:$J,4,FALSE)","v":"高嘴学校（小学）"},{"$f":"VLOOKUP($B82,Sheet1!$A:$J,5,FALSE)","v":"重庆市渝北区高嘴学校（小学）"},"{ \"重庆市渝北区高嘴学校\", new(){ Id = 1004, Code = \"004\", Name = \"高嘴学校（小学）\", FullName = \"重庆市渝北区高嘴学校（小学）\" } },"]
["小学","重庆市渝北区鹿山小学校",{"$f":"VLOOKUP($B83,Sheet1!$A:$J,2,FALSE)","v":1035},{"$f":"VLOOKUP($B83,Sheet1!$A:$J,7,FALSE)","v":"038"},{"$f":"VLOOKUP($B83,Sheet1!$A:$J,4,FALSE)","v":"鹿山小学"},{"$f":"VLOOKUP($B83,Sheet1!$A:$J,5,FALSE)","v":"重庆市渝北区鹿山小学校"},"{ \"重庆市渝北区鹿山小学校\", new(){ Id = 1035, Code = \"038\", Name = \"鹿山小学\", FullName = \"重庆市渝北区鹿山小学校\" } },"]
["小学","重庆市渝北区龙兴中心小学校",{"$f":"VLOOKUP($B84,Sheet1!$A:$J,2,FALSE)","v":1047},{"$f":"VLOOKUP($B84,Sheet1!$A:$J,7,FALSE)","v":"051"},{"$f":"VLOOKUP($B84,Sheet1!$A:$J,4,FALSE)","v":"龙兴小学"},{"$f":"VLOOKUP($B84,Sheet1!$A:$J,5,FALSE)","v":"重庆市渝北区龙兴中心小学校"},"{ \"重庆市渝北区龙兴中心小学校\", new(){ Id = 1047, Code = \"051\", Name = \"龙兴小学\", FullName = \"重庆市渝北区龙兴中心小学校\" } },"]
["小学","重庆市渝北区龙塔实验学校",{"$f":"VLOOKUP($B85,Sheet1!$A:$J,2,FALSE)","v":1011},{"$f":"VLOOKUP($B85,Sheet1!$A:$J,7,FALSE)","v":"012"},{"$f":"VLOOKUP($B85,Sheet1!$A:$J,4,FALSE)","v":"龙塔实验学校（小学）"},{"$f":"VLOOKUP($B85,Sheet1!$A:$J,5,FALSE)","v":"重庆市渝北区龙塔实验学校（小学）"},"{ \"重庆市渝北区龙塔实验学校\", new(){ Id = 1011, Code = \"012\", Name = \"龙塔实验学校（小学）\", FullName = \"重庆市渝北区龙塔实验学校（小学）\" } },"]
["小学","重庆市渝北区龙山小学校",{"$f":"VLOOKUP($B86,Sheet1!$A:$J,2,FALSE)","v":1019},{"$f":"VLOOKUP($B86,Sheet1!$A:$J,7,FALSE)","v":"020"},{"$f":"VLOOKUP($B86,Sheet1!$A:$J,4,FALSE)","v":"龙山小学"},{"$f":"VLOOKUP($B86,Sheet1!$A:$J,5,FALSE)","v":"重庆市渝北区龙山小学校"},"{ \"重庆市渝北区龙山小学校\", new(){ Id = 1019, Code = \"020\", Name = \"龙山小学\", FullName = \"重庆市渝北区龙山小学校\" } },"]
["小学","重庆市渝北区龙溪小学校",{"$f":"VLOOKUP($B87,Sheet1!$A:$J,2,FALSE)","v":1014},{"$f":"VLOOKUP($B87,Sheet1!$A:$J,7,FALSE)","v":"015"},{"$f":"VLOOKUP($B87,Sheet1!$A:$J,4,FALSE)","v":"龙溪小学"},{"$f":"VLOOKUP($B87,Sheet1!$A:$J,5,FALSE)","v":"重庆市渝北区龙溪小学校"},"{ \"重庆市渝北区龙溪小学校\", new(){ Id = 1014, Code = \"015\", Name = \"龙溪小学\", FullName = \"重庆市渝北区龙溪小学校\" } },"]
["小学","重庆市渝北区同茂小学校",{"$f":"VLOOKUP($B88,Sheet1!$A:$J,2,FALSE)","v":1045},{"$f":"VLOOKUP($B88,Sheet1!$A:$J,7,FALSE)","v":"048"},{"$f":"VLOOKUP($B88,Sheet1!$A:$J,4,FALSE)","v":"同茂小学"},{"$f":"VLOOKUP($B88,Sheet1!$A:$J,5,FALSE)","v":"重庆市渝北区同茂小学校"},{"$f":"\"{ \"\"\"&B88&\"\"\", new(){ Id = \"&C88&\", Code = \"\"\"&D88&\"\"\", Name = \"\"\"&E88&\"\"\", FullName = \"\"\"&F88&\"\"\" } },\"","v":"{ \"重庆市渝北区同茂小学校\", new(){ Id = 1045, Code = \"048\", Name = \"同茂小学\", FullName = \"重庆市渝北区同茂小学校\" } },"}]
["小学","重庆市渝北区龙兴实验小学校",{"$f":"VLOOKUP($B89,Sheet1!$A:$J,2,FALSE)","v":1051},{"$f":"VLOOKUP($B89,Sheet1!$A:$J,7,FALSE)","v":"055"},{"$f":"VLOOKUP($B89,Sheet1!$A:$J,4,FALSE)","v":"龙兴实验小学"},{"$f":"VLOOKUP($B89,Sheet1!$A:$J,5,FALSE)","v":"重庆市渝北区龙兴实验小学校"},{"$f":"\"{ \"\"\"&B89&\"\"\", new(){ Id = \"&C89&\", Code = \"\"\"&D89&\"\"\", Name = \"\"\"&E89&\"\"\", FullName = \"\"\"&F89&\"\"\" } },\"","v":"{ \"重庆市渝北区龙兴实验小学校\", new(){ Id = 1051, Code = \"055\", Name = \"龙兴实验小学\", FullName = \"重庆市渝北区龙兴实验小学校\" } },"}]
[]
[]
[]
["高中","华蓥中学高中",{"$f":"VLOOKUP($B93,Sheet2!$A:$J,2,FALSE)","v":1806},{"$f":"VLOOKUP($B93,Sheet2!$A:$J,7,FALSE)","v":"6"},{"$f":"VLOOKUP($B93,Sheet2!$A:$J,4,FALSE)","v":"华蓥中学（高中）"},{"$f":"VLOOKUP($B93,Sheet2!$A:$J,5,FALSE)","v":"重庆市华蓥中学校（高中）"},{"$f":"\"{ \"\"\"&B93&\"\"\", new(){ Id = \"&C93&\", Code = \"\"\"&D93&\"\"\", Name = \"\"\"&E93&\"\"\", FullName = \"\"\"&F93&\"\"\" } },\"","v":"{ \"华蓥中学高中\", new(){ Id = 1806, Code = \"6\", Name = \"华蓥中学（高中）\", FullName = \"重庆市华蓥中学校（高中）\" } },"}]
["高中","暨华中学高中",{"$f":"VLOOKUP($B94,Sheet2!$A:$J,2,FALSE)","v":1802},{"$f":"VLOOKUP($B94,Sheet2!$A:$J,7,FALSE)","v":"2"},{"$f":"VLOOKUP($B94,Sheet2!$A:$J,4,FALSE)","v":"暨华中学（高中）"},{"$f":"VLOOKUP($B94,Sheet2!$A:$J,5,FALSE)","v":"重庆市暨华中学校（高中）"},{"$f":"\"{ \"\"\"&B94&\"\"\", new(){ Id = \"&C94&\", Code = \"\"\"&D94&\"\"\", Name = \"\"\"&E94&\"\"\", FullName = \"\"\"&F94&\"\"\" } },\"","v":"{ \"暨华中学高中\", new(){ Id = 1802, Code = \"2\", Name = \"暨华中学（高中）\", FullName = \"重庆市暨华中学校（高中）\" } },"}]
["高中","两江中学高中",{"$f":"VLOOKUP($B95,Sheet2!$A:$J,2,FALSE)","v":1805},{"$f":"VLOOKUP($B95,Sheet2!$A:$J,7,FALSE)","v":"5"},{"$f":"VLOOKUP($B95,Sheet2!$A:$J,4,FALSE)","v":"两江中学（高中）"},{"$f":"VLOOKUP($B95,Sheet2!$A:$J,5,FALSE)","v":"重庆市两江中学校（高中）"},{"$f":"\"{ \"\"\"&B95&\"\"\", new(){ Id = \"&C95&\", Code = \"\"\"&D95&\"\"\", Name = \"\"\"&E95&\"\"\", FullName = \"\"\"&F95&\"\"\" } },\"","v":"{ \"两江中学高中\", new(){ Id = 1805, Code = \"5\", Name = \"两江中学（高中）\", FullName = \"重庆市两江中学校（高中）\" } },"}]
["高中","松树桥中学高中",{"$f":"VLOOKUP($B96,Sheet2!$A:$J,2,FALSE)","v":1803},{"$f":"VLOOKUP($B96,Sheet2!$A:$J,7,FALSE)","v":"3"},{"$f":"VLOOKUP($B96,Sheet2!$A:$J,4,FALSE)","v":"松树桥中学（高中）"},{"$f":"VLOOKUP($B96,Sheet2!$A:$J,5,FALSE)","v":"重庆市松树桥中学校（高中）"},{"$f":"\"{ \"\"\"&B96&\"\"\", new(){ Id = \"&C96&\", Code = \"\"\"&D96&\"\"\", Name = \"\"\"&E96&\"\"\", FullName = \"\"\"&F96&\"\"\" } },\"","v":"{ \"松树桥中学高中\", new(){ Id = 1803, Code = \"3\", Name = \"松树桥中学（高中）\", FullName = \"重庆市松树桥中学校（高中）\" } },"}]
["高中","育仁中学高中",{"$f":"VLOOKUP($B97,Sheet2!$A:$J,2,FALSE)","v":1807},{"$f":"VLOOKUP($B97,Sheet2!$A:$J,7,FALSE)","v":"7"},{"$f":"VLOOKUP($B97,Sheet2!$A:$J,4,FALSE)","v":"育仁中学（高中）"},{"$f":"VLOOKUP($B97,Sheet2!$A:$J,5,FALSE)","v":"重庆市育仁中学校（高中）"},{"$f":"\"{ \"\"\"&B97&\"\"\", new(){ Id = \"&C97&\", Code = \"\"\"&D97&\"\"\", Name = \"\"\"&E97&\"\"\", FullName = \"\"\"&F97&\"\"\" } },\"","v":"{ \"育仁中学高中\", new(){ Id = 1807, Code = \"7\", Name = \"育仁中学（高中）\", FullName = \"重庆市育仁中学校（高中）\" } },"}]
["高中","重庆市南华中学",{"$f":"VLOOKUP($B98,Sheet2!$A:$J,2,FALSE)","v":1804},{"$f":"VLOOKUP($B98,Sheet2!$A:$J,7,FALSE)","v":"4"},{"$f":"VLOOKUP($B98,Sheet2!$A:$J,4,FALSE)","v":"南华中学（高中）"},{"$f":"VLOOKUP($B98,Sheet2!$A:$J,5,FALSE)","v":"重庆市南华中学校（高中）"},{"$f":"\"{ \"\"\"&B98&\"\"\", new(){ Id = \"&C98&\", Code = \"\"\"&D98&\"\"\", Name = \"\"\"&E98&\"\"\", FullName = \"\"\"&F98&\"\"\" } },\"","v":"{ \"重庆市南华中学\", new(){ Id = 1804, Code = \"4\", Name = \"南华中学（高中）\", FullName = \"重庆市南华中学校（高中）\" } },"}]

{"sheet":"区测系统学校名称","index":1,"n_rows":119,"n_cols":9,"rows_kept":119,"cut":false,"hidden":false,"merged":[]}
["id",null,"name","full_name","short_name","code","unique_code","tqes_id","tqes_code"]
[1001,"小学","宝圣湖小学","重庆市渝北区宝圣湖小学校","宝圣湖小学","001","X001",16,"X016"]
[1002,"小学","东原香山实验小学","重庆市渝北东原香山实验小学校","东原小学","002","X002",112,"X028"]
[1003,"小学","金鹏小学","重庆市渝北区金鹏小学校","金鹏小学","003","X003",110,"X026"]
[1004,"小学","高嘴学校（小学）","重庆市渝北区高嘴学校（小学）","高嘴小学","004","X004",56,"X130"]
[1005,"小学","回兴小学","重庆市渝北区回兴中心小学校","回兴小学","005","X005",15,"X015"]
[1006,"小学","南方玫瑰城实验小学","重庆市渝北区南方玫瑰城实验小学校","玫瑰小学","006","X006",23,"X023"]
[1007,"小学","实验三小","重庆市渝北区第三实验小学校","实验三小","007","X007",8,"X008"]
[1008,"小学","双湖小学","重庆市渝北区双湖小学校","双湖小学","008","X008",10,"X010"]
[1009,"小学","锦华学校（小学）","重庆市渝北区锦华学校（小学）","锦华学校","009","X009",119,"X036"]
[1010,"小学","旭辉小学","重庆市渝北区旭辉小学校","旭辉小学","010","X010",118,"X034"]
[1011,"小学","龙塔实验学校（小学）","重庆市渝北区龙塔实验学校（小学）","龙塔实验","012","X012",13,"X013"]
[1012,"小学","龙头寺小学","重庆市渝北区龙头寺小学校","龙头寺小学","013","X013",129,"X149"]
[1013,"小学","鲁能巴蜀小学","重庆市渝北区鲁能巴蜀小学校","鲁能巴蜀小学","014","X014",137,"X157"]
[1014,"小学","龙溪小学","重庆市渝北区龙溪小学校","龙溪小学","015","X015",5,"X005"]
[1015,"小学","新牌坊小学","重庆市渝北区新牌坊小学校","牌坊小学","016","X016",9,"X009"]
[1016,"小学","长安锦绣实验小学","重庆市渝北区长安锦绣实验小学校","长安锦绣","017","X017",24,"X024"]
[1017,"小学","东和春天实验学校","重庆市渝北区东和春天实验学校","东和春天","018","X018",7,"X007"]
[1018,"小学","花园小学","重庆市渝北区花园小学校","花园小学","019","X019",12,"X012"]
[1019,"小学","龙山小学","重庆市渝北区龙山小学校","龙山小学","020","X020",25,"X025"]
[1020,"小学","石鞋学校（小学）","重庆市渝北区石鞋学校（小学）","石鞋小学","021","X021",41,"X115"]
[1021,"小学","渝开学校（小学）","重庆市渝北区渝开学校（小学）","渝开学校","022","X022",17,"X017"]
[1022,"小学","天一新城小学","重庆市渝北区天一新城小学校","天一小学","023","X023",18,"X018"]
[1023,"小学","仁睦完小","重庆市渝北区仁睦完全小学校","仁睦完小","025","X025",22,"X022"]
[1024,"小学","长安锦尚小学","重庆市渝北区长安锦尚小学校","长安锦尚","026","X026",124,"X035"]
[1025,"小学","环雅小学","重庆市渝北区环雅小学校","环雅小学","027","X027",125,"X146"]
[1026,"小学","观月小学","重庆市渝北区观月小学校","观月小学","028","X028",122,"X145"]
[1027,"小学","空港实验小学","重庆市渝北区空港实验小学校","空港小学","029","X029",2,"X002"]
[1028,"小学","两江小学","重庆市渝北区两江小学校","两江小学","030","X030",111,"X027"]
[1029,"小学","汉渝路小学","重庆市渝北区汉渝路小学校","汉渝小学","031","X031",3,"X003"]
[1030,"小学","金港国际小学","重庆市渝北金港国际实验小学校","金港小学","032","X032",6,"X006"]
[1031,"小学","渝北实验小学","重庆市渝北实验小学校","实验小学","033","X033",1,"X001"]
[1032,"小学","笃信实验学校","重庆市渝北区笃信实验学校","笃信学校","034","X034",20,"X020"]
[1033,"小学","王家学校（小学）","重庆市渝北区王家学校（小学）","王家学校（小学）","035","X035",26,"X029"]
[1034,"小学","古路学校（小学）","重庆市渝北区古路学校（小学）","古路小学","037","X037",38,"X112"]
[1035,"小学","鹿山小学","重庆市渝北区鹿山小学校","鹿山小学","038","X038",11,"X011"]
[1036,"小学","五星路小学","重庆市渝北区五星路小学校","五星小学","039","X039",4,"X004"]
[1037,"小学","渝北巴蜀小学","重庆市渝北巴蜀小学","巴蜀","040","X040",114,"X030"]
[1038,"小学","空港新城人和街小学","重庆市渝北区空港新城人和街小学","空港人和街","041","X041",116,"X032"]
[1039,"小学","空港新城小学","重庆市渝北区空港新城小学校","空港新城","042","X042",21,"X021"]
[1040,"小学","盛景天下小学","重庆市渝北区盛景天下小学","盛景小学","043","X043",115,"X031"]
[1041,"小学","中央公园小学","重庆市渝北区中央公园小学校","中央公园小学","044","X044",117,"X033"]
[1042,"小学","腾芳小学","重庆市渝北区腾芳小学校","腾芳小学","045","X045",126,"X147"]
[1043,"小学","数据谷小学","重庆市渝北区数据谷小学","数据谷小学","046","X046",127,"X148"]
[1044,"小学","空港佳园小学","重庆市渝北区空港佳园小学校","空港佳园小学","047","X047",123,"X037"]
[1045,"小学","同茂小学","重庆市渝北区同茂小学校","同茂小学","048","X048",130,"X150"]
[1046,"小学","和合家园小学","重庆市渝北区和合家园小学校","和合小学","050","X050",43,"X117"]
[1047,"小学","龙兴小学","重庆市渝北区龙兴中心小学校","龙兴小学","051","X051",35,"X109"]
[1048,"小学","大盛学校（小学）","重庆市渝北区大盛学校（小学）","大盛小学","052","X052",36,"X110"]
[1049,"小学","天堡寨小学","重庆市渝北区天堡寨小学校","天堡小学","053","X053",57,"X132"]
[1050,"小学","两江人民小学","重庆市渝北区两江人民小学","两江人民小学","054","X054",131,"X151"]
[1051,"小学","龙兴实验小学","重庆市渝北区龙兴实验小学","龙兴实验小学","055","X055",132,"X152"]
[1052,"小学","茨竹小学","重庆市渝北区茨竹中心小学校","茨竹小学","058","X058",28,"X102"]
[1053,"小学","华秦小学","重庆市渝北区华秦小学校","华秦小学","059","X059",44,"X118"]
[1054,"小学","华蓥山学校（小学）","重庆市渝北区华蓥山学校（小学）","华山学校","060","X060",30,"X104"]
[1055,"小学","大湾镇明德小学","重庆市渝北区大湾镇明德小学校","大湾小学","062","X062",37,"X111"]
[1056,"小学","洛碛小学","重庆市渝北区洛碛中心小学校","洛碛小学","063","X063",29,"X103"]
[1057,"小学","立人小学","重庆市渝北区立人小学校","立人小学","064","X064",19,"X019"]
[1058,"小学","木耳小学","重庆市渝北区木耳中心小学校","木耳小学","065","X065",31,"X105"]
[1059,"小学","石船小学","重庆市渝北区石船中心小学校","石船小学","066","X066",33,"X107"]
[1060,"小学","统景小学","重庆市渝北区统景中心小学校","统景小学","068","X068",34,"X108"]
[1061,"小学","兴隆小学","重庆市渝北区兴隆中心小学校","兴隆小学","069","X069",27,"X101"]
[1062,"小学","玉峰山小学","重庆市渝北区玉峰山中心小学校","玉峰小学","071","X071",32,"X106"]
[1063,"小学","悦来小学","重庆市渝北区悦来中心小学校","悦来小学","072","X072",14,"X014"]
[1064,"小学","首地人和街小学","重庆市渝北区首地人和街小学校","首地人和街小学","074","X074",133,"X153"]
[1065,"小学","悦城小学","重庆市渝北区悦城小学校","悦城小学","078","X078",134,"X154"]
[1066,"小学","金石小学","重庆市渝北区金石小学校","金石小学","092","X092",135,"X155"]
[1067,"小学","举人坝小学","重庆市渝北区举人坝小学校","举人坝小学","093","X093",136,"X156"]
[1068,"小学","巴蜀常春藤（小学）","重庆市巴蜀常春藤学校（小学）","巴蜀常春藤（小学）","094","X094",0]
[1069,"小学","启诚巴蜀小学","重庆市渝北区启诚巴蜀小学校","启诚巴蜀小学","095","X095",0]
[1070,"小学","哈罗礼德（小学）","重庆市渝北区哈罗礼德学校（小学）","哈罗礼德（小学）","096","X096",0]
[1071,"小学","云尚小学","重庆市渝北区云尚小学校","云尚小学","097","X097",0]
[1501,"初中","高嘴学校（初中）","重庆市渝北区高嘴学校（初中）","高嘴中学","104","C104",99,"C029"]
[1502,"初中","育仁中学（初中）","重庆市育仁中学校（初中）","育仁中学","105","C105",77,"C018"]
[1503,"初中","华蓥中学（初中）","重庆市华蓥中学校（初中）","华蓥中学","106","C106",76,"C016"]
[1504,"初中","实验中学","重庆市渝北区实验中学校","实验中学","108","C108",78,"C006"]
[1505,"初中","锦华学校（初中）","重庆市渝北区锦华学校（初中）","锦华中学","109","C109",86,"C014"]
[1506,"初中","渝汉中学","重庆市渝北区渝汉初级中学校","渝汉中学","110","C110",89,"C019"]
[1507,"初中","渝石中学","重庆市渝北区渝石初级中学校","渝石中学","111","C111",91,"C021"]
[1508,"初中","龙塔实验学校（初中）","重庆市渝北区龙塔实验学校（初中）","龙塔中学","112","C112",81,"C009"]
[1509,"初中","黄炎培中学","重庆市渝北区黄炎培初级中学校","黄炎中学","116","C116",82,"C010"]
[1510,"初中","悦来中学","重庆市渝北区悦来初级中学校","悦来中学","117","C117",84,"C012"]
[1511,"初中","实验二中","重庆市渝北区第二实验中学校","实验二中","118","C118",79,"C007"]
[1512,"初中","仁睦中学","重庆市渝北区仁睦初级中学校","仁睦中学","119","C119",88,"C015"]
[1513,"初中","石鞋学校（初中）","重庆市渝北区石鞋学校（初中）","石鞋中学","121","C121",113,"C033"]
[1514,"初中","松树桥中学（初中）","重庆市松树桥中学校（初中）","松树桥中学","123","C123",73,"C003"]
[1515,"初中","暨华中学（初中）","重庆市暨华中学校（初中）","暨华中学","124","C124",72,"C002"]
[1516,"初中","南华中学（初中）","重庆市南华中学校（初中）","南华中学","125","C125",74,"C004"]
[1517,"初中","渝北中学（初中）","重庆市渝北中学校（初中）","渝北中学","126","C126",71,"C001"]
[1518,"初中","两江中学（初中）","重庆市两江中学校（初中）","两江中学","128","C128",75,"C005"]
[1519,"初中","大湾中学","重庆市渝北区大湾初级中学校","大湾中学","129","C129",98,"C028"]
[1520,"初中","玉峰山中学","重庆市渝北区玉峰山初级中学校","玉峰山中学","134","C134",95,"C025"]
[1521,"初中","王家学校（初中）","重庆市渝北区王家学校（初中）","王家学校（初中）","135","C135",85,"C013"]
[1522,"初中","古路学校（初中）","重庆市渝北区古路学校（初中）","古路中学","137","C137",96,"C026"]
[1523,"初中","洛碛中学","重庆市渝北区洛碛初级中学校","洛碛中学","143","C143",92,"C022"]
[1524,"初中","御临中学","重庆市渝北区御临初级中学校","御临中学","148","C148",94,"C024"]
[1525,"初中","统景中学","重庆市渝北区统景初级中学校","统景中学","149","C149",93,"C023"]
[1526,"初中","大盛学校（初中）","重庆市渝北区大盛学校（初中）","大盛中学","152","C152",100,"C030"]
[1527,"初中","悦港中学","重庆市渝北区悦港初级中学校","悦港中学","155","C155",121,"C035"]
[1528,"初中","皇冠中学","重庆市渝北区皇冠中学校","皇冠中学","167","C167",144,"C043"]
[1529,"初中","南开两江（初中）","重庆市渝北区南开两江中学校（初中）","南开两江（初中）","172","C172",138,"C037"]
[1530,"初中","一中寄宿中学","重庆市渝北区一中寄宿学校","一中寄宿中学","174","C174",139,"C038"]
[1531,"初中","巴蜀常春藤（初中）","重庆市巴蜀常春藤学校（初中）","巴蜀常春藤","175","C175",140,"C039"]
[1532,"初中","空港实验中学","重庆市渝北区空港实验中学校","空港实验中学","176","C176",141,"C040"]
[1533,"初中","八中渝北龙兴中学","重庆市八中渝北龙兴中学校","八中渝北龙兴中学","187","C187",142,"C041"]
[1534,"初中","重庆八中（初中）","重庆市第八中学校（初中）","重庆八中","188","C188",143,"C042"]
[1535,"初中","数据谷中学","重庆市渝北区数据谷中学校","数据谷中学","189","C189",128,"C036"]
[1536,"初中","哈罗礼德（初中）","重庆市渝北区哈罗礼德学校（初中）","哈罗礼德（初中）","190","C190",0]
[1537,"初中","腾芳中学","重庆市渝北区腾芳学校（初中）","腾芳中学","191","C191",0]
[1801,"高中","渝北中学（高中）","重庆市渝北中学校（高中）","渝北中学","1","G01",103,"G001"]
[1802,"高中","暨华中学（高中）","重庆市暨华中学校（高中）","暨华中学","2","G02",104,"G002"]
[1803,"高中","松树桥中学（高中）","重庆市松树桥中学校（高中）","松树桥中学","3","G03",105,"G003"]
[1804,"高中","南华中学（高中）","重庆市南华中学校（高中）","南华中学","4","G04",106,"G004"]
[1805,"高中","两江中学（高中）","重庆市两江中学校（高中）","两江中学","5","G05",107,"G005"]
[1806,"高中","华蓥中学（高中）","重庆市华蓥中学校（高中）","华蓥中学","6","G06",108,"G006"]
[1807,"高中","育仁中学（高中）","重庆市育仁中学校（高中）","育仁中学","7","G07",109,"G007"]
[1808,"高中","重庆八中（高中）","重庆市第八中学校（高中）","重庆八中","8","G08",0]
[1809,"高中","巴蜀常春藤（高中）","重庆市巴蜀常春藤学校（高中）","巴蜀常春藤","9","G09",0]
[1810,"高中","南开两江（高中）","重庆市渝北区南开两江中学校（高中）","两江南开","10","G10",0]

{"sheet":"Sheet3","index":2,"n_rows":37,"n_cols":9,"rows_kept":37,"cut":false,"hidden":false,"merged":[]}
["高嘴学校",1501,"初中","高嘴学校（初中）","重庆市渝北区高嘴学校（初中）","104","C104",99,"C029"]
["重庆市育仁中学校",1502,"初中","育仁中学（初中）","重庆市育仁中学校（初中）","105","C105",77,"C018"]
["重庆市华蓥中学校",1503,"初中","华蓥中学（初中）","重庆市华蓥中学校（初中）","106","C106",76,"C016"]
["重庆市渝北区实验中学校",1504,"初中","实验中学","重庆市渝北区实验中学校","108","C108",78,"C006"]
["锦华学校初中",1505,"初中","锦华学校（初中）","重庆市渝北区锦华学校（初中）","109","C109",86,"C014"]
["渝汉中学",1506,"初中","渝汉中学","重庆市渝北区渝汉初级中学校","110","C110",89,"C019"]
["重庆市渝北区渝石初级中学校",1507,"初中","渝石中学","重庆市渝北区渝石初级中学校","111","C111",91,"C021"]
["龙塔学校",1508,"初中","龙塔实验学校（初中）","重庆市渝北区龙塔实验学校（初中）","112","C112",81,"C009"]
["黄炎中学",1509,"初中","黄炎培中学","重庆市渝北区黄炎培初级中学校","116","C116",82,"C010"]
["悦来中学",1510,"初中","悦来中学","重庆市渝北区悦来初级中学校","117","C117",84,"C012"]
["实验二中",1511,"初中","实验二中","重庆市渝北区第二实验中学校","118","C118",79,"C007"]
["仁睦中学",1512,"初中","仁睦中学","重庆市渝北区仁睦初级中学校","119","C119",88,"C015"]
["重庆市渝北区石鞋学校",1513,"初中","石鞋学校（初中）","重庆市渝北区石鞋学校（初中）","121","C121",113,"C033"]
["重庆市松树桥中学校",1514,"初中","松树桥中学（初中）","重庆市松树桥中学校（初中）","123","C123",73,"C003"]
["暨华中学高中",1515,"初中","暨华中学（初中）","重庆市暨华中学校（初中）","124","C124",72,"C002"]
["重庆市南华中学校",1516,"初中","南华中学（初中）","重庆市南华中学校（初中）","125","C125",74,"C004"]
["重庆市渝北中学校",1517,"初中","渝北中学（初中）","重庆市渝北中学校（初中）","126","C126",71,"C001"]
["两江中学",1518,"初中","两江中学（初中）","重庆市两江中学校（初中）","128","C128",75,"C005"]
["大湾中学",1519,"初中","大湾中学","重庆市渝北区大湾初级中学校","129","C129",98,"C028"]
["玉峰山中学",1520,"初中","玉峰山中学","重庆市渝北区玉峰山初级中学校","134","C134",95,"C025"]
["王家学校",1521,"初中","王家学校（初中）","重庆市渝北区王家学校（初中）","135","C135",85,"C013"]
["重庆市渝北区古路学校",1522,"初中","古路学校（初中）","重庆市渝北区古路学校（初中）","137","C137",96,"C026"]
["洛碛中学",1523,"初中","洛碛中学","重庆市渝北区洛碛初级中学校","143","C143",92,"C022"]
["重庆市渝北区御临初级中学校",1524,"初中","御临中学","重庆市渝北区御临初级中学校","148","C148",94,"C024"]
["统景中学",1525,"初中","统景中学","重庆市渝北区统景初级中学校","149","C149",93,"C023"]
["大盛中学",1526,"初中","大盛学校（初中）","重庆市渝北区大盛学校（初中）","152","C152",100,"C030"]
["悦港中学初中",1527,"初中","悦港中学","重庆市渝北区悦港初级中学校","155","C155",121,"C035"]
["皇冠中学",1528,"初中","皇冠中学","重庆市渝北区皇冠中学校","167","C167",144,"C043"]
["南开两江（初中）",1529,"初中","南开两江（初中）","重庆市渝北区南开两江中学校（初中）","172","C172",138,"C037"]
["一中寄宿中学",1530,"初中","一中寄宿中学","重庆市渝北区一中寄宿学校","174","C174",139,"C038"]
["巴蜀常春藤",1531,"初中","巴蜀常春藤（初中）","重庆市巴蜀常春藤学校（初中）","175","C175",140,"C039"]
["重庆市渝北区空港实验中学校",1532,"初中","空港实验中学","重庆市渝北区空港实验中学校","176","C176",141,"C040"]
["八中渝北龙兴中学",1533,"初中","八中渝北龙兴中学","重庆市八中渝北龙兴中学校","187","C187",142,"C041"]
["重庆八中",1534,"初中","重庆八中（初中）","重庆市第八中学校（初中）","188","C188",143,"C042"]
["数据谷中学",1535,"初中","数据谷中学","重庆市渝北区数据谷中学校","189","C189",128,"C036"]
["哈罗礼德（初中）",1536,"初中","哈罗礼德（初中）","重庆市渝北区哈罗礼德学校（初中）","190","C190",0]
["腾芳中学",1537,"初中","腾芳中学","重庆市渝北区腾芳学校（初中）","191","C191",0]

{"sheet":"Sheet1","index":3,"n_rows":71,"n_cols":10,"rows_kept":71,"cut":false,"hidden":false,"merged":[]}
["重庆市渝北区宝圣湖小学校",1001,"小学","宝圣湖小学","重庆市渝北区宝圣湖小学校","宝圣湖小学","001","X001",16,"X016"]
["重庆市渝北区东原香山实验小学校",1002,"小学","东原香山实验小学","重庆市渝北东原香山实验小学校","东原小学","002","X002",112,"X028"]
["重庆市渝北区金鹏实验小学校",1003,"小学","金鹏小学","重庆市渝北区金鹏小学校","金鹏小学","003","X003",110,"X026"]
["重庆市渝北区高嘴学校",1004,"小学","高嘴学校（小学）","重庆市渝北区高嘴学校（小学）","高嘴小学","004","X004",56,"X130"]
["重庆市渝北区回兴小学校",1005,"小学","回兴小学","重庆市渝北区回兴中心小学校","回兴小学","005","X005",15,"X015"]
["重庆市渝北区南方玫瑰城实验小学校",1006,"小学","南方玫瑰城实验小学","重庆市渝北区南方玫瑰城实验小学校","玫瑰小学","006","X006",23,"X023"]
["重庆市渝北区第三实验小学校",1007,"小学","实验三小","重庆市渝北区第三实验小学校","实验三小","007","X007",8,"X008"]
["重庆市渝北区双湖小学校",1008,"小学","双湖小学","重庆市渝北区双湖小学校","双湖小学","008","X008",10,"X010"]
["重庆市渝北区锦华学校",1009,"小学","锦华学校（小学）","重庆市渝北区锦华学校（小学）","锦华学校","009","X009",119,"X036"]
["重庆市渝北区旭辉小学校",1010,"小学","旭辉小学","重庆市渝北区旭辉小学校","旭辉小学","010","X010",118,"X034"]
["重庆市渝北区龙塔实验学校",1011,"小学","龙塔实验学校（小学）","重庆市渝北区龙塔实验学校（小学）","龙塔实验","012","X012",13,"X013"]
["重庆市渝北区龙头寺小学校",1012,"小学","龙头寺小学","重庆市渝北区龙头寺小学校","龙头寺小学","013","X013",129,"X149"]
["重庆市渝北区鲁能巴蜀小学校",1013,"小学","鲁能巴蜀小学","重庆市渝北区鲁能巴蜀小学校","鲁能巴蜀小学","014","X014",137,"X157"]
["重庆市渝北区龙溪小学校",1014,"小学","龙溪小学","重庆市渝北区龙溪小学校","龙溪小学","015","X015",5,"X005"]
["重庆市渝北区新牌坊小学校",1015,"小学","新牌坊小学","重庆市渝北区新牌坊小学校","牌坊小学","016","X016",9,"X009"]
["重庆市渝北区长安锦绣实验小学校",1016,"小学","长安锦绣实验小学","重庆市渝北区长安锦绣实验小学校","长安锦绣","017","X017",24,"X024"]
["重庆市渝北区东和春天实验学校",1017,"小学","东和春天实验学校","重庆市渝北区东和春天实验学校","东和春天","018","X018",7,"X007"]
["重庆市渝北区花园小学校",1018,"小学","花园小学","重庆市渝北区花园小学校","花园小学","019","X019",12,"X012"]
["重庆市渝北区龙山小学校",1019,"小学","龙山小学","重庆市渝北区龙山小学校","龙山小学","020","X020",25,"X025"]
["渝北区石鞋小学校",1020,"小学","石鞋学校（小学）","重庆市渝北区石鞋学校（小学）","石鞋小学","021","X021",41,"X115"]
["重庆市渝北区渝开学校",1021,"小学","渝开学校（小学）","重庆市渝北区渝开学校（小学）","渝开学校","022","X022",17,"X017"]
["重庆市渝北区天一新城小学校",1022,"小学","天一新城小学","重庆市渝北区天一新城小学校","天一小学","023","X023",18,"X018"]
["重庆市渝北区仁睦完全小学校",1023,"小学","仁睦完小","重庆市渝北区仁睦完全小学校","仁睦完小","025","X025",22,"X022"]
["重庆市渝北区长安锦尚小学校",1024,"小学","长安锦尚小学","重庆市渝北区长安锦尚小学校","长安锦尚","026","X026",124,"X035"]
["重庆市渝北区环雅小学校",1025,"小学","环雅小学","重庆市渝北区环雅小学校","环雅小学","027","X027",125,"X146"]
["重庆市渝北区观月小学校",1026,"小学","观月小学","重庆市渝北区观月小学校","观月小学","028","X028",122,"X145"]
["重庆市渝北区空港实验小学校",1027,"小学","空港实验小学","重庆市渝北区空港实验小学校","空港小学","029","X029",2,"X002"]
["重庆市渝北区两江小学校",1028,"小学","两江小学","重庆市渝北区两江小学校","两江小学","030","X030",111,"X027"]
["重庆市渝北区汉渝路小学校",1029,"小学","汉渝路小学","重庆市渝北区汉渝路小学校","汉渝小学","031","X031",3,"X003"]
["渝北区金港小学",1030,"小学","金港国际小学","重庆市渝北金港国际实验小学校","金港小学","032","X032",6,"X006"]
["渝北实验小学校",1031,"小学","渝北实验小学","重庆市渝北实验小学校","实验小学","033","X033",1,"X001"]
["重庆市渝北区笃信实验学校",1032,"小学","笃信实验学校","重庆市渝北区笃信实验学校","笃信学校","034","X034",20,"X020"]
["重庆市渝北区王家学校",1033,"小学","王家学校（小学）","重庆市渝北区王家学校（小学）","王家学校（小学）","035","X035",26,"X029"]
["渝北区古路中心小学校",1034,"小学","古路学校（小学）","重庆市渝北区古路学校（小学）","古路小学","037","X037",38,"X112"]
["重庆市渝北区鹿山小学校",1035,"小学","鹿山小学","重庆市渝北区鹿山小学校","鹿山小学","038","X038",11,"X011"]
["重庆市渝北区五星路小学校",1036,"小学","五星路小学","重庆市渝北区五星路小学校","五星小学","039","X039",4,"X004"]
["重庆市渝北巴蜀小学",1037,"小学","渝北巴蜀小学","重庆市渝北巴蜀小学校","巴蜀","040","X040",114,"X030"]
["重庆市渝北区空港新城人和街小学校",1038,"小学","空港新城人和街小学","重庆市渝北区空港新城人和街小学校","空港人和街","041","X041",116,"X032"]
["重庆市渝北区空港新城小学校",1039,"小学","空港新城小学","重庆市渝北区空港新城小学校","空港新城","042","X042",21,"X021"]
["重庆市渝北区盛景天下小学校",1040,"小学","盛景天下小学","重庆市渝北区盛景天下小学校","盛景小学","043","X043",115,"X031"]
["重庆市渝北区中央公园小学校",1041,"小学","中央公园小学","重庆市渝北区中央公园小学校","中央公园小学","044","X044",117,"X033"]
["重庆市渝北区腾芳小学校",1042,"小学","腾芳小学","重庆市渝北区腾芳小学校","腾芳小学","045","X045",126,"X147"]
["重庆市渝北区数据谷小学",1043,"小学","数据谷小学","重庆市渝北区数据谷小学校","数据谷小学","046","X046",127,"X148"]
["重庆市渝北区空港佳园小学校",1044,"小学","空港佳园小学","重庆市渝北区空港佳园小学校","空港佳园小学","047","X047",123,"X037"]
["重庆市渝北区同茂小学校",1045,"小学","同茂小学","重庆市渝北区同茂小学校","同茂小学","048","X048",130,"X150"]
["重庆市渝北区和合家园小学校",1046,"小学","和合家园小学","重庆市渝北区和合家园小学校","和合小学","050","X050",43,"X117"]
["重庆市渝北区龙兴中心小学校",1047,"小学","龙兴小学","重庆市渝北区龙兴中心小学校","龙兴小学","051","X051",35,"X109"]
["渝北区大盛中心小学校",1048,"小学","大盛学校（小学）","重庆市渝北区大盛学校（小学）","大盛小学","052","X052",36,"X110"]
["重庆市渝北区天堡寨小学校",1049,"小学","天堡寨小学","重庆市渝北区天堡寨小学校","天堡小学","053","X053",57,"X132"]
["重庆市渝北区两江人民小学",1050,"小学","两江人民小学","重庆市渝北区两江人民小学校","两江人民小学","054","X054",131,"X151"]
["重庆市渝北区龙兴实验小学校",1051,"小学","龙兴实验小学","重庆市渝北区龙兴实验小学校","龙兴实验小学","055","X055",132,"X152"]
["重庆市渝北区茨竹中心小学校",1052,"小学","茨竹小学","重庆市渝北区茨竹中心小学校","茨竹小学","058","X058",28,"X102"]
["重庆市渝北区华秦小学校",1053,"小学","华秦小学","重庆市渝北区华秦小学校","华秦小学","059","X059",44,"X118"]
["重庆市渝北区华蓥山学校",1054,"小学","华蓥山学校（小学）","重庆市渝北区华蓥山学校（小学）","华山学校","060","X060",30,"X104"]
["重庆市渝北区大湾镇明德小学",1055,"小学","大湾镇明德小学","重庆市渝北区大湾镇明德小学校","大湾小学","062","X062",37,"X111"]
["重庆市渝北区洛碛中心小学校",1056,"小学","洛碛小学","重庆市渝北区洛碛中心小学校","洛碛小学","063","X063",29,"X103"]
["重庆市渝北区立人小学校",1057,"小学","立人小学","重庆市渝北区立人小学校","立人小学","064","X064",19,"X019"]
["重庆市渝北区木耳中心小学校",1058,"小学","木耳小学","重庆市渝北区木耳中心小学校","木耳小学","065","X065",31,"X105"]
["重庆市渝北区石船中心小学校",1059,"小学","石船小学","重庆市渝北区石船中心小学校","石船小学","066","X066",33,"X107"]
["重庆市渝北区统景中心小学校",1060,"小学","统景小学","重庆市渝北区统景中心小学校","统景小学","068","X068",34,"X108"]
["重庆市渝北区兴隆中心小学校",1061,"小学","兴隆小学","重庆市渝北区兴隆中心小学校","兴隆小学","069","X069",27,"X101"]
["重庆市渝北区玉峰山小学校",1062,"小学","玉峰山小学","重庆市渝北区玉峰山中心小学校","玉峰小学","071","X071",32,"X106"]
["重庆市渝北区悦来中心小学校",1063,"小学","悦来小学","重庆市渝北区悦来中心小学校","悦来小学","072","X072",14,"X014"]
["重庆市渝北区首地人和街小学校",1064,"小学","首地人和街小学","重庆市渝北区首地人和街小学校","首地人和街小学","074","X074",133,"X153"]
["重庆市渝北区悦城小学校",1065,"小学","悦城小学","重庆市渝北区悦城小学校","悦城小学","078","X078",134,"X154"]
["重庆市渝北区金石小学校",1066,"小学","金石小学","重庆市渝北区金石小学校","金石小学","092","X092",135,"X155"]
["重庆市渝北区举人坝小学校",1067,"小学","举人坝小学","重庆市渝北区举人坝小学校","举人坝小学","093","X093",136,"X156"]
["重庆市巴蜀常春藤学校（小学）",1068,"小学","巴蜀常春藤（小学）","重庆市巴蜀常春藤学校（小学）","巴蜀常春藤（小学）","094","X094",0]
["重庆市渝北区启诚巴蜀小学校",1069,"小学","启诚巴蜀小学","重庆市渝北区启诚巴蜀小学校","启诚巴蜀小学","095","X095",0]
["重庆市渝北区哈罗礼德学校（小学）",1070,"小学","哈罗礼德（小学）","重庆市渝北区哈罗礼德学校（小学）","哈罗礼德（小学）","096","X096",0]
["重庆市渝北区云尚小学校",1071,"小学","云尚小学","重庆市渝北区云尚小学校","云尚小学","097","X097",0]

{"sheet":"Sheet2","index":4,"n_rows":10,"n_cols":10,"rows_kept":10,"cut":false,"hidden":false,"merged":[]}
[null,1801,"高中","渝北中学（高中）","重庆市渝北中学校（高中）","渝北中学","1","G01",103,"G001"]
["暨华中学高中",1802,"高中","暨华中学（高中）","重庆市暨华中学校（高中）","暨华中学","2","G02",104,"G002"]
["松树桥中学高中",1803,"高中","松树桥中学（高中）","重庆市松树桥中学校（高中）","松树桥中学","3","G03",105,"G003"]
["重庆市南华中学",1804,"高中","南华中学（高中）","重庆市南华中学校（高中）","南华中学","4","G04",106,"G004"]
["两江中学高中",1805,"高中","两江中学（高中）","重庆市两江中学校（高中）","两江中学","5","G05",107,"G005"]
["华蓥中学高中",1806,"高中","华蓥中学（高中）","重庆市华蓥中学校（高中）","华蓥中学","6","G06",108,"G006"]
["育仁中学高中",1807,"高中","育仁中学（高中）","重庆市育仁中学校（高中）","育仁中学","7","G07",109,"G007"]
[null,1808,"高中","重庆八中（高中）","重庆市第八中学校（高中）","重庆八中","8","G08",0]
[null,1809,"高中","巴蜀常春藤（高中）","重庆市巴蜀常春藤学校（高中）","巴蜀常春藤","9","G09",0]
[null,1810,"高中","南开两江（高中）","重庆市渝北区南开两江中学校（高中）","两江南开","10","G10",0]